Workbook

Sheet Sweep Setup
A1: Melbourne Cup Sweep Setup 2026
A2: Sweep name | B2: Melbourne Cup 2026 Office Sweep
A3: Race date | B3: 46329
A4: Entry fee | B4: 10
A5: Number of entries | B5: =COUNTA('Participants'!$B$2:$B$101)
A6: Total pool | B6: ='Sweep Setup'!$B$4*'Sweep Setup'!$B$5
A7: First prize % | B7: 0.5
A8: Second prize % | B8: 0.3
A9: Third prize % | B9: 0.2
A10: First prize | B10: ='Sweep Setup'!$B$6*'Sweep Setup'!$B$7
A11: Second prize | B11: ='Sweep Setup'!$B$6*'Sweep Setup'!$B$8
A12: Third prize | B12: ='Sweep Setup'!$B$6*'Sweep Setup'!$B$9
A13: Prize check | B13: =IF(SUM('Sweep Setup'!$B$10:$B$12)='Sweep Setup'!$B$6,"Balanced","Check percentages")
A15: Organiser | B15: Olivia Nguyen
A16: Location | B16: Melbourne, VIC

Sheet Participants
A1: Entry No. | B1: Participant Name | C1: City | D1: Email or Contact | E1: Paid? | F1: Payment Date | G1: Assigned Horse No. | H1: Horse Name | I1: Barrier | J1: Finish Position | K1: Result | L1: Prize Amount | M1: Notes | N1: Payment Status
A2: =IF('Participants'!$B2="","",COUNTA('Participants'!$B$2:$B2)) | B2: Jack Wilson | C2: Sydney | D2: jack.wilson@example.com | E2: Yes | F2: 46290 | G2: 1 | H2: =IF('Participants'!$G2="","",IFERROR(VLOOKUP('Participants'!$G2,'Horses'!$A$2:$D$101,2,FALSE),"Unassigned")) | I2: =IF('Participants'!$G2="","",IFERROR(VLOOKUP('Participants'!$G2,'Horses'!$A$2:$D$101,3,FALSE),"")) | J2: 7 | K2: =IF('Participants'!$J2="","",IF('Participants'!$J2=1,"Winner",IF('Participants'!$J2=2,"Second",IF('Participants'!$J2=3,"Third","No Prize")))) | L2: =IF('Participants'!$J2="","",IF('Participants'!$J2=1,'Sweep Setup'!$B$10,IF('Participants'!$J2=2,'Sweep Setup'!$B$11,IF('Participants'!$J2=3,'Sweep Setup'!$B$12,0)))) | M2: Assigned in draw | N2: =IF('Participants'!$E2="","",IF('Participants'!$E2="Yes","Paid","Outstanding"))
A3: =IF('Participants'!$B3="","",COUNTA('Participants'!$B$2:$B3)) | B3: Olivia Nguyen | C3: Melbourne | D3: olivia.nguyen@example.com | E3: Yes | F3: 46290 | G3: 2 | H3: =IF('Participants'!$G3="","",IFERROR(VLOOKUP('Participants'!$G3,'Horses'!$A$2:$D$101,2,FALSE),"Unassigned")) | I3: =IF('Participants'!$G3="","",IFERROR(VLOOKUP('Participants'!$G3,'Horses'!$A$2:$D$101,3,FALSE),"")) | J3: 1 | K3: =IF('Participants'!$J3="","",IF('Participants'!$J3=1,"Winner",IF('Participants'!$J3=2,"Second",IF('Participants'!$J3=3,"Third","No Prize")))) | L3: =IF('Participants'!$J3="","",IF('Participants'!$J3=1,'Sweep Setup'!$B$10,IF('Participants'!$J3=2,'Sweep Setup'!$B$11,IF('Participants'!$J3=3,'Sweep Setup'!$B$12,0)))) | M3: Organiser entry | N3: =IF('Participants'!$E3="","",IF('Participants'!$E3="Yes","Paid","Outstanding"))
A4: =IF('Participants'!$B4="","",COUNTA('Participants'!$B$2:$B4)) | B4: Liam Smith | C4: Brisbane | D4: liam.smith@example.com | E4: Yes | F4: 46291 | G4: 3 | H4: =IF('Participants'!$G4="","",IFERROR(VLOOKUP('Participants'!$G4,'Horses'!$A$2:$D$101,2,FALSE),"Unassigned")) | I4: =IF('Participants'!$G4="","",IFERROR(VLOOKUP('Participants'!$G4,'Horses'!$A$2:$D$101,3,FALSE),"")) | J4: 12 | K4: =IF('Participants'!$J4="","",IF('Participants'!$J4=1,"Winner",IF('Participants'!$J4=2,"Second",IF('Participants'!$J4=3,"Third","No Prize")))) | L4: =IF('Participants'!$J4="","",IF('Participants'!$J4=1,'Sweep Setup'!$B$10,IF('Participants'!$J4=2,'Sweep Setup'!$B$11,IF('Participants'!$J4=3,'Sweep Setup'!$B$12,0)))) | M4: Paid by bank transfer | N4: =IF('Participants'!$E4="","",IF('Participants'!$E4="Yes","Paid","Outstanding"))
A5: =IF('Participants'!$B5="","",COUNTA('Participants'!$B$2:$B5)) | B5: Charlotte Brown | C5: Perth | D5: charlotte.brown@example.com | E5: Yes | F5: 46291 | G5: 4 | H5: =IF('Participants'!$G5="","",IFERROR(VLOOKUP('Participants'!$G5,'Horses'!$A$2:$D$101,2,FALSE),"Unassigned")) | I5: =IF('Participants'!$G5="","",IFERROR(VLOOKUP('Participants'!$G5,'Horses'!$A$2:$D$101,3,FALSE),"")) | J5: 3 | K5: =IF('Participants'!$J5="","",IF('Participants'!$J5=1,"Winner",IF('Participants'!$J5=2,"Second",IF('Participants'!$J5=3,"Third","No Prize")))) | L5: =IF('Participants'!$J5="","",IF('Participants'!$J5=1,'Sweep Setup'!$B$10,IF('Participants'!$J5=2,'Sweep Setup'!$B$11,IF('Participants'!$J5=3,'Sweep Setup'!$B$12,0)))) | M5: Prize winner | N5: =IF('Participants'!$E5="","",IF('Participants'!$E5="Yes","Paid","Outstanding"))
A6: =IF('Participants'!$B6="","",COUNTA('Participants'!$B$2:$B6)) | B6: Noah Taylor | C6: Adelaide | D6: noah.taylor@example.com | E6: Yes | F6: 46292 | G6: 5 | H6: =IF('Participants'!$G6="","",IFERROR(VLOOKUP('Participants'!$G6,'Horses'!$A$2:$D$101,2,FALSE),"Unassigned")) | I6: =IF('Participants'!$G6="","",IFERROR(VLOOKUP('Participants'!$G6,'Horses'!$A$2:$D$101,3,FALSE),"")) | J6: 9 | K6: =IF('Participants'!$J6="","",IF('Participants'!$J6=1,"Winner",IF('Participants'!$J6=2,"Second",IF('Participants'!$J6=3,"Third","No Prize")))) | L6: =IF('Participants'!$J6="","",IF('Participants'!$J6=1,'Sweep Setup'!$B$10,IF('Participants'!$J6=2,'Sweep Setup'!$B$11,IF('Participants'!$J6=3,'Sweep Setup'!$B$12,0)))) | M6: Office entry | N6: =IF('Participants'!$E6="","",IF('Participants'!$E6="Yes","Paid","Outstanding"))
A7: =IF('Participants'!$B7="","",COUNTA('Participants'!$B$2:$B7)) | B7: Mia Johnson | C7: Gold Coast | D7: mia.johnson@example.com | E7: Yes | F7: 46292 | G7: 6 | H7: =IF('Participants'!$G7="","",IFERROR(VLOOKUP('Participants'!$G7,'Horses'!$A$2:$D$101,2,FALSE),"Unassigned")) | I7: =IF('Participants'!$G7="","",IFERROR(VLOOKUP('Participants'!$G7,'Horses'!$A$2:$D$101,3,FALSE),"")) | J7: 2 | K7: =IF('Participants'!$J7="","",IF('Participants'!$J7=1,"Winner",IF('Participants'!$J7=2,"Second",IF('Participants'!$J7=3,"Third","No Prize")))) | L7: =IF('Participants'!$J7="","",IF('Participants'!$J7=1,'Sweep Setup'!$B$10,IF('Participants'!$J7=2,'Sweep Setup'!$B$11,IF('Participants'!$J7=3,'Sweep Setup'!$B$12,0)))) | M7: Prize winner | N7: =IF('Participants'!$E7="","",IF('Participants'!$E7="Yes","Paid","Outstanding"))
A8: =IF('Participants'!$B8="","",COUNTA('Participants'!$B$2:$B8)) | B8: Ethan Williams | C8: Newcastle | D8: ethan.williams@example.com | E8: Yes | F8: 46293 | G8: 7 | H8: =IF('Participants'!$G8="","",IFERROR(VLOOKUP('Participants'!$G8,'Horses'!$A$2:$D$101,2,FALSE),"Unassigned")) | I8: =IF('Participants'!$G8="","",IFERROR(VLOOKUP('Participants'!$G8,'Horses'!$A$2:$D$101,3,FALSE),"")) | J8: 15 | K8: =IF('Participants'!$J8="","",IF('Participants'!$J8=1,"Winner",IF('Participants'!$J8=2,"Second",IF('Participants'!$J8=3,"Third","No Prize")))) | L8: =IF('Participants'!$J8="","",IF('Participants'!$J8=1,'Sweep Setup'!$B$10,IF('Participants'!$J8=2,'Sweep Setup'!$B$11,IF('Participants'!$J8=3,'Sweep Setup'!$B$12,0)))) | M8: Paid by cash | N8: =IF('Participants'!$E8="","",IF('Participants'!$E8="Yes","Paid","Outstanding"))
A9: =IF('Participants'!$B9="","",COUNTA('Participants'!$B$2:$B9)) | B9: Ruby Martin | C9: Canberra | D9: ruby.martin@example.com | E9: Yes | F9: 46293 | G9: 8 | H9: =IF('Participants'!$G9="","",IFERROR(VLOOKUP('Participants'!$G9,'Horses'!$A$2:$D$101,2,FALSE),"Unassigned")) | I9: =IF('Participants'!$G9="","",IFERROR(VLOOKUP('Participants'!$G9,'Horses'!$A$2:$D$101,3,FALSE),"")) | J9: Did Not Finish | K9: =IF('Participants'!$J9="","",IF('Participants'!$J9=1,"Winner",IF('Participants'!$J9=2,"Second",IF('Participants'!$J9=3,"Third","No Prize")))) | L9: =IF('Participants'!$J9="","",IF('Participants'!$J9=1,'Sweep Setup'!$B$10,IF('Participants'!$J9=2,'Sweep Setup'!$B$11,IF('Participants'!$J9=3,'Sweep Setup'!$B$12,0)))) | M9: Runner did not finish | N9: =IF('Participants'!$E9="","",IF('Participants'!$E9="Yes","Paid","Outstanding"))
A10: =IF('Participants'!$B10="","",COUNTA('Participants'!$B$2:$B10)) | B10: Cooper Anderson | C10: Hobart | D10: cooper.anderson@example.com | E10: Yes | F10: 46294 | G10: 9 | H10: =IF('Participants'!$G10="","",IFERROR(VLOOKUP('Participants'!$G10,'Horses'!$A$2:$D$101,2,FALSE),"Unassigned")) | I10: =IF('Participants'!$G10="","",IFERROR(VLOOKUP('Participants'!$G10,'Horses'!$A$2:$D$101,3,FALSE),"")) | J10: 5 | K10: =IF('Participants'!$J10="","",IF('Participants'!$J10=1,"Winner",IF('Participants'!$J10=2,"Second",IF('Participants'!$J10=3,"Third","No Prize")))) | L10: =IF('Participants'!$J10="","",IF('Participants'!$J10=1,'Sweep Setup'!$B$10,IF('Participants'!$J10=2,'Sweep Setup'!$B$11,IF('Participants'!$J10=3,'Sweep Setup'!$B$12,0)))) | M10: Social club entry | N10: =IF('Participants'!$E10="","",IF('Participants'!$E10="Yes","Paid","Outstanding"))
A11: =IF('Participants'!$B11="","",COUNTA('Participants'!$B$2:$B11)) | B11: Isla Thompson | C11: Wollongong | D11: isla.thompson@example.com | E11: Yes | F11: 46294 | G11: 10 | H11: =IF('Participants'!$G11="","",IFERROR(VLOOKUP('Participants'!$G11,'Horses'!$A$2:$D$101,2,FALSE),"Unassigned")) | I11: =IF('Participants'!$G11="","",IFERROR(VLOOKUP('Participants'!$G11,'Horses'!$A$2:$D$101,3,FALSE),"")) | J11: 10 | K11: =IF('Participants'!$J11="","",IF('Participants'!$J11=1,"Winner",IF('Participants'!$J11=2,"Second",IF('Participants'!$J11=3,"Third","No Prize")))) | L11: =IF('Participants'!$J11="","",IF('Participants'!$J11=1,'Sweep Setup'!$B$10,IF('Participants'!$J11=2,'Sweep Setup'!$B$11,IF('Participants'!$J11=3,'Sweep Setup'!$B$12,0)))) | M11: Paid by card | N11: =IF('Participants'!$E11="","",IF('Participants'!$E11="Yes","Paid","Outstanding"))
A12: =IF('Participants'!$B12="","",COUNTA('Participants'!$B$2:$B12)) | H12: =IF('Participants'!$G12="","",IFERROR(VLOOKUP('Participants'!$G12,'Horses'!$A$2:$D$101,2,FALSE),"Unassigned")) | I12: =IF('Participants'!$G12="","",IFERROR(VLOOKUP('Participants'!$G12,'Horses'!$A$2:$D$101,3,FALSE),"")) | K12: =IF('Participants'!$J12="","",IF('Participants'!$J12=1,"Winner",IF('Participants'!$J12=2,"Second",IF('Participants'!$J12=3,"Third","No Prize")))) | L12: =IF('Participants'!$J12="","",IF('Participants'!$J12=1,'Sweep Setup'!$B$10,IF('Participants'!$J12=2,'Sweep Setup'!$B$11,IF('Participants'!$J12=3,'Sweep Setup'!$B$12,0)))) | N12: =IF('Participants'!$E12="","",IF('Participants'!$E12="Yes","Paid","Outstanding"))
A13: =IF('Participants'!$B13="","",COUNTA('Participants'!$B$2:$B13)) | H13: =IF('Participants'!$G13="","",IFERROR(VLOOKUP('Participants'!$G13,'Horses'!$A$2:$D$101,2,FALSE),"Unassigned")) | I13: =IF('Participants'!$G13="","",IFERROR(VLOOKUP('Participants'!$G13,'Horses'!$A$2:$D$101,3,FALSE),"")) | K13: =IF('Participants'!$J13="","",IF('Participants'!$J13=1,"Winner",IF('Participants'!$J13=2,"Second",IF('Participants'!$J13=3,"Third","No Prize")))) | L13: =IF('Participants'!$J13="","",IF('Participants'!$J13=1,'Sweep Setup'!$B$10,IF('Participants'!$J13=2,'Sweep Setup'!$B$11,IF('Participants'!$J13=3,'Sweep Setup'!$B$12,0)))) | N13: =IF('Participants'!$E13="","",IF('Participants'!$E13="Yes","Paid","Outstanding"))
A14: =IF('Participants'!$B14="","",COUNTA('Participants'!$B$2:$B14)) | H14: =IF('Participants'!$G14="","",IFERROR(VLOOKUP('Participants'!$G14,'Horses'!$A$2:$D$101,2,FALSE),"Unassigned")) | I14: =IF('Participants'!$G14="","",IFERROR(VLOOKUP('Participants'!$G14,'Horses'!$A$2:$D$101,3,FALSE),"")) | K14: =IF('Participants'!$J14="","",IF('Participants'!$J14=1,"Winner",IF('Participants'!$J14=2,"Second",IF('Participants'!$J14=3,"Third","No Prize")))) | L14: =IF('Participants'!$J14="","",IF('Participants'!$J14=1,'Sweep Setup'!$B$10,IF('Participants'!$J14=2,'Sweep Setup'!$B$11,IF('Participants'!$J14=3,'Sweep Setup'!$B$12,0)))) | N14: =IF('Participants'!$E14="","",IF('Participants'!$E14="Yes","Paid","Outstanding"))
A15: =IF('Participants'!$B15="","",COUNTA('Participants'!$B$2:$B15)) | H15: =IF('Participants'!$G15="","",IFERROR(VLOOKUP('Participants'!$G15,'Horses'!$A$2:$D$101,2,FALSE),"Unassigned")) | I15: =IF('Participants'!$G15="","",IFERROR(VLOOKUP('Participants'!$G15,'Horses'!$A$2:$D$101,3,FALSE),"")) | K15: =IF('Participants'!$J15="","",IF('Participants'!$J15=1,"Winner",IF('Participants'!$J15=2,"Second",IF('Participants'!$J15=3,"Third","No Prize")))) | L15: =IF('Participants'!$J15="","",IF('Participants'!$J15=1,'Sweep Setup'!$B$10,IF('Participants'!$J15=2,'Sweep Setup'!$B$11,IF('Participants'!$J15=3,'Sweep Setup'!$B$12,0)))) | N15: =IF('Participants'!$E15="","",IF('Participants'!$E15="Yes","Paid","Outstanding"))
A16: =IF('Participants'!$B16="","",COUNTA('Participants'!$B$2:$B16)) | H16: =IF('Participants'!$G16="","",IFERROR(VLOOKUP('Participants'!$G16,'Horses'!$A$2:$D$101,2,FALSE),"Unassigned")) | I16: =IF('Participants'!$G16="","",IFERROR(VLOOKUP('Participants'!$G16,'Horses'!$A$2:$D$101,3,FALSE),"")) | K16: =IF('Participants'!$J16="","",IF('Participants'!$J16=1,"Winner",IF('Participants'!$J16=2,"Second",IF('Participants'!$J16=3,"Third","No Prize")))) | L16: =IF('Participants'!$J16="","",IF('Participants'!$J16=1,'Sweep Setup'!$B$10,IF('Participants'!$J16=2,'Sweep Setup'!$B$11,IF('Participants'!$J16=3,'Sweep Setup'!$B$12,0)))) | N16: =IF('Participants'!$E16="","",IF('Participants'!$E16="Yes","Paid","Outstanding"))
A17: =IF('Participants'!$B17="","",COUNTA('Participants'!$B$2:$B17)) | H17: =IF('Participants'!$G17="","",IFERROR(VLOOKUP('Participants'!$G17,'Horses'!$A$2:$D$101,2,FALSE),"Unassigned")) | I17: =IF('Participants'!$G17="","",IFERROR(VLOOKUP('Participants'!$G17,'Horses'!$A$2:$D$101,3,FALSE),"")) | K17: =IF('Participants'!$J17="","",IF('Participants'!$J17=1,"Winner",IF('Participants'!$J17=2,"Second",IF('Participants'!$J17=3,"Third","No Prize")))) | L17: =IF('Participants'!$J17="","",IF('Participants'!$J17=1,'Sweep Setup'!$B$10,IF('Participants'!$J17=2,'Sweep Setup'!$B$11,IF('Participants'!$J17=3,'Sweep Setup'!$B$12,0)))) | N17: =IF('Participants'!$E17="","",IF('Participants'!$E17="Yes","Paid","Outstanding"))
A18: =IF('Participants'!$B18="","",COUNTA('Participants'!$B$2:$B18)) | H18: =IF('Participants'!$G18="","",IFERROR(VLOOKUP('Participants'!$G18,'Horses'!$A$2:$D$101,2,FALSE),"Unassigned")) | I18: =IF('Participants'!$G18="","",IFERROR(VLOOKUP('Participants'!$G18,'Horses'!$A$2:$D$101,3,FALSE),"")) | K18: =IF('Participants'!$J18="","",IF('Participants'!$J18=1,"Winner",IF('Participants'!$J18=2,"Second",IF('Participants'!$J18=3,"Third","No Prize")))) | L18: =IF('Participants'!$J18="","",IF('Participants'!$J18=1,'Sweep Setup'!$B$10,IF('Participants'!$J18=2,'Sweep Setup'!$B$11,IF('Participants'!$J18=3,'Sweep Setup'!$B$12,0)))) | N18: =IF('Participants'!$E18="","",IF('Participants'!$E18="Yes","Paid","Outstanding"))
A19: =IF('Participants'!$B19="","",COUNTA('Participants'!$B$2:$B19)) | H19: =IF('Participants'!$G19="","",IFERROR(VLOOKUP('Participants'!$G19,'Horses'!$A$2:$D$101,2,FALSE),"Unassigned")) | I19: =IF('Participants'!$G19="","",IFERROR(VLOOKUP('Participants'!$G19,'Horses'!$A$2:$D$101,3,FALSE),"")) | K19: =IF('Participants'!$J19="","",IF('Participants'!$J19=1,"Winner",IF('Participants'!$J19=2,"Second",IF('Participants'!$J19=3,"Third","No Prize")))) | L19: =IF('Participants'!$J19="","",IF('Participants'!$J19=1,'Sweep Setup'!$B$10,IF('Participants'!$J19=2,'Sweep Setup'!$B$11,IF('Participants'!$J19=3,'Sweep Setup'!$B$12,0)))) | N19: =IF('Participants'!$E19="","",IF('Participants'!$E19="Yes","Paid","Outstanding"))
A20: =IF('Participants'!$B20="","",COUNTA('Participants'!$B$2:$B20)) | H20: =IF('Participants'!$G20="","",IFERROR(VLOOKUP('Participants'!$G20,'Horses'!$A$2:$D$101,2,FALSE),"Unassigned")) | I20: =IF('Participants'!$G20="","",IFERROR(VLOOKUP('Participants'!$G20,'Horses'!$A$2:$D$101,3,FALSE),"")) | K20: =IF('Participants'!$J20="","",IF('Participants'!$J20=1,"Winner",IF('Participants'!$J20=2,"Second",IF('Participants'!$J20=3,"Third","No Prize")))) | L20: =IF('Participants'!$J20="","",IF('Participants'!$J20=1,'Sweep Setup'!$B$10,IF('Participants'!$J20=2,'Sweep Setup'!$B$11,IF('Participants'!$J20=3,'Sweep Setup'!$B$12,0)))) | N20: =IF('Participants'!$E20="","",IF('Participants'!$E20="Yes","Paid","Outstanding"))
A21: =IF('Participants'!$B21="","",COUNTA('Participants'!$B$2:$B21)) | H21: =IF('Participants'!$G21="","",IFERROR(VLOOKUP('Participants'!$G21,'Horses'!$A$2:$D$101,2,FALSE),"Unassigned")) | I21: =IF('Participants'!$G21="","",IFERROR(VLOOKUP('Participants'!$G21,'Horses'!$A$2:$D$101,3,FALSE),"")) | K21: =IF('Participants'!$J21="","",IF('Participants'!$J21=1,"Winner",IF('Participants'!$J21=2,"Second",IF('Participants'!$J21=3,"Third","No Prize")))) | L21: =IF('Participants'!$J21="","",IF('Participants'!$J21=1,'Sweep Setup'!$B$10,IF('Participants'!$J21=2,'Sweep Setup'!$B$11,IF('Participants'!$J21=3,'Sweep Setup'!$B$12,0)))) | N21: =IF('Participants'!$E21="","",IF('Participants'!$E21="Yes","Paid","Outstanding"))
A22: =IF('Participants'!$B22="","",COUNTA('Participants'!$B$2:$B22)) | H22: =IF('Participants'!$G22="","",IFERROR(VLOOKUP('Participants'!$G22,'Horses'!$A$2:$D$101,2,FALSE),"Unassigned")) | I22: =IF('Participants'!$G22="","",IFERROR(VLOOKUP('Participants'!$G22,'Horses'!$A$2:$D$101,3,FALSE),"")) | K22: =IF('Participants'!$J22="","",IF('Participants'!$J22=1,"Winner",IF('Participants'!$J22=2,"Second",IF('Participants'!$J22=3,"Third","No Prize")))) | L22: =IF('Participants'!$J22="","",IF('Participants'!$J22=1,'Sweep Setup'!$B$10,IF('Participants'!$J22=2,'Sweep Setup'!$B$11,IF('Participants'!$J22=3,'Sweep Setup'!$B$12,0)))) | N22: =IF('Participants'!$E22="","",IF('Participants'!$E22="Yes","Paid","Outstanding"))
A23: =IF('Participants'!$B23="","",COUNTA('Participants'!$B$2:$B23)) | H23: =IF('Participants'!$G23="","",IFERROR(VLOOKUP('Participants'!$G23,'Horses'!$A$2:$D$101,2,FALSE),"Unassigned")) | I23: =IF('Participants'!$G23="","",IFERROR(VLOOKUP('Participants'!$G23,'Horses'!$A$2:$D$101,3,FALSE),"")) | K23: =IF('Participants'!$J23="","",IF('Participants'!$J23=1,"Winner",IF('Participants'!$J23=2,"Second",IF('Participants'!$J23=3,"Third","No Prize")))) | L23: =IF('Participants'!$J23="","",IF('Participants'!$J23=1,'Sweep Setup'!$B$10,IF('Participants'!$J23=2,'Sweep Setup'!$B$11,IF('Participants'!$J23=3,'Sweep Setup'!$B$12,0)))) | N23: =IF('Participants'!$E23="","",IF('Participants'!$E23="Yes","Paid","Outstanding"))
... A101: =IF('Participants'!$B101="","",COUNTA('Participants'!$B$2:$B101)) | H101: =IF('Participants'!$G101="","",IFERROR(VLOOKUP('Participants'!$G101,'Horses'!$A$2:$D$101,2,FALSE),"Unassigned")) | I101: =IF('Participants'!$G101="","",IFERROR(VLOOKUP('Participants'!$G101,'Horses'!$A$2:$D$101,3,FALSE),"")) | K101: =IF('Participants'!$J101="","",IF('Participants'!$J101=1,"Winner",IF('Participants'!$J101=2,"Second",IF('Participants'!$J101=3,"Third","No Prize")))) | L101: =IF('Participants'!$J101="","",IF('Participants'!$J101=1,'Sweep Setup'!$B$10,IF('Participants'!$J101=2,'Sweep Setup'!$B$11,IF('Participants'!$J101=3,'Sweep Setup'!$B$12,0)))) | N101: =IF('Participants'!$E101="","",IF('Participants'!$E101="Yes","Paid","Outstanding"))

Sheet Horses
A1: Horse No. | B1: Horse Name | C1: Barrier | D1: Status | E1: Assigned Participant | F1: Assigned?
A2: 1 | B2: Horse 1 – Confirmed Runner | C2: 4 | D2: Confirmed | E2: =IF('Horses'!$A2="","",IFERROR(INDEX('Participants'!$B$2:$B$101,MATCH('Horses'!$A2,'Participants'!$G$2:$G$101,0)),"Unassigned")) | F2: =IF('Horses'!$A2="","",IF(COUNTIF('Participants'!$G$2:$G$101,'Horses'!$A2)>0,"Yes","No"))
A3: 2 | B3: Horse 2 – Confirmed Runner | C3: 12 | D3: Confirmed | E3: =IF('Horses'!$A3="","",IFERROR(INDEX('Participants'!$B$2:$B$101,MATCH('Horses'!$A3,'Participants'!$G$2:$G$101,0)),"Unassigned")) | F3: =IF('Horses'!$A3="","",IF(COUNTIF('Participants'!$G$2:$G$101,'Horses'!$A3)>0,"Yes","No"))
A4: 3 | B4: Horse 3 – Confirmed Runner | C4: 7 | D4: Confirmed | E4: =IF('Horses'!$A4="","",IFERROR(INDEX('Participants'!$B$2:$B$101,MATCH('Horses'!$A4,'Participants'!$G$2:$G$101,0)),"Unassigned")) | F4: =IF('Horses'!$A4="","",IF(COUNTIF('Participants'!$G$2:$G$101,'Horses'!$A4)>0,"Yes","No"))
A5: 4 | B5: Horse 4 – Confirmed Runner | C5: 18 | D5: Confirmed | E5: =IF('Horses'!$A5="","",IFERROR(INDEX('Participants'!$B$2:$B$101,MATCH('Horses'!$A5,'Participants'!$G$2:$G$101,0)),"Unassigned")) | F5: =IF('Horses'!$A5="","",IF(COUNTIF('Participants'!$G$2:$G$101,'Horses'!$A5)>0,"Yes","No"))
A6: 5 | B6: Horse 5 – Confirmed Runner | C6: 2 | D6: Confirmed | E6: =IF('Horses'!$A6="","",IFERROR(INDEX('Participants'!$B$2:$B$101,MATCH('Horses'!$A6,'Participants'!$G$2:$G$101,0)),"Unassigned")) | F6: =IF('Horses'!$A6="","",IF(COUNTIF('Participants'!$G$2:$G$101,'Horses'!$A6)>0,"Yes","No"))
A7: 6 | B7: Horse 6 – Confirmed Runner | C7: 15 | D7: Confirmed | E7: =IF('Horses'!$A7="","",IFERROR(INDEX('Participants'!$B$2:$B$101,MATCH('Horses'!$A7,'Participants'!$G$2:$G$101,0)),"Unassigned")) | F7: =IF('Horses'!$A7="","",IF(COUNTIF('Participants'!$G$2:$G$101,'Horses'!$A7)>0,"Yes","No"))
A8: 7 | B8: Horse 7 – Confirmed Runner | C8: 9 | D8: Confirmed | E8: =IF('Horses'!$A8="","",IFERROR(INDEX('Participants'!$B$2:$B$101,MATCH('Horses'!$A8,'Participants'!$G$2:$G$101,0)),"Unassigned")) | F8: =IF('Horses'!$A8="","",IF(COUNTIF('Participants'!$G$2:$G$101,'Horses'!$A8)>0,"Yes","No"))
A9: 8 | B9: Horse 8 – Confirmed Runner | C9: 21 | D9: Confirmed | E9: =IF('Horses'!$A9="","",IFERROR(INDEX('Participants'!$B$2:$B$101,MATCH('Horses'!$A9,'Participants'!$G$2:$G$101,0)),"Unassigned")) | F9: =IF('Horses'!$A9="","",IF(COUNTIF('Participants'!$G$2:$G$101,'Horses'!$A9)>0,"Yes","No"))
A10: 9 | B10: Horse 9 – Confirmed Runner | C10: 5 | D10: Confirmed | E10: =IF('Horses'!$A10="","",IFERROR(INDEX('Participants'!$B$2:$B$101,MATCH('Horses'!$A10,'Participants'!$G$2:$G$101,0)),"Unassigned")) | F10: =IF('Horses'!$A10="","",IF(COUNTIF('Participants'!$G$2:$G$101,'Horses'!$A10)>0,"Yes","No"))
A11: 10 | B11: Horse 10 – Confirmed Runner | C11: 14 | D11: Confirmed | E11: =IF('Horses'!$A11="","",IFERROR(INDEX('Participants'!$B$2:$B$101,MATCH('Horses'!$A11,'Participants'!$G$2:$G$101,0)),"Unassigned")) | F11: =IF('Horses'!$A11="","",IF(COUNTIF('Participants'!$G$2:$G$101,'Horses'!$A11)>0,"Yes","No"))
A12: 11 | B12: Horse 11 – Field Placeholder | C12: 1 | D12: Confirmed | E12: =IF('Horses'!$A12="","",IFERROR(INDEX('Participants'!$B$2:$B$101,MATCH('Horses'!$A12,'Participants'!$G$2:$G$101,0)),"Unassigned")) | F12: =IF('Horses'!$A12="","",IF(COUNTIF('Participants'!$G$2:$G$101,'Horses'!$A12)>0,"Yes","No"))
A13: 12 | B13: Horse 12 – Field Placeholder | C13: 3 | D13: Confirmed | E13: =IF('Horses'!$A13="","",IFERROR(INDEX('Participants'!$B$2:$B$101,MATCH('Horses'!$A13,'Participants'!$G$2:$G$101,0)),"Unassigned")) | F13: =IF('Horses'!$A13="","",IF(COUNTIF('Participants'!$G$2:$G$101,'Horses'!$A13)>0,"Yes","No"))
... A25: 24 | B25: Horse 24 – Field Placeholder | C25: 24 | D25: Scratched | E25: =IF('Horses'!$A25="","",IFERROR(INDEX('Participants'!$B$2:$B$101,MATCH('Horses'!$A25,'Participants'!$G$2:$G$101,0)),"Unassigned")) | F25: =IF('Horses'!$A25="","",IF(COUNTIF('Participants'!$G$2:$G$101,'Horses'!$A25)>0,"Yes","No"))
E26: =IF('Horses'!$A26="","",IFERROR(INDEX('Participants'!$B$2:$B$101,MATCH('Horses'!$A26,'Participants'!$G$2:$G$101,0)),"Unassigned")) | F26: =IF('Horses'!$A26="","",IF(COUNTIF('Participants'!$G$2:$G$101,'Horses'!$A26)>0,"Yes","No"))
E27: =IF('Horses'!$A27="","",IFERROR(INDEX('Participants'!$B$2:$B$101,MATCH('Horses'!$A27,'Participants'!$G$2:$G$101,0)),"Unassigned")) | F27: =IF('Horses'!$A27="","",IF(COUNTIF('Participants'!$G$2:$G$101,'Horses'!$A27)>0,"Yes","No"))
E28: =IF('Horses'!$A28="","",IFERROR(INDEX('Participants'!$B$2:$B$101,MATCH('Horses'!$A28,'Participants'!$G$2:$G$101,0)),"Unassigned")) | F28: =IF('Horses'!$A28="","",IF(COUNTIF('Participants'!$G$2:$G$101,'Horses'!$A28)>0,"Yes","No"))
E29: =IF('Horses'!$A29="","",IFERROR(INDEX('Participants'!$B$2:$B$101,MATCH('Horses'!$A29,'Participants'!$G$2:$G$101,0)),"Unassigned")) | F29: =IF('Horses'!$A29="","",IF(COUNTIF('Participants'!$G$2:$G$101,'Horses'!$A29)>0,"Yes","No"))
E30: =IF('Horses'!$A30="","",IFERROR(INDEX('Participants'!$B$2:$B$101,MATCH('Horses'!$A30,'Participants'!$G$2:$G$101,0)),"Unassigned")) | F30: =IF('Horses'!$A30="","",IF(COUNTIF('Participants'!$G$2:$G$101,'Horses'!$A30)>0,"Yes","No"))
E31: =IF('Horses'!$A31="","",IFERROR(INDEX('Participants'!$B$2:$B$101,MATCH('Horses'!$A31,'Participants'!$G$2:$G$101,0)),"Unassigned")) | F31: =IF('Horses'!$A31="","",IF(COUNTIF('Participants'!$G$2:$G$101,'Horses'!$A31)>0,"Yes","No"))
E32: =IF('Horses'!$A32="","",IFERROR(INDEX('Participants'!$B$2:$B$101,MATCH('Horses'!$A32,'Participants'!$G$2:$G$101,0)),"Unassigned")) | F32: =IF('Horses'!$A32="","",IF(COUNTIF('Participants'!$G$2:$G$101,'Horses'!$A32)>0,"Yes","No"))
E33: =IF('Horses'!$A33="","",IFERROR(INDEX('Participants'!$B$2:$B$101,MATCH('Horses'!$A33,'Participants'!$G$2:$G$101,0)),"Unassigned")) | F33: =IF('Horses'!$A33="","",IF(COUNTIF('Participants'!$G$2:$G$101,'Horses'!$A33)>0,"Yes","No"))
E34: =IF('Horses'!$A34="","",IFERROR(INDEX('Participants'!$B$2:$B$101,MATCH('Horses'!$A34,'Participants'!$G$2:$G$101,0)),"Unassigned")) | F34: =IF('Horses'!$A34="","",IF(COUNTIF('Participants'!$G$2:$G$101,'Horses'!$A34)>0,"Yes","No"))
E35: =IF('Horses'!$A35="","",IFERROR(INDEX('Participants'!$B$2:$B$101,MATCH('Horses'!$A35,'Participants'!$G$2:$G$101,0)),"Unassigned")) | F35: =IF('Horses'!$A35="","",IF(COUNTIF('Participants'!$G$2:$G$101,'Horses'!$A35)>0,"Yes","No"))
E36: =IF('Horses'!$A36="","",IFERROR(INDEX('Participants'!$B$2:$B$101,MATCH('Horses'!$A36,'Participants'!$G$2:$G$101,0)),"Unassigned")) | F36: =IF('Horses'!$A36="","",IF(COUNTIF('Participants'!$G$2:$G$101,'Horses'!$A36)>0,"Yes","No"))
E37: =IF('Horses'!$A37="","",IFERROR(INDEX('Participants'!$B$2:$B$101,MATCH('Horses'!$A37,'Participants'!$G$2:$G$101,0)),"Unassigned")) | F37: =IF('Horses'!$A37="","",IF(COUNTIF('Participants'!$G$2:$G$101,'Horses'!$A37)>0,"Yes","No"))
... E101: =IF('Horses'!$A101="","",IFERROR(INDEX('Participants'!$B$2:$B$101,MATCH('Horses'!$A101,'Participants'!$G$2:$G$101,0)),"Unassigned")) | F101: =IF('Horses'!$A101="","",IF(COUNTIF('Participants'!$G$2:$G$101,'Horses'!$A101)>0,"Yes","No"))

Sheet Dashboard
A1: Melbourne Cup Sweep Dashboard 2026
A2: Total entries | B2: =COUNTA('Participants'!$B$2:$B$101) | D2: Payment status | E2: Entries
A3: Paid entries | B3: =COUNTIF('Participants'!$E$2:$E$101,"Yes") | D3: Paid | E3: ='Dashboard'!$B$3
A4: Outstanding payments | B4: =COUNTIF('Participants'!$E$2:$E$101,"No") | D4: Outstanding | E4: ='Dashboard'!$B$4
A5: Paid percentage | B5: =IFERROR('Dashboard'!$B$3/'Dashboard'!$B$2,0)
A6: Total pool | B6: ='Sweep Setup'!$B$6
A7: Prize pool distributed | B7: =SUM('Participants'!$L$2:$L$101) | D7: Prize position | E7: Prize amount
A8: Unassigned horses | B8: =COUNTIF('Horses'!$F$2:$F$101,"No") | D8: Winner | E8: ='Sweep Setup'!$B$10
A9: Average entry value | B9: =IFERROR(AVERAGE('Participants'!$L$2:$L$101),0) | D9: Second | E9: ='Sweep Setup'!$B$11
D10: Third | E10: ='Sweep Setup'!$B$12
A12: Instructions
A13: 1. Enter participants | B13: Add names, cities and contact details in the Participants sheet. Yellow cells are editable. | D13: Australian city | E13: Participants
A14: 2. Record payments | B14: Select Yes or No in Paid? and enter the payment date when payment is received. | D14: Sydney | E14: =COUNTIF('Participants'!$C$2:$C$101,'Dashboard'!$D14)
A15: 3. Assign horses | B15: Select an available horse number in Participants. Horse name and barrier update automatically. | D15: Melbourne | E15: =COUNTIF('Participants'!$C$2:$C$101,'Dashboard'!$D15)
A16: 4. Update results | B16: Enter the finish position after the race. Winner, prize and payment summaries update automatically. | D16: Brisbane | E16: =COUNTIF('Participants'!$C$2:$C$101,'Dashboard'!$D16)
A17: 5. Maintain the field | B17: Update horse names, barriers and race status in Horses when the official field is confirmed. | D17: Perth | E17: =COUNTIF('Participants'!$C$2:$C$101,'Dashboard'!$D17)
D18: Adelaide | E18: =COUNTIF('Participants'!$C$2:$C$101,'Dashboard'!$D18)
D19: Gold Coast | E19: =COUNTIF('Participants'!$C$2:$C$101,'Dashboard'!$D19)
D20: Newcastle | E20: =COUNTIF('Participants'!$C$2:$C$101,'Dashboard'!$D20)
D21: Canberra | E21: =COUNTIF('Participants'!$C$2:$C$101,'Dashboard'!$D21)
D22: Hobart | E22: =COUNTIF('Participants'!$C$2:$C$101,'Dashboard'!$D22)
D23: Wollongong | E23: =COUNTIF('Participants'!$C$2:$C$101,'Dashboard'!$D23)
