Workbook

Sheet Rego Register
A1: Rego Renewal Reminder Register
A2: Enter and maintain registration renewal details. Pale yellow cells are editable inputs.
A3: Vehicle ID | B3: Registration Number | C3: Vehicle Description | D3: Vehicle Class | E3: Owner / Driver | F3: State / Territory | G3: City | H3: Registration Authority | I3: Rego Expiry Date | J3: Days Remaining | K3: Reminder Lead Days | L3: Reminder Date | M3: Renewal Status | N3: Estimated Renewal Fee (AUD) | O3: Payment Status | P3: Renewal Completed Date | Q3: Notes
A4: VEH-001 | B4: NSW-4827 | C4: 2022 Toyota RAV4 | D4: Passenger | E4: Jack | F4: NSW | G4: Sydney | H4: =IF($F4="","",IFERROR(VLOOKUP($F4,'Lists'!$A$4:$D$10,2,FALSE),"")) | I4: 46364 | J4: =IF($I4="","",$I4-TODAY()) | K4: =IF($F4="","",IFERROR(VLOOKUP($F4,'Lists'!$A$4:$D$10,4,FALSE),"")) | L4: =IF(OR($I4="",$K4=""),"",$I4-$K4) | M4: =IF($A4="","",IF($O4="Paid","Renewed",IF(OR($I4="",$K4=""),"",IF($J4<0,"Expired",IF($J4<=$K4,"Due Soon","Current"))))) | N4: 465 | O4: Unpaid | Q4: Annual family vehicle
A5: VEH-002 | B5: 1XY 684 | C5: 2021 Mazda CX-5 | D5: Passenger | E5: Olivia | F5: VIC | G5: Melbourne | H5: =IF($F5="","",IFERROR(VLOOKUP($F5,'Lists'!$A$4:$D$10,2,FALSE),"")) | I5: 46303 | J5: =IF($I5="","",$I5-TODAY()) | K5: =IF($F5="","",IFERROR(VLOOKUP($F5,'Lists'!$A$4:$D$10,4,FALSE),"")) | L5: =IF(OR($I5="",$K5=""),"",$I5-$K5) | M5: =IF($A5="","",IF($O5="Paid","Renewed",IF(OR($I5="",$K5=""),"",IF($J5<0,"Expired",IF($J5<=$K5,"Due Soon","Current"))))) | N5: 395 | O5: Unpaid | Q5: Renewal reminder required
A6: VEH-003 | B6: 789-ZQP | C6: 2020 Ford Ranger | D6: Commercial | E6: Liam | F6: QLD | G6: Brisbane | H6: =IF($F6="","",IFERROR(VLOOKUP($F6,'Lists'!$A$4:$D$10,2,FALSE),"")) | I6: 46277 | J6: =IF($I6="","",$I6-TODAY()) | K6: =IF($F6="","",IFERROR(VLOOKUP($F6,'Lists'!$A$4:$D$10,4,FALSE),"")) | L6: =IF(OR($I6="",$K6=""),"",$I6-$K6) | M6: =IF($A6="","",IF($O6="Paid","Renewed",IF(OR($I6="",$K6=""),"",IF($J6<0,"Expired",IF($J6<=$K6,"Due Soon","Current"))))) | N6: 445 | O6: Unpaid | Q6: Review overdue registration
A7: VEH-004 | B7: 1HJK234 | C7: 2023 Hyundai i30 | D7: Passenger | E7: Charlotte | F7: WA | G7: Perth | H7: =IF($F7="","",IFERROR(VLOOKUP($F7,'Lists'!$A$4:$D$10,2,FALSE),"")) | I7: 46244 | J7: =IF($I7="","",$I7-TODAY()) | K7: =IF($F7="","",IFERROR(VLOOKUP($F7,'Lists'!$A$4:$D$10,4,FALSE),"")) | L7: =IF(OR($I7="",$K7=""),"",$I7-$K7) | M7: =IF($A7="","",IF($O7="Paid","Renewed",IF(OR($I7="",$K7=""),"",IF($J7<0,"Expired",IF($J7<=$K7,"Due Soon","Current"))))) | N7: 385 | O7: Paid | P7: 46284 | Q7: Renewed online
A8: VEH-005 | B8: S123-ABC | C8: 2019 Isuzu D-MAX | D8: Commercial | E8: Noah | F8: SA | G8: Adelaide | H8: =IF($F8="","",IFERROR(VLOOKUP($F8,'Lists'!$A$4:$D$10,2,FALSE),"")) | I8: 46317 | J8: =IF($I8="","",$I8-TODAY()) | K8: =IF($F8="","",IFERROR(VLOOKUP($F8,'Lists'!$A$4:$D$10,4,FALSE),"")) | L8: =IF(OR($I8="",$K8=""),"",$I8-$K8) | M8: =IF($A8="","",IF($O8="Paid","Renewed",IF(OR($I8="",$K8=""),"",IF($J8<0,"Expired",IF($J8<=$K8,"Due Soon","Current"))))) | N8: 375 | O8: Unpaid | Q8: Confirm inspection requirement
A9: VEH-006 | B9: GCM-481 | C9: 2024 Kia Sportage | D9: Passenger | E9: Mia | F9: QLD | G9: Gold Coast | H9: =IF($F9="","",IFERROR(VLOOKUP($F9,'Lists'!$A$4:$D$10,2,FALSE),"")) | I9: 46351 | J9: =IF($I9="","",$I9-TODAY()) | K9: =IF($F9="","",IFERROR(VLOOKUP($F9,'Lists'!$A$4:$D$10,4,FALSE),"")) | L9: =IF(OR($I9="",$K9=""),"",$I9-$K9) | M9: =IF($A9="","",IF($O9="Paid","Renewed",IF(OR($I9="",$K9=""),"",IF($J9<0,"Expired",IF($J9<=$K9,"Due Soon","Current"))))) | N9: 520 | O9: Not Required | Q9: Lease provider manages insurance
A10: VEH-007 | B10: CDE-720 | C10: 2022 Yamaha MT-07 | D10: Motorcycle | E10: Ethan | F10: NSW | G10: Newcastle | H10: =IF($F10="","",IFERROR(VLOOKUP($F10,'Lists'!$A$4:$D$10,2,FALSE),"")) | I10: 46285 | J10: =IF($I10="","",$I10-TODAY()) | K10: =IF($F10="","",IFERROR(VLOOKUP($F10,'Lists'!$A$4:$D$10,4,FALSE),"")) | L10: =IF(OR($I10="",$K10=""),"",$I10-$K10) | M10: =IF($A10="","",IF($O10="Paid","Renewed",IF(OR($I10="",$K10=""),"",IF($J10<0,"Expired",IF($J10<=$K10,"Due Soon","Current"))))) | N10: 420 | O10: Paid | P10: 46287 | Q10: Payment receipt retained
A11: VEH-008 | B11: YQK-371 | C11: 2020 Subaru Forester | D11: Passenger | E11: Ruby | F11: ACT | G11: Canberra | H11: =IF($F11="","",IFERROR(VLOOKUP($F11,'Lists'!$A$4:$D$10,2,FALSE),"")) | I11: 46271 | J11: =IF($I11="","",$I11-TODAY()) | K11: =IF($F11="","",IFERROR(VLOOKUP($F11,'Lists'!$A$4:$D$10,4,FALSE),"")) | L11: =IF(OR($I11="",$K11=""),"",$I11-$K11) | M11: =IF($A11="","",IF($O11="Paid","Renewed",IF(OR($I11="",$K11=""),"",IF($J11<0,"Expired",IF($J11<=$K11,"Due Soon","Current"))))) | N11: 365 | O11: Unpaid | Q11: Contact owner urgently
A12: VEH-009 | B12: L87-TRP | C12: 2021 Toyota Corolla | D12: Passenger | E12: Cooper | F12: TAS | G12: Hobart | H12: =IF($F12="","",IFERROR(VLOOKUP($F12,'Lists'!$A$4:$D$10,2,FALSE),"")) | I12: 46294 | J12: =IF($I12="","",$I12-TODAY()) | K12: =IF($F12="","",IFERROR(VLOOKUP($F12,'Lists'!$A$4:$D$10,4,FALSE),"")) | L12: =IF(OR($I12="",$K12=""),"",$I12-$K12) | M12: =IF($A12="","",IF($O12="Paid","Renewed",IF(OR($I12="",$K12=""),"",IF($J12<0,"Expired",IF($J12<=$K12,"Due Soon","Current"))))) | N12: 350 | O12: Unpaid | Q12: Due shortly
A13: VEH-010 | B13: WLG-209 | C13: 2023 Mitsubishi Outlander | D13: Passenger | E13: Isla | F13: NSW | G13: Wollongong | H13: =IF($F13="","",IFERROR(VLOOKUP($F13,'Lists'!$A$4:$D$10,2,FALSE),"")) | I13: 46377 | J13: =IF($I13="","",$I13-TODAY()) | K13: =IF($F13="","",IFERROR(VLOOKUP($F13,'Lists'!$A$4:$D$10,4,FALSE),"")) | L13: =IF(OR($I13="",$K13=""),"",$I13-$K13) | M13: =IF($A13="","",IF($O13="Paid","Renewed",IF(OR($I13="",$K13=""),"",IF($J13<0,"Expired",IF($J13<=$K13,"Due Soon","Current"))))) | N13: 430 | O13: Unpaid | Q13: Current registration
H14: =IF($F14="","",IFERROR(VLOOKUP($F14,'Lists'!$A$4:$D$10,2,FALSE),"")) | J14: =IF($I14="","",$I14-TODAY()) | K14: =IF($F14="","",IFERROR(VLOOKUP($F14,'Lists'!$A$4:$D$10,4,FALSE),"")) | L14: =IF(OR($I14="",$K14=""),"",$I14-$K14) | M14: =IF($A14="","",IF($O14="Paid","Renewed",IF(OR($I14="",$K14=""),"",IF($J14<0,"Expired",IF($J14<=$K14,"Due Soon","Current")))))
H15: =IF($F15="","",IFERROR(VLOOKUP($F15,'Lists'!$A$4:$D$10,2,FALSE),"")) | J15: =IF($I15="","",$I15-TODAY()) | K15: =IF($F15="","",IFERROR(VLOOKUP($F15,'Lists'!$A$4:$D$10,4,FALSE),"")) | L15: =IF(OR($I15="",$K15=""),"",$I15-$K15) | M15: =IF($A15="","",IF($O15="Paid","Renewed",IF(OR($I15="",$K15=""),"",IF($J15<0,"Expired",IF($J15<=$K15,"Due Soon","Current")))))
H16: =IF($F16="","",IFERROR(VLOOKUP($F16,'Lists'!$A$4:$D$10,2,FALSE),"")) | J16: =IF($I16="","",$I16-TODAY()) | K16: =IF($F16="","",IFERROR(VLOOKUP($F16,'Lists'!$A$4:$D$10,4,FALSE),"")) | L16: =IF(OR($I16="",$K16=""),"",$I16-$K16) | M16: =IF($A16="","",IF($O16="Paid","Renewed",IF(OR($I16="",$K16=""),"",IF($J16<0,"Expired",IF($J16<=$K16,"Due Soon","Current")))))
H17: =IF($F17="","",IFERROR(VLOOKUP($F17,'Lists'!$A$4:$D$10,2,FALSE),"")) | J17: =IF($I17="","",$I17-TODAY()) | K17: =IF($F17="","",IFERROR(VLOOKUP($F17,'Lists'!$A$4:$D$10,4,FALSE),"")) | L17: =IF(OR($I17="",$K17=""),"",$I17-$K17) | M17: =IF($A17="","",IF($O17="Paid","Renewed",IF(OR($I17="",$K17=""),"",IF($J17<0,"Expired",IF($J17<=$K17,"Due Soon","Current")))))
H18: =IF($F18="","",IFERROR(VLOOKUP($F18,'Lists'!$A$4:$D$10,2,FALSE),"")) | J18: =IF($I18="","",$I18-TODAY()) | K18: =IF($F18="","",IFERROR(VLOOKUP($F18,'Lists'!$A$4:$D$10,4,FALSE),"")) | L18: =IF(OR($I18="",$K18=""),"",$I18-$K18) | M18: =IF($A18="","",IF($O18="Paid","Renewed",IF(OR($I18="",$K18=""),"",IF($J18<0,"Expired",IF($J18<=$K18,"Due Soon","Current")))))
H19: =IF($F19="","",IFERROR(VLOOKUP($F19,'Lists'!$A$4:$D$10,2,FALSE),"")) | J19: =IF($I19="","",$I19-TODAY()) | K19: =IF($F19="","",IFERROR(VLOOKUP($F19,'Lists'!$A$4:$D$10,4,FALSE),"")) | L19: =IF(OR($I19="",$K19=""),"",$I19-$K19) | M19: =IF($A19="","",IF($O19="Paid","Renewed",IF(OR($I19="",$K19=""),"",IF($J19<0,"Expired",IF($J19<=$K19,"Due Soon","Current")))))
H20: =IF($F20="","",IFERROR(VLOOKUP($F20,'Lists'!$A$4:$D$10,2,FALSE),"")) | J20: =IF($I20="","",$I20-TODAY()) | K20: =IF($F20="","",IFERROR(VLOOKUP($F20,'Lists'!$A$4:$D$10,4,FALSE),"")) | L20: =IF(OR($I20="",$K20=""),"",$I20-$K20) | M20: =IF($A20="","",IF($O20="Paid","Renewed",IF(OR($I20="",$K20=""),"",IF($J20<0,"Expired",IF($J20<=$K20,"Due Soon","Current")))))
H21: =IF($F21="","",IFERROR(VLOOKUP($F21,'Lists'!$A$4:$D$10,2,FALSE),"")) | J21: =IF($I21="","",$I21-TODAY()) | K21: =IF($F21="","",IFERROR(VLOOKUP($F21,'Lists'!$A$4:$D$10,4,FALSE),"")) | L21: =IF(OR($I21="",$K21=""),"",$I21-$K21) | M21: =IF($A21="","",IF($O21="Paid","Renewed",IF(OR($I21="",$K21=""),"",IF($J21<0,"Expired",IF($J21<=$K21,"Due Soon","Current")))))
H22: =IF($F22="","",IFERROR(VLOOKUP($F22,'Lists'!$A$4:$D$10,2,FALSE),"")) | J22: =IF($I22="","",$I22-TODAY()) | K22: =IF($F22="","",IFERROR(VLOOKUP($F22,'Lists'!$A$4:$D$10,4,FALSE),"")) | L22: =IF(OR($I22="",$K22=""),"",$I22-$K22) | M22: =IF($A22="","",IF($O22="Paid","Renewed",IF(OR($I22="",$K22=""),"",IF($J22<0,"Expired",IF($J22<=$K22,"Due Soon","Current")))))
H23: =IF($F23="","",IFERROR(VLOOKUP($F23,'Lists'!$A$4:$D$10,2,FALSE),"")) | J23: =IF($I23="","",$I23-TODAY()) | K23: =IF($F23="","",IFERROR(VLOOKUP($F23,'Lists'!$A$4:$D$10,4,FALSE),"")) | L23: =IF(OR($I23="",$K23=""),"",$I23-$K23) | M23: =IF($A23="","",IF($O23="Paid","Renewed",IF(OR($I23="",$K23=""),"",IF($J23<0,"Expired",IF($J23<=$K23,"Due Soon","Current")))))
H24: =IF($F24="","",IFERROR(VLOOKUP($F24,'Lists'!$A$4:$D$10,2,FALSE),"")) | J24: =IF($I24="","",$I24-TODAY()) | K24: =IF($F24="","",IFERROR(VLOOKUP($F24,'Lists'!$A$4:$D$10,4,FALSE),"")) | L24: =IF(OR($I24="",$K24=""),"",$I24-$K24) | M24: =IF($A24="","",IF($O24="Paid","Renewed",IF(OR($I24="",$K24=""),"",IF($J24<0,"Expired",IF($J24<=$K24,"Due Soon","Current")))))
H25: =IF($F25="","",IFERROR(VLOOKUP($F25,'Lists'!$A$4:$D$10,2,FALSE),"")) | J25: =IF($I25="","",$I25-TODAY()) | K25: =IF($F25="","",IFERROR(VLOOKUP($F25,'Lists'!$A$4:$D$10,4,FALSE),"")) | L25: =IF(OR($I25="",$K25=""),"",$I25-$K25) | M25: =IF($A25="","",IF($O25="Paid","Renewed",IF(OR($I25="",$K25=""),"",IF($J25<0,"Expired",IF($J25<=$K25,"Due Soon","Current")))))
... H113: =IF($F113="","",IFERROR(VLOOKUP($F113,'Lists'!$A$4:$D$10,2,FALSE),"")) | J113: =IF($I113="","",$I113-TODAY()) | K113: =IF($F113="","",IFERROR(VLOOKUP($F113,'Lists'!$A$4:$D$10,4,FALSE),"")) | L113: =IF(OR($I113="",$K113=""),"",$I113-$K113) | M113: =IF($A113="","",IF($O113="Paid","Renewed",IF(OR($I113="",$K113=""),"",IF($J113<0,"Expired",IF($J113<=$K113,"Due Soon","Current")))))

Sheet Dashboard
A1: Rego Renewal Dashboard
A2: Dashboard metrics and charts use the full prepared operational range in Rego Register.
A3: Key Metric | B3: Value
A4: Total vehicles | B4: =COUNTA('Rego Register'!$A$4:$A$113)
A5: Current registrations | B5: =COUNTIF('Rego Register'!$M$4:$M$113,"Current")
A6: Due soon | B6: =COUNTIF('Rego Register'!$M$4:$M$113,"Due Soon")
A7: Expired registrations | B7: =COUNTIF('Rego Register'!$M$4:$M$113,"Expired")
A8: Renewed registrations | B8: =COUNTIF('Rego Register'!$M$4:$M$113,"Renewed")
A9: Total estimated renewal fees | B9: =SUM('Rego Register'!$N$4:$N$113)
A10: Average renewal fee | B10: =IFERROR(AVERAGE('Rego Register'!$N$4:$N$113),0)
A11: Renewal completion percentage | B11: =IFERROR(COUNTIF('Rego Register'!$M$4:$M$113,"Renewed")/COUNTA('Rego Register'!$A$4:$A$113),0)
A13: Status Summary | D13: State Summary
A14: Renewal Status | B14: Registrations | D14: State / Territory | E14: Vehicle Count | F14: Total Estimated Fees
A15: Current | B15: =COUNTIF('Rego Register'!$M$4:$M$113,$A15) | D15: NSW | E15: =COUNTIF('Rego Register'!$F$4:$F$113,$D15) | F15: =SUMIF('Rego Register'!$F$4:$F$113,$D15,'Rego Register'!$N$4:$N$113)
A16: Due Soon | B16: =COUNTIF('Rego Register'!$M$4:$M$113,$A16) | D16: VIC | E16: =COUNTIF('Rego Register'!$F$4:$F$113,$D16) | F16: =SUMIF('Rego Register'!$F$4:$F$113,$D16,'Rego Register'!$N$4:$N$113)
A17: Expired | B17: =COUNTIF('Rego Register'!$M$4:$M$113,$A17) | D17: QLD | E17: =COUNTIF('Rego Register'!$F$4:$F$113,$D17) | F17: =SUMIF('Rego Register'!$F$4:$F$113,$D17,'Rego Register'!$N$4:$N$113)
A18: Renewed | B18: =COUNTIF('Rego Register'!$M$4:$M$113,$A18) | D18: WA | E18: =COUNTIF('Rego Register'!$F$4:$F$113,$D18) | F18: =SUMIF('Rego Register'!$F$4:$F$113,$D18,'Rego Register'!$N$4:$N$113)
D19: SA | E19: =COUNTIF('Rego Register'!$F$4:$F$113,$D19) | F19: =SUMIF('Rego Register'!$F$4:$F$113,$D19,'Rego Register'!$N$4:$N$113)
D20: ACT | E20: =COUNTIF('Rego Register'!$F$4:$F$113,$D20) | F20: =SUMIF('Rego Register'!$F$4:$F$113,$D20,'Rego Register'!$N$4:$N$113)
D21: TAS | E21: =COUNTIF('Rego Register'!$F$4:$F$113,$D21) | F21: =SUMIF('Rego Register'!$F$4:$F$113,$D21,'Rego Register'!$N$4:$N$113)
D23: Registrations Due by Month
D24: Month | E24: Registrations
D25: Jan | E25: =COUNTIFS('Rego Register'!$I$4:$I$113,">="&$F25,'Rego Register'!$I$4:$I$113,"<"&$F26) | F25: 46023
D26: Feb | E26: =COUNTIFS('Rego Register'!$I$4:$I$113,">="&$F26,'Rego Register'!$I$4:$I$113,"<"&$F27) | F26: 46054
D27: Mar | E27: =COUNTIFS('Rego Register'!$I$4:$I$113,">="&$F27,'Rego Register'!$I$4:$I$113,"<"&$F28) | F27: 46082
D28: Apr | E28: =COUNTIFS('Rego Register'!$I$4:$I$113,">="&$F28,'Rego Register'!$I$4:$I$113,"<"&$F29) | F28: 46113
D29: May | E29: =COUNTIFS('Rego Register'!$I$4:$I$113,">="&$F29,'Rego Register'!$I$4:$I$113,"<"&$F30) | F29: 46143
D30: Jun | E30: =COUNTIFS('Rego Register'!$I$4:$I$113,">="&$F30,'Rego Register'!$I$4:$I$113,"<"&$F31) | F30: 46174
D31: Jul | E31: =COUNTIFS('Rego Register'!$I$4:$I$113,">="&$F31,'Rego Register'!$I$4:$I$113,"<"&$F32) | F31: 46204
D32: Aug | E32: =COUNTIFS('Rego Register'!$I$4:$I$113,">="&$F32,'Rego Register'!$I$4:$I$113,"<"&$F33) | F32: 46235
D33: Sep | E33: =COUNTIFS('Rego Register'!$I$4:$I$113,">="&$F33,'Rego Register'!$I$4:$I$113,"<"&$F34) | F33: 46266
D34: Oct | E34: =COUNTIFS('Rego Register'!$I$4:$I$113,">="&$F34,'Rego Register'!$I$4:$I$113,"<"&$F35) | F34: 46296
D35: Nov | E35: =COUNTIFS('Rego Register'!$I$4:$I$113,">="&$F35,'Rego Register'!$I$4:$I$113,"<"&$F36) | F35: 46327
D36: Dec | E36: =COUNTIFS('Rego Register'!$I$4:$I$113,">="&$F36,'Rego Register'!$I$4:$I$113,"<"&($F36+31)) | F36: 46357
A38: Upcoming and Overdue Renewals
A39: Vehicle ID | B39: Registration Number | C39: Vehicle Description | D39: State / Territory | E39: City | F39: Expiry Date | G39: Days Remaining | H39: Renewal Status
A40: =IF(OR('Rego Register'!$M$4="Due Soon",'Rego Register'!$M$4="Expired"),'Rego Register'!$A$4,"") | B40: =IF(OR('Rego Register'!$M$4="Due Soon",'Rego Register'!$M$4="Expired"),'Rego Register'!$B$4,"") | C40: =IF(OR('Rego Register'!$M$4="Due Soon",'Rego Register'!$M$4="Expired"),'Rego Register'!$C$4,"") | D40: =IF(OR('Rego Register'!$M$4="Due Soon",'Rego Register'!$M$4="Expired"),'Rego Register'!$F$4,"") | E40: =IF(OR('Rego Register'!$M$4="Due Soon",'Rego Register'!$M$4="Expired"),'Rego Register'!$G$4,"") | F40: =IF(OR('Rego Register'!$M$4="Due Soon",'Rego Register'!$M$4="Expired"),'Rego Register'!$I$4,"") | G40: =IF(OR('Rego Register'!$M$4="Due Soon",'Rego Register'!$M$4="Expired"),'Rego Register'!$J$4,"") | H40: =IF(OR('Rego Register'!$M$4="Due Soon",'Rego Register'!$M$4="Expired"),'Rego Register'!$M$4,"")
A41: =IF(OR('Rego Register'!$M$5="Due Soon",'Rego Register'!$M$5="Expired"),'Rego Register'!$A$5,"") | B41: =IF(OR('Rego Register'!$M$5="Due Soon",'Rego Register'!$M$5="Expired"),'Rego Register'!$B$5,"") | C41: =IF(OR('Rego Register'!$M$5="Due Soon",'Rego Register'!$M$5="Expired"),'Rego Register'!$C$5,"") | D41: =IF(OR('Rego Register'!$M$5="Due Soon",'Rego Register'!$M$5="Expired"),'Rego Register'!$F$5,"") | E41: =IF(OR('Rego Register'!$M$5="Due Soon",'Rego Register'!$M$5="Expired"),'Rego Register'!$G$5,"") | F41: =IF(OR('Rego Register'!$M$5="Due Soon",'Rego Register'!$M$5="Expired"),'Rego Register'!$I$5,"") | G41: =IF(OR('Rego Register'!$M$5="Due Soon",'Rego Register'!$M$5="Expired"),'Rego Register'!$J$5,"") | H41: =IF(OR('Rego Register'!$M$5="Due Soon",'Rego Register'!$M$5="Expired"),'Rego Register'!$M$5,"")
A42: =IF(OR('Rego Register'!$M$6="Due Soon",'Rego Register'!$M$6="Expired"),'Rego Register'!$A$6,"") | B42: =IF(OR('Rego Register'!$M$6="Due Soon",'Rego Register'!$M$6="Expired"),'Rego Register'!$B$6,"") | C42: =IF(OR('Rego Register'!$M$6="Due Soon",'Rego Register'!$M$6="Expired"),'Rego Register'!$C$6,"") | D42: =IF(OR('Rego Register'!$M$6="Due Soon",'Rego Register'!$M$6="Expired"),'Rego Register'!$F$6,"") | E42: =IF(OR('Rego Register'!$M$6="Due Soon",'Rego Register'!$M$6="Expired"),'Rego Register'!$G$6,"") | F42: =IF(OR('Rego Register'!$M$6="Due Soon",'Rego Register'!$M$6="Expired"),'Rego Register'!$I$6,"") | G42: =IF(OR('Rego Register'!$M$6="Due Soon",'Rego Register'!$M$6="Expired"),'Rego Register'!$J$6,"") | H42: =IF(OR('Rego Register'!$M$6="Due Soon",'Rego Register'!$M$6="Expired"),'Rego Register'!$M$6,"")
A43: =IF(OR('Rego Register'!$M$7="Due Soon",'Rego Register'!$M$7="Expired"),'Rego Register'!$A$7,"") | B43: =IF(OR('Rego Register'!$M$7="Due Soon",'Rego Register'!$M$7="Expired"),'Rego Register'!$B$7,"") | C43: =IF(OR('Rego Register'!$M$7="Due Soon",'Rego Register'!$M$7="Expired"),'Rego Register'!$C$7,"") | D43: =IF(OR('Rego Register'!$M$7="Due Soon",'Rego Register'!$M$7="Expired"),'Rego Register'!$F$7,"") | E43: =IF(OR('Rego Register'!$M$7="Due Soon",'Rego Register'!$M$7="Expired"),'Rego Register'!$G$7,"") | F43: =IF(OR('Rego Register'!$M$7="Due Soon",'Rego Register'!$M$7="Expired"),'Rego Register'!$I$7,"") | G43: =IF(OR('Rego Register'!$M$7="Due Soon",'Rego Register'!$M$7="Expired"),'Rego Register'!$J$7,"") | H43: =IF(OR('Rego Register'!$M$7="Due Soon",'Rego Register'!$M$7="Expired"),'Rego Register'!$M$7,"")
...

Sheet Lists
A1: Rego Register Lists and Guidance
A3: State / Territory | B3: Registration Authority | C3: Default Renewal Fee (AUD) | D3: Reminder Lead Days | F3: Vehicle Class | G3: Payment Status
A4: NSW | B4: Service NSW | C4: 420 | D4: 30 | F4: Passenger | G4: Unpaid
A5: VIC | B5: VicRoads | C5: 395 | D5: 30 | F5: Commercial | G5: Paid
A6: QLD | B6: Department of Transport and Main Roads | C6: 410 | D6: 30 | F6: Motorcycle | G6: Not Required
A7: WA | B7: Department of Transport WA | C7: 385 | D7: 30
A8: SA | B8: Service SA | C8: 375 | D8: 30
A9: ACT | B9: Access Canberra | C9: 365 | D9: 30
A10: TAS | B10: Service Tasmania | C10: 350 | D10: 30
A13: Guidance
A14: Enter all dates as DD/MM/YYYY.
A15: Update Payment Status after each renewal is completed.
A16: Confirm actual renewal fees with the relevant state or territory authority.
A17: Renewal costs may include registration, compulsory third-party insurance, administration charges and optional inspections.
A18: Check current requirements before lodging or paying.

Sheet Instructions
A1: Workbook Instructions
A3: Area | B3: Purpose | C3: How to Use | D3: Operational Range
A4: Rego Register | B4: Central vehicle registration register. | C4: Enter or update pale yellow input cells. Formula columns calculate authority, reminders and renewal status automatically. | D4: Rows 4 to 113 provide 110 prepared vehicle records.
A5: Dashboard | B5: Management view of renewal activity. | C5: Review KPIs, state totals, upcoming and overdue vehicles, and charts. | D5: Charts and summaries use the full Rego Register operational range.
A6: Lists | B6: Lookup values and validation lists. | C6: Use the listed state, vehicle class and payment status values. Confirm fees and requirements before renewal. | D6: State lookup and dropdown sources are maintained on this sheet.
A9: Daily Use Guide
A10: Add each vehicle to the next available row in Rego Register.
A11: Enter expiry and renewal completed dates as DD/MM/YYYY.
A12: Review Due Soon and Expired registrations regularly.
A13: Set Payment Status to Paid once the renewal is complete.
A14: Confirm current fees, insurance, inspection and authority requirements before payment.
