Workbook

Sheet Rego Register
A1: Rego Renewal Reminder Register
A2: Enter and maintain registration renewal details. Pale yellow cells are editable inputs.
A3: Vehicle ID | B3: Registration Number | C3: Vehicle Description | D3: Vehicle Class | E3: Owner / Driver | F3: State / Territory | G3: City | H3: Registration Authority | I3: Rego Expiry Date | J3: Days Remaining | K3: Reminder Lead Days | L3: Reminder Date | M3: Renewal Status | N3: Estimated Renewal Fee (AUD) | O3: Payment Status | P3: Renewal Completed Date | Q3: Notes
A4: VEH-001 | B4: NSW-4827 | C4: 2022 Toyota RAV4 | D4: Passenger | E4: Jack | F4: NSW | G4: Sydney | H4: =IF($F4="","",IFERROR(VLOOKUP($F4,'Lists'!$A$4:$D$10,2,FALSE),"")) | I4: 46364 | J4: =IF($I4="","",$I4-TODAY()) | K4: =IF($F4="","",IFERROR(VLOOKUP($F4,'Lists'!$A$4:$D$10,4,FALSE),"")) | L4: =IF(OR($I4="",$K4=""),"",$I4-$K4) | M4: =IF($A4="","",IF($O4="Paid","Renewed",IF(OR($I4="",$K4=""),"",IF($J4<0,"Expired",IF($J4<=$K4,"Due Soon","Current"))))) | N4: 465 | O4: Unpaid | Q4: Annual family vehicle
A5: VEH-002 | B5: 1XY 684 | C5: 2021 Mazda CX-5 | D5: Passenger | E5: Olivia | F5: VIC | G5: Melbourne | H5: =IF($F5="","",IFERROR(VLOOKUP($F5,'Lists'!$A$4:$D$10,2,FALSE),"")) | I5: 46303 | J5: =IF($I5="","",$I5-TODAY()) | K5: =IF($F5="","",IFERROR(VLOOKUP($F5,'Lists'!$A$4:$D$10,4,FALSE),"")) | L5: =IF(OR($I5="",$K5=""),"",$I5-$K5) | M5: =IF($A5="","",IF($O5="Paid","Renewed",IF(OR($I5="",$K5=""),"",IF($J5<0,"Expired",IF($J5<=$K5,"Due Soon","Current"))))) | N5: 395 | O5: Unpaid | Q5: Renewal reminder required
A6: VEH-003 | B6: 789-ZQP | C6: 2020 Ford Ranger | D6: Commercial | E6: Liam | F6: QLD | G6: Brisbane | H6: =IF($F6="","",IFERROR(VLOOKUP($F6,'Lists'!$A$4:$D$10,2,FALSE),"")) | I6: 46277 | J6: =IF($I6="","",$I6-TODAY()) | K6: =IF($F6="","",IFERROR(VLOOKUP($F6,'Lists'!$A$4:$D$10,4,FALSE),"")) | L6: =IF(OR($I6="",$K6=""),"",$I6-$K6) | M6: =IF($A6="","",IF($O6="Paid","Renewed",IF(OR($I6="",$K6=""),"",IF($J6<0,"Expired",IF($J6<=$K6,"Due Soon","Current"))))) | N6: 445 | O6: Unpaid | Q6: Review overdue registration
A7: VEH-004 | B7: 1HJK234 | C7: 2023 Hyundai i30 | D7: Passenger | E7: Charlotte | F7: WA | G7: Perth | H7: =IF($F7="","",IFERROR(VLOOKUP($F7,'Lists'!$A$4:$D$10,2,FALSE),"")) | I7: 46244 | J7: =IF($I7="","",$I7-TODAY()) | K7: =IF($F7="","",IFERROR(VLOOKUP($F7,'Lists'!$A$4:$D$10,4,FALSE),"")) | L7: =IF(OR($I7="",$K7=""),"",$I7-$K7) | M7: =IF($A7="","",IF($O7="Paid","Renewed",IF(OR($I7="",$K7=""),"",IF($J7<0,"Expired",IF($J7<=$K7,"Due Soon","Current"))))) | N7: 385 | O7: Paid | P7: 46284 | Q7: Renewed online
A8: VEH-005 | B8: S123-ABC | C8: 2019 Isuzu D-MAX | D8: Commercial | E8: Noah | F8: SA | G8: Adelaide | H8: =IF($F8="","",IFERROR(VLOOKUP($F8,'Lists'!$A$4:$D$10,2,FALSE),"")) | I8: 46317 | J8: =IF($I8="","",$I8-TODAY()) | K8: =IF($F8="","",IFERROR(VLOOKUP($F8,'Lists'!$A$4:$D$10,4,FALSE),"")) | L8: =IF(OR($I8="",$K8=""),"",$I8-$K8) | M8: =IF($A8="","",IF($O8="Paid","Renewed",IF(OR($I8="",$K8=""),"",IF($J8<0,"Expired",IF($J8<=$K8,"Due Soon","Current"))))) | N8: 375 | O8: Unpaid | Q8: Confirm inspection requirement
A9: VEH-006 | B9: GCM-481 | C9: 2024 Kia Sportage | D9: Passenger | E9: Mia | F9: QLD | G9: Gold Coast | H9: =IF($F9="","",IFERROR(VLOOKUP($F9,'Lists'!$A$4:$D$10,2,FALSE),"")) | I9: 46351 | J9: =IF($I9="","",$I9-TODAY()) | K9: =IF($F9="","",IFERROR(VLOOKUP($F9,'Lists'!$A$4:$D$10,4,FALSE),"")) | L9: =IF(OR($I9="",$K9=""),"",$I9-$K9) | M9: =IF($A9="","",IF($O9="Paid","Renewed",IF(OR($I9="",$K9=""),"",IF($J9<0,"Expired",IF($J9<=$K9,"Due Soon","Current"))))) | N9: 520 | O9: Not Required | Q9: Lease provider manages insurance
A10: VEH-007 | B10: CDE-720 | C10: 2022 Yamaha MT-07 | D10: Motorcycle | E10: Ethan | F10: NSW | G10: Newcastle | H10: =IF($F10="","",IFERROR(VLOOKUP($F10,'Lists'!$A$4:$D$10,2,FALSE),"")) | I10: 46285 | J10: =IF($I10="","",$I10-TODAY()) | K10: =IF($F10="","",IFERROR(VLOOKUP($F10,'Lists'!$A$4:$D$10,4,FALSE),"")) | L10: =IF(OR($I10="",$K10=""),"",$I10-$K10) | M10: =IF($A10="","",IF($O10="Paid","Renewed",IF(OR($I10="",$K10=""),"",IF($J10<0,"Expired",IF($J10<=$K10,"Due Soon","Current"))))) | N10: 420 | O10: Paid | P10: 46287 | Q10: Payment receipt retained
A11: VEH-008 | B11: YQK-371 | C11: 2020 Subaru Forester | D11: Passenger | E11: Ruby | F11: ACT | G11: Canberra | H11: =IF($F11="","",IFERROR(VLOOKUP($F11,'Lists'!$A$4:$D$10,2,FALSE),"")) | I11: 46271 | J11: =IF($I11="","",$I11-TODAY()) | K11: =IF($F11="","",IFERROR(VLOOKUP($F11,'Lists'!$A$4:$D$10,4,FALSE),"")) | L11: =IF(OR($I11="",$K11=""),"",$I11-$K11) | M11: =IF($A11="","",IF($O11="Paid","Renewed",IF(OR($I11="",$K11=""),"",IF($J11<0,"Expired",IF($J11<=$K11,"Due Soon","Current"))))) | N11: 365 | O11: Unpaid | Q11: Contact owner urgently
A12: VEH-009 | B12: L87-TRP | C12: 2021 Toyota Corolla | D12: Passenger | E12: Cooper | F12: TAS | G12: Hobart | H12: =IF($F12="","",IFERROR(VLOOKUP($F12,'Lists'!$A$4:$D$10,2,FALSE),"")) | I12: 46294 | J12: =IF($I12="","",$I12-TODAY()) | K12: =IF($F12="","",IFERROR(VLOOKUP($F12,'Lists'!$A$4:$D$10,4,FALSE),"")) | L12: =IF(OR($I12="",$K12=""),"",$I12-$K12) | M12: =IF($A12="","",IF($O12="Paid","Renewed",IF(OR($I12="",$K12=""),"",IF($J12<0,"Expired",IF($J12<=$K12,"Due Soon","Current"))))) | N12: 350 | O12: Unpaid | Q12: Due shortly
A13: VEH-010 | B13: WLG-209 | C13: 2023 Mitsubishi Outlander | D13: Passenger | E13: Isla | F13: NSW | G13: Wollongong | H13: =IF($F13="","",IFERROR(VLOOKUP($F13,'Lists'!$A$4:$D$10,2,FALSE),"")) | I13: 46377 | J13: =IF($I13="","",$I13-TODAY()) | K13: =IF($F13="","",IFERROR(VLOOKUP($F13,'Lists'!$A$4:$D$10,4,FALSE),"")) | L13: =IF(OR($I13="",$K13=""),"",$I13-$K13) | M13: =IF($A13="","",IF($O13="Paid","Renewed",IF(OR($I13="",$K13=""),"",IF($J13<0,"Expired",IF($J13<=$K13,"Due Soon","Current"))))) | N13: 430 | O13: Unpaid | Q13: Current registration
H14: =IF($F14="","",IFERROR(VLOOKUP($F14,'Lists'!$A$4:$D$10,2,FALSE),"")) | J14: =IF($I14="","",$I14-TODAY()) | K14: =IF($F14="","",IFERROR(VLOOKUP($F14,'Lists'!$A$4:$D$10,4,FALSE),"")) | L14: =IF(OR($I14="",$K14=""),"",$I14-$K14) | M14: =IF($A14="","",IF($O14="Paid","Renewed",IF(OR($I14="",$K14=""),"",IF($J14<0,"Expired",IF($J14<=$K14,"Due Soon","Current")))))
H15: =IF($F15="","",IFERROR(VLOOKUP($F15,'Lists'!$A$4:$D$10,2,FALSE),"")) | J15: =IF($I15="","",$I15-TODAY()) | K15: =IF($F15="","",IFERROR(VLOOKUP($F15,'Lists'!$A$4:$D$10,4,FALSE),"")) | L15: =IF(OR($I15="",$K15=""),"",$I15-$K15) | M15: =IF($A15="","",IF($O15="Paid","Renewed",IF(OR($I15="",$K15=""),"",IF($J15<0,"Expired",IF($J15<=$K15,"Due Soon","Current")))))
H16: =IF($F16="","",IFERROR(VLOOKUP($F16,'Lists'!$A$4:$D$10,2,FALSE),"")) | J16: =IF($I16="","",$I16-TODAY()) | K16: =IF($F16="","",IFERROR(VLOOKUP($F16,'Lists'!$A$4:$D$10,4,FALSE),"")) | L16: =IF(OR($I16="",$K16=""),"",$I16-$K16) | M16: =IF($A16="","",IF($O16="Paid","Renewed",IF(OR($I16="",$K16=""),"",IF($J16<0,"Expired",IF($J16<=$K16,"Due Soon","Current")))))
H17: =IF($F17="","",IFERROR(VLOOKUP($F17,'Lists'!$A$4:$D$10,2,FALSE),"")) | J17: =IF($I17="","",$I17-TODAY()) | K17: =IF($F17="","",IFERROR(VLOOKUP($F17,'Lists'!$A$4:$D$10,4,FALSE),"")) | L17: =IF(OR($I17="",$K17=""),"",$I17-$K17) | M17: =IF($A17="","",IF($O17="Paid","Renewed",IF(OR($I17="",$K17=""),"",IF($J17<0,"Expired",IF($J17<=$K17,"Due Soon","Current")))))
H18: =IF($F18="","",IFERROR(VLOOKUP($F18,'Lists'!$A$4:$D$10,2,FALSE),"")) | J18: =IF($I18="","",$I18-TODAY()) | K18: =IF($F18="","",IFERROR(VLOOKUP($F18,'Lists'!$A$4:$D$10,4,FALSE),"")) | L18: =IF(OR($I18="",$K18=""),"",$I18-$K18) | M18: =IF($A18="","",IF($O18="Paid","Renewed",IF(OR($I18="",$K18=""),"",IF($J18<0,"Expired",IF($J18<=$K18,"Due Soon","Current")))))
H19: =IF($F19="","",IFERROR(VLOOKUP($F19,'Lists'!$A$4:$D$10,2,FALSE),"")) | J19: =IF($I19="","",$I19-TODAY()) | K19: =IF($F19="","",IFERROR(VLOOKUP($F19,'Lists'!$A$4:$D$10,4,FALSE),"")) | L19: =IF(OR($I19="",$K19=""),"",$I19-$K19) | M19: =IF($A19="","",IF($O19="Paid","Renewed",IF(OR($I19="",$K19=""),"",IF($J19<0,"Expired",IF($J19<=$K19,"Due Soon","Current")))))
H20: =IF($F20="","",IFERROR(VLOOKUP($F20,'Lists'!$A$4:$D$10,2,FALSE),"")) | J20: =IF($I20="","",$I20-TODAY()) | K20: =IF($F20="","",IFERROR(VLOOKUP($F20,'Lists'!$A$4:$D$10,4,FALSE),"")) | L20: =IF(OR($I20="",$K20=""),"",$I20-$K20) | M20: =IF($A20="","",IF($O20="Paid","Renewed",IF(OR($I20="",$K20=""),"",IF($J20<0,"Expired",IF($J20<=$K20,"Due Soon","Current")))))
H21: =IF($F21="","",IFERROR(VLOOKUP($F21,'Lists'!$A$4:$D$10,2,FALSE),"")) | J21: =IF($I21="","",$I21-TODAY()) | K21: =IF($F21="","",IFERROR(VLOOKUP($F21,'Lists'!$A$4:$D$10,4,FALSE),"")) | L21: =IF(OR($I21="",$K21=""),"",$I21-$K21) | M21: =IF($A21="","",IF($O21="Paid","Renewed",IF(OR($I21="",$K21=""),"",IF($J21<0,"Expired",IF($J21<=$K21,"Due Soon","Current")))))
H22: =IF($F22="","",IFERROR(VLOOKUP($F22,'Lists'!$A$4:$D$10,2,FALSE),"")) | J22: =IF($I22="","",$I22-TODAY()) | K22: =IF($F22="","",IFERROR(VLOOKUP($F22,'Lists'!$A$4:$D$10,4,FALSE),"")) | L22: =IF(OR($I22="",$K22=""),"",$I22-$K22) | M22: =IF($A22="","",IF($O22="Paid","Renewed",IF(OR($I22="",$K22=""),"",IF($J22<0,"Expired",IF($J22<=$K22,"Due Soon","Current")))))
H23: =IF($F23="","",IFERROR(VLOOKUP($F23,'Lists'!$A$4:$D$10,2,FALSE),"")) | J23: =IF($I23="","",$I23-TODAY()) | K23: =IF($F23="","",IFERROR(VLOOKUP($F23,'Lists'!$A$4:$D$10,4,FALSE),"")) | L23: =IF(OR($I23="",$K23=""),"",$I23-$K23) | M23: =IF($A23="","",IF($O23="Paid","Renewed",IF(OR($I23="",$K23=""),"",IF($J23<0,"Expired",IF($J23<=$K23,"Due Soon","Current")))))
H24: =IF($F24="","",IFERROR(VLOOKUP($F24,'Lists'!$A$4:$D$10,2,FALSE),"")) | J24: =IF($I24="","",$I24-TODAY()) | K24: =IF($F24="","",IFERROR(VLOOKUP($F24,'Lists'!$A$4:$D$10,4,FALSE),"")) | L24: =IF(OR($I24="",$K24=""),"",$I24-$K24) | M24: =IF($A24="","",IF($O24="Paid","Renewed",IF(OR($I24="",$K24=""),"",IF($J24<0,"Expired",IF($J24<=$K24,"Due Soon","Current")))))
H25: =IF($F25="","",IFERROR(VLOOKUP($F25,'Lists'!$A$4:$D$10,2,FALSE),"")) | J25: =IF($I25="","",$I25-TODAY()) | K25: =IF($F25="","",IFERROR(VLOOKUP($F25,'Lists'!$A$4:$D$10,4,FALSE),"")) | L25: =IF(OR($I25="",$K25=""),"",$I25-$K25) | M25: =IF($A25="","",IF($O25="Paid","Renewed",IF(OR($I25="",$K25=""),"",IF($J25<0,"Expired",IF($J25<=$K25,"Due Soon","Current")))))
... H113: =IF($F113="","",IFERROR(VLOOKUP($F113,'Lists'!$A$4:$D$10,2,FALSE),"")) | J113: =IF($I113="","",$I113-TODAY()) | K113: =IF($F113="","",IFERROR(VLOOKUP($F113,'Lists'!$A$4:$D$10,4,FALSE),"")) | L113: =IF(OR($I113="",$K113=""),"",$I113-$K113) | M113: =IF($A113="","",IF($O113="Paid","Renewed",IF(OR($I113="",$K113=""),"",IF($J113<0,"Expired",IF($J113<=$K113,"Due Soon","Current")))))

Sheet Dashboard
A1: Rego Renewal Dashboard
A2: Dashboard metrics and charts use the full prepared operational range in Rego Register.
A3: Key Metric | B3: Value
A4: Total vehicles | B4: =COUNTA('Rego Register'!$A$4:$A$113)
A5: Current registrations | B5: =COUNTIF('Rego Register'!$M$4:$M$113,"Current")
A6: Due soon | B6: =COUNTIF('Rego Register'!$M$4:$M$113,"Due Soon")
A7: Expired registrations | B7: =COUNTIF('Rego Register'!$M$4:$M$113,"Expired")
A8: Renewed registrations | B8: =COUNTIF('Rego Register'!$M$4:$M$113,"Renewed")
A9: Total estimated renewal fees | B9: =SUM('Rego Register'!$N$4:$N$113)
A10: Average renewal fee | B10: =IFERROR(AVERAGE('Rego Register'!$N$4:$N$113),0)
A11: Renewal completion percentage | B11: =IFERROR(COUNTIF('Rego Register'!$M$4:$M$113,"Renewed")/COUNTA('Rego Register'!$A$4:$A$113),0)
A13: Status Summary | D13: State Summary
A14: Renewal Status | B14: Registrations | D14: State / Territory | E14: Vehicle Count | F14: Total Estimated Fees
A15: Current | B15: =COUNTIF('Rego Register'!$M$4:$M$113,$A15) | D15: NSW | E15: =COUNTIF('Rego Register'!$F$4:$F$113,$D15) | F15: =SUMIF('Rego Register'!$F$4:$F$113,$D15,'Rego Register'!$N$4:$N$113)
A16: Due Soon | B16: =COUNTIF('Rego Register'!$M$4:$M$113,$A16) | D16: VIC | E16: =COUNTIF('Rego Register'!$F$4:$F$113,$D16) | F16: =SUMIF('Rego Register'!$F$4:$F$113,$D16,'Rego Register'!$N$4:$N$113)
A17: Expired | B17: =COUNTIF('Rego Register'!$M$4:$M$113,$A17) | D17: QLD | E17: =COUNTIF('Rego Register'!$F$4:$F$113,$D17) | F17: =SUMIF('Rego Register'!$F$4:$F$113,$D17,'Rego Register'!$N$4:$N$113)
A18: Renewed | B18: =COUNTIF('Rego Register'!$M$4:$M$113,$A18) | D18: WA | E18: =COUNTIF('Rego Register'!$F$4:$F$113,$D18) | F18: =SUMIF('Rego Register'!$F$4:$F$113,$D18,'Rego Register'!$N$4:$N$113)
D19: SA | E19: =COUNTIF('Rego Register'!$F$4:$F$113,$D19) | F19: =SUMIF('Rego Register'!$F$4:$F$113,$D19,'Rego Register'!$N$4:$N$113)
D20: ACT | E20: =COUNTIF('Rego Register'!$F$4:$F$113,$D20) | F20: =SUMIF('Rego Register'!$F$4:$F$113,$D20,'Rego Register'!$N$4:$N$113)
D21: TAS | E21: =COUNTIF('Rego Register'!$F$4:$F$113,$D21) | F21: =SUMIF('Rego Register'!$F$4:$F$113,$D21,'Rego Register'!$N$4:$N$113)
D23: Registrations Due by Month
D24: Month | E24: Registrations
D25: Jan | E25: =COUNTIFS('Rego Register'!$I$4:$I$113,">="&$F25,'Rego Register'!$I$4:$I$113,"<"&$F26) | F25: 46023
D26: Feb | E26: =COUNTIFS('Rego Register'!$I$4:$I$113,">="&$F26,'Rego Register'!$I$4:$I$113,"<"&$F27) | F26: 46054
D27: Mar | E27: =COUNTIFS('Rego Register'!$I$4:$I$113,">="&$F27,'Rego Register'!$I$4:$I$113,"<"&$F28) | F27: 46082
D28: Apr | E28: =COUNTIFS('Rego Register'!$I$4:$I$113,">="&$F28,'Rego Register'!$I$4:$I$113,"<"&$F29) | F28: 46113
D29: May | E29: =COUNTIFS('Rego Register'!$I$4:$I$113,">="&$F29,'Rego Register'!$I$4:$I$113,"<"&$F30) | F29: 46143
D30: Jun | E30: =COUNTIFS('Rego Register'!$I$4:$I$113,">="&$F30,'Rego Register'!$I$4:$I$113,"<"&$F31) | F30: 46174
D31: Jul | E31: =COUNTIFS('Rego Register'!$I$4:$I$113,">="&$F31,'Rego Register'!$I$4:$I$113,"<"&$F32) | F31: 46204
D32: Aug | E32: =COUNTIFS('Rego Register'!$I$4:$I$113,">="&$F32,'Rego Register'!$I$4:$I$113,"<"&$F33) | F32: 46235
D33: Sep | E33: =COUNTIFS('Rego Register'!$I$4:$I$113,">="&$F33,'Rego Register'!$I$4:$I$113,"<"&$F34) | F33: 46266
D34: Oct | E34: =COUNTIFS('Rego Register'!$I$4:$I$113,">="&$F34,'Rego Register'!$I$4:$I$113,"<"&$F35) | F34: 46296
D35: Nov | E35: =COUNTIFS('Rego Register'!$I$4:$I$113,">="&$F35,'Rego Register'!$I$4:$I$113,"<"&$F36) | F35: 46327
D36: Dec | E36: =COUNTIFS('Rego Register'!$I$4:$I$113,">="&$F36,'Rego Register'!$I$4:$I$113,"<"&($F36+31)) | F36: 46357
A38: Upcoming and Overdue Renewals
A39: Vehicle ID | B39: Registration Number | C39: Vehicle Description | D39: State / Territory | E39: City | F39: Expiry Date | G39: Days Remaining | H39: Renewal Status
A40: =IF(OR('Rego Register'!$M$4="Due Soon",'Rego Register'!$M$4="Expired"),'Rego Register'!$A$4,"") | B40: =IF(OR('Rego Register'!$M$4="Due Soon",'Rego Register'!$M$4="Expired"),'Rego Register'!$B$4,"") | C40: =IF(OR('Rego Register'!$M$4="Due Soon",'Rego Register'!$M$4="Expired"),'Rego Register'!$C$4,"") | D40: =IF(OR('Rego Register'!$M$4="Due Soon",'Rego Register'!$M$4="Expired"),'Rego Register'!$F$4,"") | E40: =IF(OR('Rego Register'!$M$4="Due Soon",'Rego Register'!$M$4="Expired"),'Rego Register'!$G$4,"") | F40: =IF(OR('Rego Register'!$M$4="Due Soon",'Rego Register'!$M$4="Expired"),'Rego Register'!$I$4,"") | G40: =IF(OR('Rego Register'!$M$4="Due Soon",'Rego Register'!$M$4="Expired"),'Rego Register'!$J$4,"") | H40: =IF(OR('Rego Register'!$M$4="Due Soon",'Rego Register'!$M$4="Expired"),'Rego Register'!$M$4,"")
A41: =IF(OR('Rego Register'!$M$5="Due Soon",'Rego Register'!$M$5="Expired"),'Rego Register'!$A$5,"") | B41: =IF(OR('Rego Register'!$M$5="Due Soon",'Rego Register'!$M$5="Expired"),'Rego Register'!$B$5,"") | C41: =IF(OR('Rego Register'!$M$5="Due Soon",'Rego Register'!$M$5="Expired"),'Rego Register'!$C$5,"") | D41: =IF(OR('Rego Register'!$M$5="Due Soon",'Rego Register'!$M$5="Expired"),'Rego Register'!$F$5,"") | E41: =IF(OR('Rego Register'!$M$5="Due Soon",'Rego Register'!$M$5="Expired"),'Rego Register'!$G$5,"") | F41: =IF(OR('Rego Register'!$M$5="Due Soon",'Rego Register'!$M$5="Expired"),'Rego Register'!$I$5,"") | G41: =IF(OR('Rego Register'!$M$5="Due Soon",'Rego Register'!$M$5="Expired"),'Rego Register'!$J$5,"") | H41: =IF(OR('Rego Register'!$M$5="Due Soon",'Rego Register'!$M$5="Expired"),'Rego Register'!$M$5,"")
A42: =IF(OR('Rego Register'!$M$6="Due Soon",'Rego Register'!$M$6="Expired"),'Rego Register'!$A$6,"") | B42: =IF(OR('Rego Register'!$M$6="Due Soon",'Rego Register'!$M$6="Expired"),'Rego Register'!$B$6,"") | C42: =IF(OR('Rego Register'!$M$6="Due Soon",'Rego Register'!$M$6="Expired"),'Rego Register'!$C$6,"") | D42: =IF(OR('Rego Register'!$M$6="Due Soon",'Rego Register'!$M$6="Expired"),'Rego Register'!$F$6,"") | E42: =IF(OR('Rego Register'!$M$6="Due Soon",'Rego Register'!$M$6="Expired"),'Rego Register'!$G$6,"") | F42: =IF(OR('Rego Register'!$M$6="Due Soon",'Rego Register'!$M$6="Expired"),'Rego Register'!$I$6,"") | G42: =IF(OR('Rego Register'!$M$6="Due Soon",'Rego Register'!$M$6="Expired"),'Rego Register'!$J$6,"") | H42: =IF(OR('Rego Register'!$M$6="Due Soon",'Rego Register'!$M$6="Expired"),'Rego Register'!$M$6,"")
A43: =IF(OR('Rego Register'!$M$7="Due Soon",'Rego Register'!$M$7="Expired"),'Rego Register'!$A$7,"") | B43: =IF(OR('Rego Register'!$M$7="Due Soon",'Rego Register'!$M$7="Expired"),'Rego Register'!$B$7,"") | C43: =IF(OR('Rego Register'!$M$7="Due Soon",'Rego Register'!$M$7="Expired"),'Rego Register'!$C$7,"") | D43: =IF(OR('Rego Register'!$M$7="Due Soon",'Rego Register'!$M$7="Expired"),'Rego Register'!$F$7,"") | E43: =IF(OR('Rego Register'!$M$7="Due Soon",'Rego Register'!$M$7="Expired"),'Rego Register'!$G$7,"") | F43: =IF(OR('Rego Register'!$M$7="Due Soon",'Rego Register'!$M$7="Expired"),'Rego Register'!$I$7,"") | G43: =IF(OR('Rego Register'!$M$7="Due Soon",'Rego Register'!$M$7="Expired"),'Rego Register'!$J$7,"") | H43: =IF(OR('Rego Register'!$M$7="Due Soon",'Rego Register'!$M$7="Expired"),'Rego Register'!$M$7,"")
A44: =IF(OR('Rego Register'!$M$8="Due Soon",'Rego Register'!$M$8="Expired"),'Rego Register'!$A$8,"") | B44: =IF(OR('Rego Register'!$M$8="Due Soon",'Rego Register'!$M$8="Expired"),'Rego Register'!$B$8,"") | C44: =IF(OR('Rego Register'!$M$8="Due Soon",'Rego Register'!$M$8="Expired"),'Rego Register'!$C$8,"") | D44: =IF(OR('Rego Register'!$M$8="Due Soon",'Rego Register'!$M$8="Expired"),'Rego Register'!$F$8,"") | E44: =IF(OR('Rego Register'!$M$8="Due Soon",'Rego Register'!$M$8="Expired"),'Rego Register'!$G$8,"") | F44: =IF(OR('Rego Register'!$M$8="Due Soon",'Rego Register'!$M$8="Expired"),'Rego Register'!$I$8,"") | G44: =IF(OR('Rego Register'!$M$8="Due Soon",'Rego Register'!$M$8="Expired"),'Rego Register'!$J$8,"") | H44: =IF(OR('Rego Register'!$M$8="Due Soon",'Rego Register'!$M$8="Expired"),'Rego Register'!$M$8,"")
A45: =IF(OR('Rego Register'!$M$9="Due Soon",'Rego Register'!$M$9="Expired"),'Rego Register'!$A$9,"") | B45: =IF(OR('Rego Register'!$M$9="Due Soon",'Rego Register'!$M$9="Expired"),'Rego Register'!$B$9,"") | C45: =IF(OR('Rego Register'!$M$9="Due Soon",'Rego Register'!$M$9="Expired"),'Rego Register'!$C$9,"") | D45: =IF(OR('Rego Register'!$M$9="Due Soon",'Rego Register'!$M$9="Expired"),'Rego Register'!$F$9,"") | E45: =IF(OR('Rego Register'!$M$9="Due Soon",'Rego Register'!$M$9="Expired"),'Rego Register'!$G$9,"") | F45: =IF(OR('Rego Register'!$M$9="Due Soon",'Rego Register'!$M$9="Expired"),'Rego Register'!$I$9,"") | G45: =IF(OR('Rego Register'!$M$9="Due Soon",'Rego Register'!$M$9="Expired"),'Rego Register'!$J$9,"") | H45: =IF(OR('Rego Register'!$M$9="Due Soon",'Rego Register'!$M$9="Expired"),'Rego Register'!$M$9,"")
A46: =IF(OR('Rego Register'!$M$10="Due Soon",'Rego Register'!$M$10="Expired"),'Rego Register'!$A$10,"") | B46: =IF(OR('Rego Register'!$M$10="Due Soon",'Rego Register'!$M$10="Expired"),'Rego Register'!$B$10,"") | C46: =IF(OR('Rego Register'!$M$10="Due Soon",'Rego Register'!$M$10="Expired"),'Rego Register'!$C$10,"") | D46: =IF(OR('Rego Register'!$M$10="Due Soon",'Rego Register'!$M$10="Expired"),'Rego Register'!$F$10,"") | E46: =IF(OR('Rego Register'!$M$10="Due Soon",'Rego Register'!$M$10="Expired"),'Rego Register'!$G$10,"") | F46: =IF(OR('Rego Register'!$M$10="Due Soon",'Rego Register'!$M$10="Expired"),'Rego Register'!$I$10,"") | G46: =IF(OR('Rego Register'!$M$10="Due Soon",'Rego Register'!$M$10="Expired"),'Rego Register'!$J$10,"") | H46: =IF(OR('Rego Register'!$M$10="Due Soon",'Rego Register'!$M$10="Expired"),'Rego Register'!$M$10,"")
A47: =IF(OR('Rego Register'!$M$11="Due Soon",'Rego Register'!$M$11="Expired"),'Rego Register'!$A$11,"") | B47: =IF(OR('Rego Register'!$M$11="Due Soon",'Rego Register'!$M$11="Expired"),'Rego Register'!$B$11,"") | C47: =IF(OR('Rego Register'!$M$11="Due Soon",'Rego Register'!$M$11="Expired"),'Rego Register'!$C$11,"") | D47: =IF(OR('Rego Register'!$M$11="Due Soon",'Rego Register'!$M$11="Expired"),'Rego Register'!$F$11,"") | E47: =IF(OR('Rego Register'!$M$11="Due Soon",'Rego Register'!$M$11="Expired"),'Rego Register'!$G$11,"") | F47: =IF(OR('Rego Register'!$M$11="Due Soon",'Rego Register'!$M$11="Expired"),'Rego Register'!$I$11,"") | G47: =IF(OR('Rego Register'!$M$11="Due Soon",'Rego Register'!$M$11="Expired"),'Rego Register'!$J$11,"") | H47: =IF(OR('Rego Register'!$M$11="Due Soon",'Rego Register'!$M$11="Expired"),'Rego Register'!$M$11,"")
A48: =IF(OR('Rego Register'!$M$12="Due Soon",'Rego Register'!$M$12="Expired"),'Rego Register'!$A$12,"") | B48: =IF(OR('Rego Register'!$M$12="Due Soon",'Rego Register'!$M$12="Expired"),'Rego Register'!$B$12,"") | C48: =IF(OR('Rego Register'!$M$12="Due Soon",'Rego Register'!$M$12="Expired"),'Rego Register'!$C$12,"") | D48: =IF(OR('Rego Register'!$M$12="Due Soon",'Rego Register'!$M$12="Expired"),'Rego Register'!$F$12,"") | E48: =IF(OR('Rego Register'!$M$12="Due Soon",'Rego Register'!$M$12="Expired"),'Rego Register'!$G$12,"") | F48: =IF(OR('Rego Register'!$M$12="Due Soon",'Rego Register'!$M$12="Expired"),'Rego Register'!$I$12,"") | G48: =IF(OR('Rego Register'!$M$12="Due Soon",'Rego Register'!$M$12="Expired"),'Rego Register'!$J$12,"") | H48: =IF(OR('Rego Register'!$M$12="Due Soon",'Rego Register'!$M$12="Expired"),'Rego Register'!$M$12,"")
A49: =IF(OR('Rego Register'!$M$13="Due Soon",'Rego Register'!$M$13="Expired"),'Rego Register'!$A$13,"") | B49: =IF(OR('Rego Register'!$M$13="Due Soon",'Rego Register'!$M$13="Expired"),'Rego Register'!$B$13,"") | C49: =IF(OR('Rego Register'!$M$13="Due Soon",'Rego Register'!$M$13="Expired"),'Rego Register'!$C$13,"") | D49: =IF(OR('Rego Register'!$M$13="Due Soon",'Rego Register'!$M$13="Expired"),'Rego Register'!$F$13,"") | E49: =IF(OR('Rego Register'!$M$13="Due Soon",'Rego Register'!$M$13="Expired"),'Rego Register'!$G$13,"") | F49: =IF(OR('Rego Register'!$M$13="Due Soon",'Rego Register'!$M$13="Expired"),'Rego Register'!$I$13,"") | G49: =IF(OR('Rego Register'!$M$13="Due Soon",'Rego Register'!$M$13="Expired"),'Rego Register'!$J$13,"") | H49: =IF(OR('Rego Register'!$M$13="Due Soon",'Rego Register'!$M$13="Expired"),'Rego Register'!$M$13,"")
A50: =IF(OR('Rego Register'!$M$14="Due Soon",'Rego Register'!$M$14="Expired"),'Rego Register'!$A$14,"") | B50: =IF(OR('Rego Register'!$M$14="Due Soon",'Rego Register'!$M$14="Expired"),'Rego Register'!$B$14,"") | C50: =IF(OR('Rego Register'!$M$14="Due Soon",'Rego Register'!$M$14="Expired"),'Rego Register'!$C$14,"") | D50: =IF(OR('Rego Register'!$M$14="Due Soon",'Rego Register'!$M$14="Expired"),'Rego Register'!$F$14,"") | E50: =IF(OR('Rego Register'!$M$14="Due Soon",'Rego Register'!$M$14="Expired"),'Rego Register'!$G$14,"") | F50: =IF(OR('Rego Register'!$M$14="Due Soon",'Rego Register'!$M$14="Expired"),'Rego Register'!$I$14,"") | G50: =IF(OR('Rego Register'!$M$14="Due Soon",'Rego Register'!$M$14="Expired"),'Rego Register'!$J$14,"") | H50: =IF(OR('Rego Register'!$M$14="Due Soon",'Rego Register'!$M$14="Expired"),'Rego Register'!$M$14,"")
A51: =IF(OR('Rego Register'!$M$15="Due Soon",'Rego Register'!$M$15="Expired"),'Rego Register'!$A$15,"") | B51: =IF(OR('Rego Register'!$M$15="Due Soon",'Rego Register'!$M$15="Expired"),'Rego Register'!$B$15,"") | C51: =IF(OR('Rego Register'!$M$15="Due Soon",'Rego Register'!$M$15="Expired"),'Rego Register'!$C$15,"") | D51: =IF(OR('Rego Register'!$M$15="Due Soon",'Rego Register'!$M$15="Expired"),'Rego Register'!$F$15,"") | E51: =IF(OR('Rego Register'!$M$15="Due Soon",'Rego Register'!$M$15="Expired"),'Rego Register'!$G$15,"") | F51: =IF(OR('Rego Register'!$M$15="Due Soon",'Rego Register'!$M$15="Expired"),'Rego Register'!$I$15,"") | G51: =IF(OR('Rego Register'!$M$15="Due Soon",'Rego Register'!$M$15="Expired"),'Rego Register'!$J$15,"") | H51: =IF(OR('Rego Register'!$M$15="Due Soon",'Rego Register'!$M$15="Expired"),'Rego Register'!$M$15,"")
A52: =IF(OR('Rego Register'!$M$16="Due Soon",'Rego Register'!$M$16="Expired"),'Rego Register'!$A$16,"") | B52: =IF(OR('Rego Register'!$M$16="Due Soon",'Rego Register'!$M$16="Expired"),'Rego Register'!$B$16,"") | C52: =IF(OR('Rego Register'!$M$16="Due Soon",'Rego Register'!$M$16="Expired"),'Rego Register'!$C$16,"") | D52: =IF(OR('Rego Register'!$M$16="Due Soon",'Rego Register'!$M$16="Expired"),'Rego Register'!$F$16,"") | E52: =IF(OR('Rego Register'!$M$16="Due Soon",'Rego Register'!$M$16="Expired"),'Rego Register'!$G$16,"") | F52: =IF(OR('Rego Register'!$M$16="Due Soon",'Rego Register'!$M$16="Expired"),'Rego Register'!$I$16,"") | G52: =IF(OR('Rego Register'!$M$16="Due Soon",'Rego Register'!$M$16="Expired"),'Rego Register'!$J$16,"") | H52: =IF(OR('Rego Register'!$M$16="Due Soon",'Rego Register'!$M$16="Expired"),'Rego Register'!$M$16,"")
A53: =IF(OR('Rego Register'!$M$17="Due Soon",'Rego Register'!$M$17="Expired"),'Rego Register'!$A$17,"") | B53: =IF(OR('Rego Register'!$M$17="Due Soon",'Rego Register'!$M$17="Expired"),'Rego Register'!$B$17,"") | C53: =IF(OR('Rego Register'!$M$17="Due Soon",'Rego Register'!$M$17="Expired"),'Rego Register'!$C$17,"") | D53: =IF(OR('Rego Register'!$M$17="Due Soon",'Rego Register'!$M$17="Expired"),'Rego Register'!$F$17,"") | E53: =IF(OR('Rego Register'!$M$17="Due Soon",'Rego Register'!$M$17="Expired"),'Rego Register'!$G$17,"") | F53: =IF(OR('Rego Register'!$M$17="Due Soon",'Rego Register'!$M$17="Expired"),'Rego Register'!$I$17,"") | G53: =IF(OR('Rego Register'!$M$17="Due Soon",'Rego Register'!$M$17="Expired"),'Rego Register'!$J$17,"") | H53: =IF(OR('Rego Register'!$M$17="Due Soon",'Rego Register'!$M$17="Expired"),'Rego Register'!$M$17,"")
A54: =IF(OR('Rego Register'!$M$18="Due Soon",'Rego Register'!$M$18="Expired"),'Rego Register'!$A$18,"") | B54: =IF(OR('Rego Register'!$M$18="Due Soon",'Rego Register'!$M$18="Expired"),'Rego Register'!$B$18,"") | C54: =IF(OR('Rego Register'!$M$18="Due Soon",'Rego Register'!$M$18="Expired"),'Rego Register'!$C$18,"") | D54: =IF(OR('Rego Register'!$M$18="Due Soon",'Rego Register'!$M$18="Expired"),'Rego Register'!$F$18,"") | E54: =IF(OR('Rego Register'!$M$18="Due Soon",'Rego Register'!$M$18="Expired"),'Rego Register'!$G$18,"") | F54: =IF(OR('Rego Register'!$M$18="Due Soon",'Rego Register'!$M$18="Expired"),'Rego Register'!$I$18,"") | G54: =IF(OR('Rego Register'!$M$18="Due Soon",'Rego Register'!$M$18="Expired"),'Rego Register'!$J$18,"") | H54: =IF(OR('Rego Register'!$M$18="Due Soon",'Rego Register'!$M$18="Expired"),'Rego Register'!$M$18,"")
A55: =IF(OR('Rego Register'!$M$19="Due Soon",'Rego Register'!$M$19="Expired"),'Rego Register'!$A$19,"") | B55: =IF(OR('Rego Register'!$M$19="Due Soon",'Rego Register'!$M$19="Expired"),'Rego Register'!$B$19,"") | C55: =IF(OR('Rego Register'!$M$19="Due Soon",'Rego Register'!$M$19="Expired"),'Rego Register'!$C$19,"") | D55: =IF(OR('Rego Register'!$M$19="Due Soon",'Rego Register'!$M$19="Expired"),'Rego Register'!$F$19,"") | E55: =IF(OR('Rego Register'!$M$19="Due Soon",'Rego Register'!$M$19="Expired"),'Rego Register'!$G$19,"") | F55: =IF(OR('Rego Register'!$M$19="Due Soon",'Rego Register'!$M$19="Expired"),'Rego Register'!$I$19,"") | G55: =IF(OR('Rego Register'!$M$19="Due Soon",'Rego Register'!$M$19="Expired"),'Rego Register'!$J$19,"") | H55: =IF(OR('Rego Register'!$M$19="Due Soon",'Rego Register'!$M$19="Expired"),'Rego Register'!$M$19,"")
A56: =IF(OR('Rego Register'!$M$20="Due Soon",'Rego Register'!$M$20="Expired"),'Rego Register'!$A$20,"") | B56: =IF(OR('Rego Register'!$M$20="Due Soon",'Rego Register'!$M$20="Expired"),'Rego Register'!$B$20,"") | C56: =IF(OR('Rego Register'!$M$20="Due Soon",'Rego Register'!$M$20="Expired"),'Rego Register'!$C$20,"") | D56: =IF(OR('Rego Register'!$M$20="Due Soon",'Rego Register'!$M$20="Expired"),'Rego Register'!$F$20,"") | E56: =IF(OR('Rego Register'!$M$20="Due Soon",'Rego Register'!$M$20="Expired"),'Rego Register'!$G$20,"") | F56: =IF(OR('Rego Register'!$M$20="Due Soon",'Rego Register'!$M$20="Expired"),'Rego Register'!$I$20,"") | G56: =IF(OR('Rego Register'!$M$20="Due Soon",'Rego Register'!$M$20="Expired"),'Rego Register'!$J$20,"") | H56: =IF(OR('Rego Register'!$M$20="Due Soon",'Rego Register'!$M$20="Expired"),'Rego Register'!$M$20,"")
A57: =IF(OR('Rego Register'!$M$21="Due Soon",'Rego Register'!$M$21="Expired"),'Rego Register'!$A$21,"") | B57: =IF(OR('Rego Register'!$M$21="Due Soon",'Rego Register'!$M$21="Expired"),'Rego Register'!$B$21,"") | C57: =IF(OR('Rego Register'!$M$21="Due Soon",'Rego Register'!$M$21="Expired"),'Rego Register'!$C$21,"") | D57: =IF(OR('Rego Register'!$M$21="Due Soon",'Rego Register'!$M$21="Expired"),'Rego Register'!$F$21,"") | E57: =IF(OR('Rego Register'!$M$21="Due Soon",'Rego Register'!$M$21="Expired"),'Rego Register'!$G$21,"") | F57: =IF(OR('Rego Register'!$M$21="Due Soon",'Rego Register'!$M$21="Expired"),'Rego Register'!$I$21,"") | G57: =IF(OR('Rego Register'!$M$21="Due Soon",'Rego Register'!$M$21="Expired"),'Rego Register'!$J$21,"") | H57: =IF(OR('Rego Register'!$M$21="Due Soon",'Rego Register'!$M$21="Expired"),'Rego Register'!$M$21,"")
A58: =IF(OR('Rego Register'!$M$22="Due Soon",'Rego Register'!$M$22="Expired"),'Rego Register'!$A$22,"") | B58: =IF(OR('Rego Register'!$M$22="Due Soon",'Rego Register'!$M$22="Expired"),'Rego Register'!$B$22,"") | C58: =IF(OR('Rego Register'!$M$22="Due Soon",'Rego Register'!$M$22="Expired"),'Rego Register'!$C$22,"") | D58: =IF(OR('Rego Register'!$M$22="Due Soon",'Rego Register'!$M$22="Expired"),'Rego Register'!$F$22,"") | E58: =IF(OR('Rego Register'!$M$22="Due Soon",'Rego Register'!$M$22="Expired"),'Rego Register'!$G$22,"") | F58: =IF(OR('Rego Register'!$M$22="Due Soon",'Rego Register'!$M$22="Expired"),'Rego Register'!$I$22,"") | G58: =IF(OR('Rego Register'!$M$22="Due Soon",'Rego Register'!$M$22="Expired"),'Rego Register'!$J$22,"") | H58: =IF(OR('Rego Register'!$M$22="Due Soon",'Rego Register'!$M$22="Expired"),'Rego Register'!$M$22,"")
A59: =IF(OR('Rego Register'!$M$23="Due Soon",'Rego Register'!$M$23="Expired"),'Rego Register'!$A$23,"") | B59: =IF(OR('Rego Register'!$M$23="Due Soon",'Rego Register'!$M$23="Expired"),'Rego Register'!$B$23,"") | C59: =IF(OR('Rego Register'!$M$23="Due Soon",'Rego Register'!$M$23="Expired"),'Rego Register'!$C$23,"") | D59: =IF(OR('Rego Register'!$M$23="Due Soon",'Rego Register'!$M$23="Expired"),'Rego Register'!$F$23,"") | E59: =IF(OR('Rego Register'!$M$23="Due Soon",'Rego Register'!$M$23="Expired"),'Rego Register'!$G$23,"") | F59: =IF(OR('Rego Register'!$M$23="Due Soon",'Rego Register'!$M$23="Expired"),'Rego Register'!$I$23,"") | G59: =IF(OR('Rego Register'!$M$23="Due Soon",'Rego Register'!$M$23="Expired"),'Rego Register'!$J$23,"") | H59: =IF(OR('Rego Register'!$M$23="Due Soon",'Rego Register'!$M$23="Expired"),'Rego Register'!$M$23,"")
A60: =IF(OR('Rego Register'!$M$24="Due Soon",'Rego Register'!$M$24="Expired"),'Rego Register'!$A$24,"") | B60: =IF(OR('Rego Register'!$M$24="Due Soon",'Rego Register'!$M$24="Expired"),'Rego Register'!$B$24,"") | C60: =IF(OR('Rego Register'!$M$24="Due Soon",'Rego Register'!$M$24="Expired"),'Rego Register'!$C$24,"") | D60: =IF(OR('Rego Register'!$M$24="Due Soon",'Rego Register'!$M$24="Expired"),'Rego Register'!$F$24,"") | E60: =IF(OR('Rego Register'!$M$24="Due Soon",'Rego Register'!$M$24="Expired"),'Rego Register'!$G$24,"") | F60: =IF(OR('Rego Register'!$M$24="Due Soon",'Rego Register'!$M$24="Expired"),'Rego Register'!$I$24,"") | G60: =IF(OR('Rego Register'!$M$24="Due Soon",'Rego Register'!$M$24="Expired"),'Rego Register'!$J$24,"") | H60: =IF(OR('Rego Register'!$M$24="Due Soon",'Rego Register'!$M$24="Expired"),'Rego Register'!$M$24,"")
A61: =IF(OR('Rego Register'!$M$25="Due Soon",'Rego Register'!$M$25="Expired"),'Rego Register'!$A$25,"") | B61: =IF(OR('Rego Register'!$M$25="Due Soon",'Rego Register'!$M$25="Expired"),'Rego Register'!$B$25,"") | C61: =IF(OR('Rego Register'!$M$25="Due Soon",'Rego Register'!$M$25="Expired"),'Rego Register'!$C$25,"") | D61: =IF(OR('Rego Register'!$M$25="Due Soon",'Rego Register'!$M$25="Expired"),'Rego Register'!$F$25,"") | E61: =IF(OR('Rego Register'!$M$25="Due Soon",'Rego Register'!$M$25="Expired"),'Rego Register'!$G$25,"") | F61: =IF(OR('Rego Register'!$M$25="Due Soon",'Rego Register'!$M$25="Expired"),'Rego Register'!$I$25,"") | G61: =IF(OR('Rego Register'!$M$25="Due Soon",'Rego Register'!$M$25="Expired"),'Rego Register'!$J$25,"") | H61: =IF(OR('Rego Register'!$M$25="Due Soon",'Rego Register'!$M$25="Expired"),'Rego Register'!$M$25,"")
A62: =IF(OR('Rego Register'!$M$26="Due Soon",'Rego Register'!$M$26="Expired"),'Rego Register'!$A$26,"") | B62: =IF(OR('Rego Register'!$M$26="Due Soon",'Rego Register'!$M$26="Expired"),'Rego Register'!$B$26,"") | C62: =IF(OR('Rego Register'!$M$26="Due Soon",'Rego Register'!$M$26="Expired"),'Rego Register'!$C$26,"") | D62: =IF(OR('Rego Register'!$M$26="Due Soon",'Rego Register'!$M$26="Expired"),'Rego Register'!$F$26,"") | E62: =IF(OR('Rego Register'!$M$26="Due Soon",'Rego Register'!$M$26="Expired"),'Rego Register'!$G$26,"") | F62: =IF(OR('Rego Register'!$M$26="Due Soon",'Rego Register'!$M$26="Expired"),'Rego Register'!$I$26,"") | G62: =IF(OR('Rego Register'!$M$26="Due Soon",'Rego Register'!$M$26="Expired"),'Rego Register'!$J$26,"") | H62: =IF(OR('Rego Register'!$M$26="Due Soon",'Rego Register'!$M$26="Expired"),'Rego Register'!$M$26,"")
A63: =IF(OR('Rego Register'!$M$27="Due Soon",'Rego Register'!$M$27="Expired"),'Rego Register'!$A$27,"") | B63: =IF(OR('Rego Register'!$M$27="Due Soon",'Rego Register'!$M$27="Expired"),'Rego Register'!$B$27,"") | C63: =IF(OR('Rego Register'!$M$27="Due Soon",'Rego Register'!$M$27="Expired"),'Rego Register'!$C$27,"") | D63: =IF(OR('Rego Register'!$M$27="Due Soon",'Rego Register'!$M$27="Expired"),'Rego Register'!$F$27,"") | E63: =IF(OR('Rego Register'!$M$27="Due Soon",'Rego Register'!$M$27="Expired"),'Rego Register'!$G$27,"") | F63: =IF(OR('Rego Register'!$M$27="Due Soon",'Rego Register'!$M$27="Expired"),'Rego Register'!$I$27,"") | G63: =IF(OR('Rego Register'!$M$27="Due Soon",'Rego Register'!$M$27="Expired"),'Rego Register'!$J$27,"") | H63: =IF(OR('Rego Register'!$M$27="Due Soon",'Rego Register'!$M$27="Expired"),'Rego Register'!$M$27,"")
A64: =IF(OR('Rego Register'!$M$28="Due Soon",'Rego Register'!$M$28="Expired"),'Rego Register'!$A$28,"") | B64: =IF(OR('Rego Register'!$M$28="Due Soon",'Rego Register'!$M$28="Expired"),'Rego Register'!$B$28,"") | C64: =IF(OR('Rego Register'!$M$28="Due Soon",'Rego Register'!$M$28="Expired"),'Rego Register'!$C$28,"") | D64: =IF(OR('Rego Register'!$M$28="Due Soon",'Rego Register'!$M$28="Expired"),'Rego Register'!$F$28,"") | E64: =IF(OR('Rego Register'!$M$28="Due Soon",'Rego Register'!$M$28="Expired"),'Rego Register'!$G$28,"") | F64: =IF(OR('Rego Register'!$M$28="Due Soon",'Rego Register'!$M$28="Expired"),'Rego Register'!$I$28,"") | G64: =IF(OR('Rego Register'!$M$28="Due Soon",'Rego Register'!$M$28="Expired"),'Rego Register'!$J$28,"") | H64: =IF(OR('Rego Register'!$M$28="Due Soon",'Rego Register'!$M$28="Expired"),'Rego Register'!$M$28,"")
A65: =IF(OR('Rego Register'!$M$29="Due Soon",'Rego Register'!$M$29="Expired"),'Rego Register'!$A$29,"") | B65: =IF(OR('Rego Register'!$M$29="Due Soon",'Rego Register'!$M$29="Expired"),'Rego Register'!$B$29,"") | C65: =IF(OR('Rego Register'!$M$29="Due Soon",'Rego Register'!$M$29="Expired"),'Rego Register'!$C$29,"") | D65: =IF(OR('Rego Register'!$M$29="Due Soon",'Rego Register'!$M$29="Expired"),'Rego Register'!$F$29,"") | E65: =IF(OR('Rego Register'!$M$29="Due Soon",'Rego Register'!$M$29="Expired"),'Rego Register'!$G$29,"") | F65: =IF(OR('Rego Register'!$M$29="Due Soon",'Rego Register'!$M$29="Expired"),'Rego Register'!$I$29,"") | G65: =IF(OR('Rego Register'!$M$29="Due Soon",'Rego Register'!$M$29="Expired"),'Rego Register'!$J$29,"") | H65: =IF(OR('Rego Register'!$M$29="Due Soon",'Rego Register'!$M$29="Expired"),'Rego Register'!$M$29,"")
A66: =IF(OR('Rego Register'!$M$30="Due Soon",'Rego Register'!$M$30="Expired"),'Rego Register'!$A$30,"") | B66: =IF(OR('Rego Register'!$M$30="Due Soon",'Rego Register'!$M$30="Expired"),'Rego Register'!$B$30,"") | C66: =IF(OR('Rego Register'!$M$30="Due Soon",'Rego Register'!$M$30="Expired"),'Rego Register'!$C$30,"") | D66: =IF(OR('Rego Register'!$M$30="Due Soon",'Rego Register'!$M$30="Expired"),'Rego Register'!$F$30,"") | E66: =IF(OR('Rego Register'!$M$30="Due Soon",'Rego Register'!$M$30="Expired"),'Rego Register'!$G$30,"") | F66: =IF(OR('Rego Register'!$M$30="Due Soon",'Rego Register'!$M$30="Expired"),'Rego Register'!$I$30,"") | G66: =IF(OR('Rego Register'!$M$30="Due Soon",'Rego Register'!$M$30="Expired"),'Rego Register'!$J$30,"") | H66: =IF(OR('Rego Register'!$M$30="Due Soon",'Rego Register'!$M$30="Expired"),'Rego Register'!$M$30,"")
A67: =IF(OR('Rego Register'!$M$31="Due Soon",'Rego Register'!$M$31="Expired"),'Rego Register'!$A$31,"") | B67: =IF(OR('Rego Register'!$M$31="Due Soon",'Rego Register'!$M$31="Expired"),'Rego Register'!$B$31,"") | C67: =IF(OR('Rego Register'!$M$31="Due Soon",'Rego Register'!$M$31="Expired"),'Rego Register'!$C$31,"") | D67: =IF(OR('Rego Register'!$M$31="Due Soon",'Rego Register'!$M$31="Expired"),'Rego Register'!$F$31,"") | E67: =IF(OR('Rego Register'!$M$31="Due Soon",'Rego Register'!$M$31="Expired"),'Rego Register'!$G$31,"") | F67: =IF(OR('Rego Register'!$M$31="Due Soon",'Rego Register'!$M$31="Expired"),'Rego Register'!$I$31,"") | G67: =IF(OR('Rego Register'!$M$31="Due Soon",'Rego Register'!$M$31="Expired"),'Rego Register'!$J$31,"") | H67: =IF(OR('Rego Register'!$M$31="Due Soon",'Rego Register'!$M$31="Expired"),'Rego Register'!$M$31,"")
A68: =IF(OR('Rego Register'!$M$32="Due Soon",'Rego Register'!$M$32="Expired"),'Rego Register'!$A$32,"") | B68: =IF(OR('Rego Register'!$M$32="Due Soon",'Rego Register'!$M$32="Expired"),'Rego Register'!$B$32,"") | C68: =IF(OR('Rego Register'!$M$32="Due Soon",'Rego Register'!$M$32="Expired"),'Rego Register'!$C$32,"") | D68: =IF(OR('Rego Register'!$M$32="Due Soon",'Rego Register'!$M$32="Expired"),'Rego Register'!$F$32,"") | E68: =IF(OR('Rego Register'!$M$32="Due Soon",'Rego Register'!$M$32="Expired"),'Rego Register'!$G$32,"") | F68: =IF(OR('Rego Register'!$M$32="Due Soon",'Rego Register'!$M$32="Expired"),'Rego Register'!$I$32,"") | G68: =IF(OR('Rego Register'!$M$32="Due Soon",'Rego Register'!$M$32="Expired"),'Rego Register'!$J$32,"") | H68: =IF(OR('Rego Register'!$M$32="Due Soon",'Rego Register'!$M$32="Expired"),'Rego Register'!$M$32,"")
A69: =IF(OR('Rego Register'!$M$33="Due Soon",'Rego Register'!$M$33="Expired"),'Rego Register'!$A$33,"") | B69: =IF(OR('Rego Register'!$M$33="Due Soon",'Rego Register'!$M$33="Expired"),'Rego Register'!$B$33,"") | C69: =IF(OR('Rego Register'!$M$33="Due Soon",'Rego Register'!$M$33="Expired"),'Rego Register'!$C$33,"") | D69: =IF(OR('Rego Register'!$M$33="Due Soon",'Rego Register'!$M$33="Expired"),'Rego Register'!$F$33,"") | E69: =IF(OR('Rego Register'!$M$33="Due Soon",'Rego Register'!$M$33="Expired"),'Rego Register'!$G$33,"") | F69: =IF(OR('Rego Register'!$M$33="Due Soon",'Rego Register'!$M$33="Expired"),'Rego Register'!$I$33,"") | G69: =IF(OR('Rego Register'!$M$33="Due Soon",'Rego Register'!$M$33="Expired"),'Rego Register'!$J$33,"") | H69: =IF(OR('Rego Register'!$M$33="Due Soon",'Rego Register'!$M$33="Expired"),'Rego Register'!$M$33,"")
A70: =IF(OR('Rego Register'!$M$34="Due Soon",'Rego Register'!$M$34="Expired"),'Rego Register'!$A$34,"") | B70: =IF(OR('Rego Register'!$M$34="Due Soon",'Rego Register'!$M$34="Expired"),'Rego Register'!$B$34,"") | C70: =IF(OR('Rego Register'!$M$34="Due Soon",'Rego Register'!$M$34="Expired"),'Rego Register'!$C$34,"") | D70: =IF(OR('Rego Register'!$M$34="Due Soon",'Rego Register'!$M$34="Expired"),'Rego Register'!$F$34,"") | E70: =IF(OR('Rego Register'!$M$34="Due Soon",'Rego Register'!$M$34="Expired"),'Rego Register'!$G$34,"") | F70: =IF(OR('Rego Register'!$M$34="Due Soon",'Rego Register'!$M$34="Expired"),'Rego Register'!$I$34,"") | G70: =IF(OR('Rego Register'!$M$34="Due Soon",'Rego Register'!$M$34="Expired"),'Rego Register'!$J$34,"") | H70: =IF(OR('Rego Register'!$M$34="Due Soon",'Rego Register'!$M$34="Expired"),'Rego Register'!$M$34,"")
A71: =IF(OR('Rego Register'!$M$35="Due Soon",'Rego Register'!$M$35="Expired"),'Rego Register'!$A$35,"") | B71: =IF(OR('Rego Register'!$M$35="Due Soon",'Rego Register'!$M$35="Expired"),'Rego Register'!$B$35,"") | C71: =IF(OR('Rego Register'!$M$35="Due Soon",'Rego Register'!$M$35="Expired"),'Rego Register'!$C$35,"") | D71: =IF(OR('Rego Register'!$M$35="Due Soon",'Rego Register'!$M$35="Expired"),'Rego Register'!$F$35,"") | E71: =IF(OR('Rego Register'!$M$35="Due Soon",'Rego Register'!$M$35="Expired"),'Rego Register'!$G$35,"") | F71: =IF(OR('Rego Register'!$M$35="Due Soon",'Rego Register'!$M$35="Expired"),'Rego Register'!$I$35,"") | G71: =IF(OR('Rego Register'!$M$35="Due Soon",'Rego Register'!$M$35="Expired"),'Rego Register'!$J$35,"") | H71: =IF(OR('Rego Register'!$M$35="Due Soon",'Rego Register'!$M$35="Expired"),'Rego Register'!$M$35,"")
A72: =IF(OR('Rego Register'!$M$36="Due Soon",'Rego Register'!$M$36="Expired"),'Rego Register'!$A$36,"") | B72: =IF(OR('Rego Register'!$M$36="Due Soon",'Rego Register'!$M$36="Expired"),'Rego Register'!$B$36,"") | C72: =IF(OR('Rego Register'!$M$36="Due Soon",'Rego Register'!$M$36="Expired"),'Rego Register'!$C$36,"") | D72: =IF(OR('Rego Register'!$M$36="Due Soon",'Rego Register'!$M$36="Expired"),'Rego Register'!$F$36,"") | E72: =IF(OR('Rego Register'!$M$36="Due Soon",'Rego Register'!$M$36="Expired"),'Rego Register'!$G$36,"") | F72: =IF(OR('Rego Register'!$M$36="Due Soon",'Rego Register'!$M$36="Expired"),'Rego Register'!$I$36,"") | G72: =IF(OR('Rego Register'!$M$36="Due Soon",'Rego Register'!$M$36="Expired"),'Rego Register'!$J$36,"") | H72: =IF(OR('Rego Register'!$M$36="Due Soon",'Rego Register'!$M$36="Expired"),'Rego Register'!$M$36,"")
A73: =IF(OR('Rego Register'!$M$37="Due Soon",'Rego Register'!$M$37="Expired"),'Rego Register'!$A$37,"") | B73: =IF(OR('Rego Register'!$M$37="Due Soon",'Rego Register'!$M$37="Expired"),'Rego Register'!$B$37,"") | C73: =IF(OR('Rego Register'!$M$37="Due Soon",'Rego Register'!$M$37="Expired"),'Rego Register'!$C$37,"") | D73: =IF(OR('Rego Register'!$M$37="Due Soon",'Rego Register'!$M$37="Expired"),'Rego Register'!$F$37,"") | E73: =IF(OR('Rego Register'!$M$37="Due Soon",'Rego Register'!$M$37="Expired"),'Rego Register'!$G$37,"") | F73: =IF(OR('Rego Register'!$M$37="Due Soon",'Rego Register'!$M$37="Expired"),'Rego Register'!$I$37,"") | G73: =IF(OR('Rego Register'!$M$37="Due Soon",'Rego Register'!$M$37="Expired"),'Rego Register'!$J$37,"") | H73: =IF(OR('Rego Register'!$M$37="Due Soon",'Rego Register'!$M$37="Expired"),'Rego Register'!$M$37,"")
A74: =IF(OR('Rego Register'!$M$38="Due Soon",'Rego Register'!$M$38="Expired"),'Rego Register'!$A$38,"") | B74: =IF(OR('Rego Register'!$M$38="Due Soon",'Rego Register'!$M$38="Expired"),'Rego Register'!$B$38,"") | C74: =IF(OR('Rego Register'!$M$38="Due Soon",'Rego Register'!$M$38="Expired"),'Rego Register'!$C$38,"") | D74: =IF(OR('Rego Register'!$M$38="Due Soon",'Rego Register'!$M$38="Expired"),'Rego Register'!$F$38,"") | E74: =IF(OR('Rego Register'!$M$38="Due Soon",'Rego Register'!$M$38="Expired"),'Rego Register'!$G$38,"") | F74: =IF(OR('Rego Register'!$M$38="Due Soon",'Rego Register'!$M$38="Expired"),'Rego Register'!$I$38,"") | G74: =IF(OR('Rego Register'!$M$38="Due Soon",'Rego Register'!$M$38="Expired"),'Rego Register'!$J$38,"") | H74: =IF(OR('Rego Register'!$M$38="Due Soon",'Rego Register'!$M$38="Expired"),'Rego Register'!$M$38,"")
A75: =IF(OR('Rego Register'!$M$39="Due Soon",'Rego Register'!$M$39="Expired"),'Rego Register'!$A$39,"") | B75: =IF(OR('Rego Register'!$M$39="Due Soon",'Rego Register'!$M$39="Expired"),'Rego Register'!$B$39,"") | C75: =IF(OR('Rego Register'!$M$39="Due Soon",'Rego Register'!$M$39="Expired"),'Rego Register'!$C$39,"") | D75: =IF(OR('Rego Register'!$M$39="Due Soon",'Rego Register'!$M$39="Expired"),'Rego Register'!$F$39,"") | E75: =IF(OR('Rego Register'!$M$39="Due Soon",'Rego Register'!$M$39="Expired"),'Rego Register'!$G$39,"") | F75: =IF(OR('Rego Register'!$M$39="Due Soon",'Rego Register'!$M$39="Expired"),'Rego Register'!$I$39,"") | G75: =IF(OR('Rego Register'!$M$39="Due Soon",'Rego Register'!$M$39="Expired"),'Rego Register'!$J$39,"") | H75: =IF(OR('Rego Register'!$M$39="Due Soon",'Rego Register'!$M$39="Expired"),'Rego Register'!$M$39,"")
A76: =IF(OR('Rego Register'!$M$40="Due Soon",'Rego Register'!$M$40="Expired"),'Rego Register'!$A$40,"") | B76: =IF(OR('Rego Register'!$M$40="Due Soon",'Rego Register'!$M$40="Expired"),'Rego Register'!$B$40,"") | C76: =IF(OR('Rego Register'!$M$40="Due Soon",'Rego Register'!$M$40="Expired"),'Rego Register'!$C$40,"") | D76: =IF(OR('Rego Register'!$M$40="Due Soon",'Rego Register'!$M$40="Expired"),'Rego Register'!$F$40,"") | E76: =IF(OR('Rego Register'!$M$40="Due Soon",'Rego Register'!$M$40="Expired"),'Rego Register'!$G$40,"") | F76: =IF(OR('Rego Register'!$M$40="Due Soon",'Rego Register'!$M$40="Expired"),'Rego Register'!$I$40,"") | G76: =IF(OR('Rego Register'!$M$40="Due Soon",'Rego Register'!$M$40="Expired"),'Rego Register'!$J$40,"") | H76: =IF(OR('Rego Register'!$M$40="Due Soon",'Rego Register'!$M$40="Expired"),'Rego Register'!$M$40,"")
A77: =IF(OR('Rego Register'!$M$41="Due Soon",'Rego Register'!$M$41="Expired"),'Rego Register'!$A$41,"") | B77: =IF(OR('Rego Register'!$M$41="Due Soon",'Rego Register'!$M$41="Expired"),'Rego Register'!$B$41,"") | C77: =IF(OR('Rego Register'!$M$41="Due Soon",'Rego Register'!$M$41="Expired"),'Rego Register'!$C$41,"") | D77: =IF(OR('Rego Register'!$M$41="Due Soon",'Rego Register'!$M$41="Expired"),'Rego Register'!$F$41,"") | E77: =IF(OR('Rego Register'!$M$41="Due Soon",'Rego Register'!$M$41="Expired"),'Rego Register'!$G$41,"") | F77: =IF(OR('Rego Register'!$M$41="Due Soon",'Rego Register'!$M$41="Expired"),'Rego Register'!$I$41,"") | G77: =IF(OR('Rego Register'!$M$41="Due Soon",'Rego Register'!$M$41="Expired"),'Rego Register'!$J$41,"") | H77: =IF(OR('Rego Register'!$M$41="Due Soon",'Rego Register'!$M$41="Expired"),'Rego Register'!$M$41,"")
A78: =IF(OR('Rego Register'!$M$42="Due Soon",'Rego Register'!$M$42="Expired"),'Rego Register'!$A$42,"") | B78: =IF(OR('Rego Register'!$M$42="Due Soon",'Rego Register'!$M$42="Expired"),'Rego Register'!$B$42,"") | C78: =IF(OR('Rego Register'!$M$42="Due Soon",'Rego Register'!$M$42="Expired"),'Rego Register'!$C$42,"") | D78: =IF(OR('Rego Register'!$M$42="Due Soon",'Rego Register'!$M$42="Expired"),'Rego Register'!$F$42,"") | E78: =IF(OR('Rego Register'!$M$42="Due Soon",'Rego Register'!$M$42="Expired"),'Rego Register'!$G$42,"") | F78: =IF(OR('Rego Register'!$M$42="Due Soon",'Rego Register'!$M$42="Expired"),'Rego Register'!$I$42,"") | G78: =IF(OR('Rego Register'!$M$42="Due Soon",'Rego Register'!$M$42="Expired"),'Rego Register'!$J$42,"") | H78: =IF(OR('Rego Register'!$M$42="Due Soon",'Rego Register'!$M$42="Expired"),'Rego Register'!$M$42,"")
A79: =IF(OR('Rego Register'!$M$43="Due Soon",'Rego Register'!$M$43="Expired"),'Rego Register'!$A$43,"") | B79: =IF(OR('Rego Register'!$M$43="Due Soon",'Rego Register'!$M$43="Expired"),'Rego Register'!$B$43,"") | C79: =IF(OR('Rego Register'!$M$43="Due Soon",'Rego Register'!$M$43="Expired"),'Rego Register'!$C$43,"") | D79: =IF(OR('Rego Register'!$M$43="Due Soon",'Rego Register'!$M$43="Expired"),'Rego Register'!$F$43,"") | E79: =IF(OR('Rego Register'!$M$43="Due Soon",'Rego Register'!$M$43="Expired"),'Rego Register'!$G$43,"") | F79: =IF(OR('Rego Register'!$M$43="Due Soon",'Rego Register'!$M$43="Expired"),'Rego Register'!$I$43,"") | G79: =IF(OR('Rego Register'!$M$43="Due Soon",'Rego Register'!$M$43="Expired"),'Rego Register'!$J$43,"") | H79: =IF(OR('Rego Register'!$M$43="Due Soon",'Rego Register'!$M$43="Expired"),'Rego Register'!$M$43,"")
A80: =IF(OR('Rego Register'!$M$44="Due Soon",'Rego Register'!$M$44="Expired"),'Rego Register'!$A$44,"") | B80: =IF(OR('Rego Register'!$M$44="Due Soon",'Rego Register'!$M$44="Expired"),'Rego Register'!$B$44,"") | C80: =IF(OR('Rego Register'!$M$44="Due Soon",'Rego Register'!$M$44="Expired"),'Rego Register'!$C$44,"") | D80: =IF(OR('Rego Register'!$M$44="Due Soon",'Rego Register'!$M$44="Expired"),'Rego Register'!$F$44,"") | E80: =IF(OR('Rego Register'!$M$44="Due Soon",'Rego Register'!$M$44="Expired"),'Rego Register'!$G$44,"") | F80: =IF(OR('Rego Register'!$M$44="Due Soon",'Rego Register'!$M$44="Expired"),'Rego Register'!$I$44,"") | G80: =IF(OR('Rego Register'!$M$44="Due Soon",'Rego Register'!$M$44="Expired"),'Rego Register'!$J$44,"") | H80: =IF(OR('Rego Register'!$M$44="Due Soon",'Rego Register'!$M$44="Expired"),'Rego Register'!$M$44,"")
A81: =IF(OR('Rego Register'!$M$45="Due Soon",'Rego Register'!$M$45="Expired"),'Rego Register'!$A$45,"") | B81: =IF(OR('Rego Register'!$M$45="Due Soon",'Rego Register'!$M$45="Expired"),'Rego Register'!$B$45,"") | C81: =IF(OR('Rego Register'!$M$45="Due Soon",'Rego Register'!$M$45="Expired"),'Rego Register'!$C$45,"") | D81: =IF(OR('Rego Register'!$M$45="Due Soon",'Rego Register'!$M$45="Expired"),'Rego Register'!$F$45,"") | E81: =IF(OR('Rego Register'!$M$45="Due Soon",'Rego Register'!$M$45="Expired"),'Rego Register'!$G$45,"") | F81: =IF(OR('Rego Register'!$M$45="Due Soon",'Rego Register'!$M$45="Expired"),'Rego Register'!$I$45,"") | G81: =IF(OR('Rego Register'!$M$45="Due Soon",'Rego Register'!$M$45="Expired"),'Rego Register'!$J$45,"") | H81: =IF(OR('Rego Register'!$M$45="Due Soon",'Rego Register'!$M$45="Expired"),'Rego Register'!$M$45,"")
A82: =IF(OR('Rego Register'!$M$46="Due Soon",'Rego Register'!$M$46="Expired"),'Rego Register'!$A$46,"") | B82: =IF(OR('Rego Register'!$M$46="Due Soon",'Rego Register'!$M$46="Expired"),'Rego Register'!$B$46,"") | C82: =IF(OR('Rego Register'!$M$46="Due Soon",'Rego Register'!$M$46="Expired"),'Rego Register'!$C$46,"") | D82: =IF(OR('Rego Register'!$M$46="Due Soon",'Rego Register'!$M$46="Expired"),'Rego Register'!$F$46,"") | E82: =IF(OR('Rego Register'!$M$46="Due Soon",'Rego Register'!$M$46="Expired"),'Rego Register'!$G$46,"") | F82: =IF(OR('Rego Register'!$M$46="Due Soon",'Rego Register'!$M$46="Expired"),'Rego Register'!$I$46,"") | G82: =IF(OR('Rego Register'!$M$46="Due Soon",'Rego Register'!$M$46="Expired"),'Rego Register'!$J$46,"") | H82: =IF(OR('Rego Register'!$M$46="Due Soon",'Rego Register'!$M$46="Expired"),'Rego Register'!$M$46,"")
A83: =IF(OR('Rego Register'!$M$47="Due Soon",'Rego Register'!$M$47="Expired"),'Rego Register'!$A$47,"") | B83: =IF(OR('Rego Register'!$M$47="Due Soon",'Rego Register'!$M$47="Expired"),'Rego Register'!$B$47,"") | C83: =IF(OR('Rego Register'!$M$47="Due Soon",'Rego Register'!$M$47="Expired"),'Rego Register'!$C$47,"") | D83: =IF(OR('Rego Register'!$M$47="Due Soon",'Rego Register'!$M$47="Expired"),'Rego Register'!$F$47,"") | E83: =IF(OR('Rego Register'!$M$47="Due Soon",'Rego Register'!$M$47="Expired"),'Rego Register'!$G$47,"") | F83: =IF(OR('Rego Register'!$M$47="Due Soon",'Rego Register'!$M$47="Expired"),'Rego Register'!$I$47,"") | G83: =IF(OR('Rego Register'!$M$47="Due Soon",'Rego Register'!$M$47="Expired"),'Rego Register'!$J$47,"") | H83: =IF(OR('Rego Register'!$M$47="Due Soon",'Rego Register'!$M$47="Expired"),'Rego Register'!$M$47,"")
A84: =IF(OR('Rego Register'!$M$48="Due Soon",'Rego Register'!$M$48="Expired"),'Rego Register'!$A$48,"") | B84: =IF(OR('Rego Register'!$M$48="Due Soon",'Rego Register'!$M$48="Expired"),'Rego Register'!$B$48,"") | C84: =IF(OR('Rego Register'!$M$48="Due Soon",'Rego Register'!$M$48="Expired"),'Rego Register'!$C$48,"") | D84: =IF(OR('Rego Register'!$M$48="Due Soon",'Rego Register'!$M$48="Expired"),'Rego Register'!$F$48,"") | E84: =IF(OR('Rego Register'!$M$48="Due Soon",'Rego Register'!$M$48="Expired"),'Rego Register'!$G$48,"") | F84: =IF(OR('Rego Register'!$M$48="Due Soon",'Rego Register'!$M$48="Expired"),'Rego Register'!$I$48,"") | G84: =IF(OR('Rego Register'!$M$48="Due Soon",'Rego Register'!$M$48="Expired"),'Rego Register'!$J$48,"") | H84: =IF(OR('Rego Register'!$M$48="Due Soon",'Rego Register'!$M$48="Expired"),'Rego Register'!$M$48,"")
A85: =IF(OR('Rego Register'!$M$49="Due Soon",'Rego Register'!$M$49="Expired"),'Rego Register'!$A$49,"") | B85: =IF(OR('Rego Register'!$M$49="Due Soon",'Rego Register'!$M$49="Expired"),'Rego Register'!$B$49,"") | C85: =IF(OR('Rego Register'!$M$49="Due Soon",'Rego Register'!$M$49="Expired"),'Rego Register'!$C$49,"") | D85: =IF(OR('Rego Register'!$M$49="Due Soon",'Rego Register'!$M$49="Expired"),'Rego Register'!$F$49,"") | E85: =IF(OR('Rego Register'!$M$49="Due Soon",'Rego Register'!$M$49="Expired"),'Rego Register'!$G$49,"") | F85: =IF(OR('Rego Register'!$M$49="Due Soon",'Rego Register'!$M$49="Expired"),'Rego Register'!$I$49,"") | G85: =IF(OR('Rego Register'!$M$49="Due Soon",'Rego Register'!$M$49="Expired"),'Rego Register'!$J$49,"") | H85: =IF(OR('Rego Register'!$M$49="Due Soon",'Rego Register'!$M$49="Expired"),'Rego Register'!$M$49,"")
A86: =IF(OR('Rego Register'!$M$50="Due Soon",'Rego Register'!$M$50="Expired"),'Rego Register'!$A$50,"") | B86: =IF(OR('Rego Register'!$M$50="Due Soon",'Rego Register'!$M$50="Expired"),'Rego Register'!$B$50,"") | C86: =IF(OR('Rego Register'!$M$50="Due Soon",'Rego Register'!$M$50="Expired"),'Rego Register'!$C$50,"") | D86: =IF(OR('Rego Register'!$M$50="Due Soon",'Rego Register'!$M$50="Expired"),'Rego Register'!$F$50,"") | E86: =IF(OR('Rego Register'!$M$50="Due Soon",'Rego Register'!$M$50="Expired"),'Rego Register'!$G$50,"") | F86: =IF(OR('Rego Register'!$M$50="Due Soon",'Rego Register'!$M$50="Expired"),'Rego Register'!$I$50,"") | G86: =IF(OR('Rego Register'!$M$50="Due Soon",'Rego Register'!$M$50="Expired"),'Rego Register'!$J$50,"") | H86: =IF(OR('Rego Register'!$M$50="Due Soon",'Rego Register'!$M$50="Expired"),'Rego Register'!$M$50,"")
A87: =IF(OR('Rego Register'!$M$51="Due Soon",'Rego Register'!$M$51="Expired"),'Rego Register'!$A$51,"") | B87: =IF(OR('Rego Register'!$M$51="Due Soon",'Rego Register'!$M$51="Expired"),'Rego Register'!$B$51,"") | C87: =IF(OR('Rego Register'!$M$51="Due Soon",'Rego Register'!$M$51="Expired"),'Rego Register'!$C$51,"") | D87: =IF(OR('Rego Register'!$M$51="Due Soon",'Rego Register'!$M$51="Expired"),'Rego Register'!$F$51,"") | E87: =IF(OR('Rego Register'!$M$51="Due Soon",'Rego Register'!$M$51="Expired"),'Rego Register'!$G$51,"") | F87: =IF(OR('Rego Register'!$M$51="Due Soon",'Rego Register'!$M$51="Expired"),'Rego Register'!$I$51,"") | G87: =IF(OR('Rego Register'!$M$51="Due Soon",'Rego Register'!$M$51="Expired"),'Rego Register'!$J$51,"") | H87: =IF(OR('Rego Register'!$M$51="Due Soon",'Rego Register'!$M$51="Expired"),'Rego Register'!$M$51,"")
A88: =IF(OR('Rego Register'!$M$52="Due Soon",'Rego Register'!$M$52="Expired"),'Rego Register'!$A$52,"") | B88: =IF(OR('Rego Register'!$M$52="Due Soon",'Rego Register'!$M$52="Expired"),'Rego Register'!$B$52,"") | C88: =IF(OR('Rego Register'!$M$52="Due Soon",'Rego Register'!$M$52="Expired"),'Rego Register'!$C$52,"") | D88: =IF(OR('Rego Register'!$M$52="Due Soon",'Rego Register'!$M$52="Expired"),'Rego Register'!$F$52,"") | E88: =IF(OR('Rego Register'!$M$52="Due Soon",'Rego Register'!$M$52="Expired"),'Rego Register'!$G$52,"") | F88: =IF(OR('Rego Register'!$M$52="Due Soon",'Rego Register'!$M$52="Expired"),'Rego Register'!$I$52,"") | G88: =IF(OR('Rego Register'!$M$52="Due Soon",'Rego Register'!$M$52="Expired"),'Rego Register'!$J$52,"") | H88: =IF(OR('Rego Register'!$M$52="Due Soon",'Rego Register'!$M$52="Expired"),'Rego Register'!$M$52,"")
A89: =IF(OR('Rego Register'!$M$53="Due Soon",'Rego Register'!$M$53="Expired"),'Rego Register'!$A$53,"") | B89: =IF(OR('Rego Register'!$M$53="Due Soon",'Rego Register'!$M$53="Expired"),'Rego Register'!$B$53,"") | C89: =IF(OR('Rego Register'!$M$53="Due Soon",'Rego Register'!$M$53="Expired"),'Rego Register'!$C$53,"") | D89: =IF(OR('Rego Register'!$M$53="Due Soon",'Rego Register'!$M$53="Expired"),'Rego Register'!$F$53,"") | E89: =IF(OR('Rego Register'!$M$53="Due Soon",'Rego Register'!$M$53="Expired"),'Rego Register'!$G$53,"") | F89: =IF(OR('Rego Register'!$M$53="Due Soon",'Rego Register'!$M$53="Expired"),'Rego Register'!$I$53,"") | G89: =IF(OR('Rego Register'!$M$53="Due Soon",'Rego Register'!$M$53="Expired"),'Rego Register'!$J$53,"") | H89: =IF(OR('Rego Register'!$M$53="Due Soon",'Rego Register'!$M$53="Expired"),'Rego Register'!$M$53,"")
A90: =IF(OR('Rego Register'!$M$54="Due Soon",'Rego Register'!$M$54="Expired"),'Rego Register'!$A$54,"") | B90: =IF(OR('Rego Register'!$M$54="Due Soon",'Rego Register'!$M$54="Expired"),'Rego Register'!$B$54,"") | C90: =IF(OR('Rego Register'!$M$54="Due Soon",'Rego Register'!$M$54="Expired"),'Rego Register'!$C$54,"") | D90: =IF(OR('Rego Register'!$M$54="Due Soon",'Rego Register'!$M$54="Expired"),'Rego Register'!$F$54,"") | E90: =IF(OR('Rego Register'!$M$54="Due Soon",'Rego Register'!$M$54="Expired"),'Rego Register'!$G$54,"") | F90: =IF(OR('Rego Register'!$M$54="Due Soon",'Rego Register'!$M$54="Expired"),'Rego Register'!$I$54,"") | G90: =IF(OR('Rego Register'!$M$54="Due Soon",'Rego Register'!$M$54="Expired"),'Rego Register'!$J$54,"") | H90: =IF(OR('Rego Register'!$M$54="Due Soon",'Rego Register'!$M$54="Expired"),'Rego Register'!$M$54,"")
A91: =IF(OR('Rego Register'!$M$55="Due Soon",'Rego Register'!$M$55="Expired"),'Rego Register'!$A$55,"") | B91: =IF(OR('Rego Register'!$M$55="Due Soon",'Rego Register'!$M$55="Expired"),'Rego Register'!$B$55,"") | C91: =IF(OR('Rego Register'!$M$55="Due Soon",'Rego Register'!$M$55="Expired"),'Rego Register'!$C$55,"") | D91: =IF(OR('Rego Register'!$M$55="Due Soon",'Rego Register'!$M$55="Expired"),'Rego Register'!$F$55,"") | E91: =IF(OR('Rego Register'!$M$55="Due Soon",'Rego Register'!$M$55="Expired"),'Rego Register'!$G$55,"") | F91: =IF(OR('Rego Register'!$M$55="Due Soon",'Rego Register'!$M$55="Expired"),'Rego Register'!$I$55,"") | G91: =IF(OR('Rego Register'!$M$55="Due Soon",'Rego Register'!$M$55="Expired"),'Rego Register'!$J$55,"") | H91: =IF(OR('Rego Register'!$M$55="Due Soon",'Rego Register'!$M$55="Expired"),'Rego Register'!$M$55,"")
A92: =IF(OR('Rego Register'!$M$56="Due Soon",'Rego Register'!$M$56="Expired"),'Rego Register'!$A$56,"") | B92: =IF(OR('Rego Register'!$M$56="Due Soon",'Rego Register'!$M$56="Expired"),'Rego Register'!$B$56,"") | C92: =IF(OR('Rego Register'!$M$56="Due Soon",'Rego Register'!$M$56="Expired"),'Rego Register'!$C$56,"") | D92: =IF(OR('Rego Register'!$M$56="Due Soon",'Rego Register'!$M$56="Expired"),'Rego Register'!$F$56,"") | E92: =IF(OR('Rego Register'!$M$56="Due Soon",'Rego Register'!$M$56="Expired"),'Rego Register'!$G$56,"") | F92: =IF(OR('Rego Register'!$M$56="Due Soon",'Rego Register'!$M$56="Expired"),'Rego Register'!$I$56,"") | G92: =IF(OR('Rego Register'!$M$56="Due Soon",'Rego Register'!$M$56="Expired"),'Rego Register'!$J$56,"") | H92: =IF(OR('Rego Register'!$M$56="Due Soon",'Rego Register'!$M$56="Expired"),'Rego Register'!$M$56,"")
A93: =IF(OR('Rego Register'!$M$57="Due Soon",'Rego Register'!$M$57="Expired"),'Rego Register'!$A$57,"") | B93: =IF(OR('Rego Register'!$M$57="Due Soon",'Rego Register'!$M$57="Expired"),'Rego Register'!$B$57,"") | C93: =IF(OR('Rego Register'!$M$57="Due Soon",'Rego Register'!$M$57="Expired"),'Rego Register'!$C$57,"") | D93: =IF(OR('Rego Register'!$M$57="Due Soon",'Rego Register'!$M$57="Expired"),'Rego Register'!$F$57,"") | E93: =IF(OR('Rego Register'!$M$57="Due Soon",'Rego Register'!$M$57="Expired"),'Rego Register'!$G$57,"") | F93: =IF(OR('Rego Register'!$M$57="Due Soon",'Rego Register'!$M$57="Expired"),'Rego Register'!$I$57,"") | G93: =IF(OR('Rego Register'!$M$57="Due Soon",'Rego Register'!$M$57="Expired"),'Rego Register'!$J$57,"") | H93: =IF(OR('Rego Register'!$M$57="Due Soon",'Rego Register'!$M$57="Expired"),'Rego Register'!$M$57,"")
A94: =IF(OR('Rego Register'!$M$58="Due Soon",'Rego Register'!$M$58="Expired"),'Rego Register'!$A$58,"") | B94: =IF(OR('Rego Register'!$M$58="Due Soon",'Rego Register'!$M$58="Expired"),'Rego Register'!$B$58,"") | C94: =IF(OR('Rego Register'!$M$58="Due Soon",'Rego Register'!$M$58="Expired"),'Rego Register'!$C$58,"") | D94: =IF(OR('Rego Register'!$M$58="Due Soon",'Rego Register'!$M$58="Expired"),'Rego Register'!$F$58,"") | E94: =IF(OR('Rego Register'!$M$58="Due Soon",'Rego Register'!$M$58="Expired"),'Rego Register'!$G$58,"") | F94: =IF(OR('Rego Register'!$M$58="Due Soon",'Rego Register'!$M$58="Expired"),'Rego Register'!$I$58,"") | G94: =IF(OR('Rego Register'!$M$58="Due Soon",'Rego Register'!$M$58="Expired"),'Rego Register'!$J$58,"") | H94: =IF(OR('Rego Register'!$M$58="Due Soon",'Rego Register'!$M$58="Expired"),'Rego Register'!$M$58,"")
A95: =IF(OR('Rego Register'!$M$59="Due Soon",'Rego Register'!$M$59="Expired"),'Rego Register'!$A$59,"") | B95: =IF(OR('Rego Register'!$M$59="Due Soon",'Rego Register'!$M$59="Expired"),'Rego Register'!$B$59,"") | C95: =IF(OR('Rego Register'!$M$59="Due Soon",'Rego Register'!$M$59="Expired"),'Rego Register'!$C$59,"") | D95: =IF(OR('Rego Register'!$M$59="Due Soon",'Rego Register'!$M$59="Expired"),'Rego Register'!$F$59,"") | E95: =IF(OR('Rego Register'!$M$59="Due Soon",'Rego Register'!$M$59="Expired"),'Rego Register'!$G$59,"") | F95: =IF(OR('Rego Register'!$M$59="Due Soon",'Rego Register'!$M$59="Expired"),'Rego Register'!$I$59,"") | G95: =IF(OR('Rego Register'!$M$59="Due Soon",'Rego Register'!$M$59="Expired"),'Rego Register'!$J$59,"") | H95: =IF(OR('Rego Register'!$M$59="Due Soon",'Rego Register'!$M$59="Expired"),'Rego Register'!$M$59,"")
A96: =IF(OR('Rego Register'!$M$60="Due Soon",'Rego Register'!$M$60="Expired"),'Rego Register'!$A$60,"") | B96: =IF(OR('Rego Register'!$M$60="Due Soon",'Rego Register'!$M$60="Expired"),'Rego Register'!$B$60,"") | C96: =IF(OR('Rego Register'!$M$60="Due Soon",'Rego Register'!$M$60="Expired"),'Rego Register'!$C$60,"") | D96: =IF(OR('Rego Register'!$M$60="Due Soon",'Rego Register'!$M$60="Expired"),'Rego Register'!$F$60,"") | E96: =IF(OR('Rego Register'!$M$60="Due Soon",'Rego Register'!$M$60="Expired"),'Rego Register'!$G$60,"") | F96: =IF(OR('Rego Register'!$M$60="Due Soon",'Rego Register'!$M$60="Expired"),'Rego Register'!$I$60,"") | G96: =IF(OR('Rego Register'!$M$60="Due Soon",'Rego Register'!$M$60="Expired"),'Rego Register'!$J$60,"") | H96: =IF(OR('Rego Register'!$M$60="Due Soon",'Rego Register'!$M$60="Expired"),'Rego Register'!$M$60,"")
A97: =IF(OR('Rego Register'!$M$61="Due Soon",'Rego Register'!$M$61="Expired"),'Rego Register'!$A$61,"") | B97: =IF(OR('Rego Register'!$M$61="Due Soon",'Rego Register'!$M$61="Expired"),'Rego Register'!$B$61,"") | C97: =IF(OR('Rego Register'!$M$61="Due Soon",'Rego Register'!$M$61="Expired"),'Rego Register'!$C$61,"") | D97: =IF(OR('Rego Register'!$M$61="Due Soon",'Rego Register'!$M$61="Expired"),'Rego Register'!$F$61,"") | E97: =IF(OR('Rego Register'!$M$61="Due Soon",'Rego Register'!$M$61="Expired"),'Rego Register'!$G$61,"") | F97: =IF(OR('Rego Register'!$M$61="Due Soon",'Rego Register'!$M$61="Expired"),'Rego Register'!$I$61,"") | G97: =IF(OR('Rego Register'!$M$61="Due Soon",'Rego Register'!$M$61="Expired"),'Rego Register'!$J$61,"") | H97: =IF(OR('Rego Register'!$M$61="Due Soon",'Rego Register'!$M$61="Expired"),'Rego Register'!$M$61,"")
A98: =IF(OR('Rego Register'!$M$62="Due Soon",'Rego Register'!$M$62="Expired"),'Rego Register'!$A$62,"") | B98: =IF(OR('Rego Register'!$M$62="Due Soon",'Rego Register'!$M$62="Expired"),'Rego Register'!$B$62,"") | C98: =IF(OR('Rego Register'!$M$62="Due Soon",'Rego Register'!$M$62="Expired"),'Rego Register'!$C$62,"") | D98: =IF(OR('Rego Register'!$M$62="Due Soon",'Rego Register'!$M$62="Expired"),'Rego Register'!$F$62,"") | E98: =IF(OR('Rego Register'!$M$62="Due Soon",'Rego Register'!$M$62="Expired"),'Rego Register'!$G$62,"") | F98: =IF(OR('Rego Register'!$M$62="Due Soon",'Rego Register'!$M$62="Expired"),'Rego Register'!$I$62,"") | G98: =IF(OR('Rego Register'!$M$62="Due Soon",'Rego Register'!$M$62="Expired"),'Rego Register'!$J$62,"") | H98: =IF(OR('Rego Register'!$M$62="Due Soon",'Rego Register'!$M$62="Expired"),'Rego Register'!$M$62,"")
A99: =IF(OR('Rego Register'!$M$63="Due Soon",'Rego Register'!$M$63="Expired"),'Rego Register'!$A$63,"") | B99: =IF(OR('Rego Register'!$M$63="Due Soon",'Rego Register'!$M$63="Expired"),'Rego Register'!$B$63,"") | C99: =IF(OR('Rego Register'!$M$63="Due Soon",'Rego Register'!$M$63="Expired"),'Rego Register'!$C$63,"") | D99: =IF(OR('Rego Register'!$M$63="Due Soon",'Rego Register'!$M$63="Expired"),'Rego Register'!$F$63,"") | E99: =IF(OR('Rego Register'!$M$63="Due Soon",'Rego Register'!$M$63="Expired"),'Rego Register'!$G$63,"") | F99: =IF(OR('Rego Register'!$M$63="Due Soon",'Rego Register'!$M$63="Expired"),'Rego Register'!$I$63,"") | G99: =IF(OR('Rego Register'!$M$63="Due Soon",'Rego Register'!$M$63="Expired"),'Rego Register'!$J$63,"") | H99: =IF(OR('Rego Register'!$M$63="Due Soon",'Rego Register'!$M$63="Expired"),'Rego Register'!$M$63,"")
A100: =IF(OR('Rego Register'!$M$64="Due Soon",'Rego Register'!$M$64="Expired"),'Rego Register'!$A$64,"") | B100: =IF(OR('Rego Register'!$M$64="Due Soon",'Rego Register'!$M$64="Expired"),'Rego Register'!$B$64,"") | C100: =IF(OR('Rego Register'!$M$64="Due Soon",'Rego Register'!$M$64="Expired"),'Rego Register'!$C$64,"") | D100: =IF(OR('Rego Register'!$M$64="Due Soon",'Rego Register'!$M$64="Expired"),'Rego Register'!$F$64,"") | E100: =IF(OR('Rego Register'!$M$64="Due Soon",'Rego Register'!$M$64="Expired"),'Rego Register'!$G$64,"") | F100: =IF(OR('Rego Register'!$M$64="Due Soon",'Rego Register'!$M$64="Expired"),'Rego Register'!$I$64,"") | G100: =IF(OR('Rego Register'!$M$64="Due Soon",'Rego Register'!$M$64="Expired"),'Rego Register'!$J$64,"") | H100: =IF(OR('Rego Register'!$M$64="Due Soon",'Rego Register'!$M$64="Expired"),'Rego Register'!$M$64,"")
A101: =IF(OR('Rego Register'!$M$65="Due Soon",'Rego Register'!$M$65="Expired"),'Rego Register'!$A$65,"") | B101: =IF(OR('Rego Register'!$M$65="Due Soon",'Rego Register'!$M$65="Expired"),'Rego Register'!$B$65,"") | C101: =IF(OR('Rego Register'!$M$65="Due Soon",'Rego Register'!$M$65="Expired"),'Rego Register'!$C$65,"") | D101: =IF(OR('Rego Register'!$M$65="Due Soon",'Rego Register'!$M$65="Expired"),'Rego Register'!$F$65,"") | E101: =IF(OR('Rego Register'!$M$65="Due Soon",'Rego Register'!$M$65="Expired"),'Rego Register'!$G$65,"") | F101: =IF(OR('Rego Register'!$M$65="Due Soon",'Rego Register'!$M$65="Expired"),'Rego Register'!$I$65,"") | G101: =IF(OR('Rego Register'!$M$65="Due Soon",'Rego Register'!$M$65="Expired"),'Rego Register'!$J$65,"") | H101: =IF(OR('Rego Register'!$M$65="Due Soon",'Rego Register'!$M$65="Expired"),'Rego Register'!$M$65,"")
A102: =IF(OR('Rego Register'!$M$66="Due Soon",'Rego Register'!$M$66="Expired"),'Rego Register'!$A$66,"") | B102: =IF(OR('Rego Register'!$M$66="Due Soon",'Rego Register'!$M$66="Expired"),'Rego Register'!$B$66,"") | C102: =IF(OR('Rego Register'!$M$66="Due Soon",'Rego Register'!$M$66="Expired"),'Rego Register'!$C$66,"") | D102: =IF(OR('Rego Register'!$M$66="Due Soon",'Rego Register'!$M$66="Expired"),'Rego Register'!$F$66,"") | E102: =IF(OR('Rego Register'!$M$66="Due Soon",'Rego Register'!$M$66="Expired"),'Rego Register'!$G$66,"") | F102: =IF(OR('Rego Register'!$M$66="Due Soon",'Rego Register'!$M$66="Expired"),'Rego Register'!$I$66,"") | G102: =IF(OR('Rego Register'!$M$66="Due Soon",'Rego Register'!$M$66="Expired"),'Rego Register'!$J$66,"") | H102: =IF(OR('Rego Register'!$M$66="Due Soon",'Rego Register'!$M$66="Expired"),'Rego Register'!$M$66,"")
A103: =IF(OR('Rego Register'!$M$67="Due Soon",'Rego Register'!$M$67="Expired"),'Rego Register'!$A$67,"") | B103: =IF(OR('Rego Register'!$M$67="Due Soon",'Rego Register'!$M$67="Expired"),'Rego Register'!$B$67,"") | C103: =IF(OR('Rego Register'!$M$67="Due Soon",'Rego Register'!$M$67="Expired"),'Rego Register'!$C$67,"") | D103: =IF(OR('Rego Register'!$M$67="Due Soon",'Rego Register'!$M$67="Expired"),'Rego Register'!$F$67,"") | E103: =IF(OR('Rego Register'!$M$67="Due Soon",'Rego Register'!$M$67="Expired"),'Rego Register'!$G$67,"") | F103: =IF(OR('Rego Register'!$M$67="Due Soon",'Rego Register'!$M$67="Expired"),'Rego Register'!$I$67,"") | G103: =IF(OR('Rego Register'!$M$67="Due Soon",'Rego Register'!$M$67="Expired"),'Rego Register'!$J$67,"") | H103: =IF(OR('Rego Register'!$M$67="Due Soon",'Rego Register'!$M$67="Expired"),'Rego Register'!$M$67,"")
...

Sheet Lists
A1: Rego Register Lists and Guidance
A3: State / Territory | B3: Registration Authority | C3: Default Renewal Fee (AUD) | D3: Reminder Lead Days | F3: Vehicle Class | G3: Payment Status
A4: NSW | B4: Service NSW | C4: 420 | D4: 30 | F4: Passenger | G4: Unpaid
A5: VIC | B5: VicRoads | C5: 395 | D5: 30 | F5: Commercial | G5: Paid
A6: QLD | B6: Department of Transport and Main Roads | C6: 410 | D6: 30 | F6: Motorcycle | G6: Not Required
A7: WA | B7: Department of Transport WA | C7: 385 | D7: 30
A8: SA | B8: Service SA | C8: 375 | D8: 30
A9: ACT | B9: Access Canberra | C9: 365 | D9: 30
A10: TAS | B10: Service Tasmania | C10: 350 | D10: 30
A13: Guidance
A14: Enter all dates as DD/MM/YYYY.
A15: Update Payment Status after each renewal is completed.
A16: Confirm actual renewal fees with the relevant state or territory authority.
A17: Renewal costs may include registration, compulsory third-party insurance, administration charges and optional inspections.
A18: Check current requirements before lodging or paying.

Sheet Instructions
A1: Workbook Instructions
A3: Area | B3: Purpose | C3: How to Use | D3: Operational Range
A4: Rego Register | B4: Central vehicle registration register. | C4: Enter or update pale yellow input cells. Formula columns calculate authority, reminders and renewal status automatically. | D4: Rows 4 to 113 provide 110 prepared vehicle records.
A5: Dashboard | B5: Management view of renewal activity. | C5: Review KPIs, state totals, upcoming and overdue vehicles, and charts. | D5: Charts and summaries use the full Rego Register operational range.
A6: Lists | B6: Lookup values and validation lists. | C6: Use the listed state, vehicle class and payment status values. Confirm fees and requirements before renewal. | D6: State lookup and dropdown sources are maintained on this sheet.
A9: Daily Use Guide
A10: Add each vehicle to the next available row in Rego Register.
A11: Enter expiry and renewal completed dates as DD/MM/YYYY.
A12: Review Due Soon and Expired registrations regularly.
A13: Set Payment Status to Paid once the renewal is complete.
A14: Confirm current fees, insurance, inspection and authority requirements before payment.
