Workbook

Sheet Roster
A1: Surf Club Patrol Roster
A2: Roster ID | B2: Patrol Date | C2: Day | D2: Location / Beach | E2: Shift | F2: Start Time | G2: End Time | H2: Member ID | I2: Member Name | J2: Role | K2: Qualification | L2: Attendance | M2: Hours | N2: Patrol Status | O2: Notes
A3: RST-26001 | B3: 46088 | C3: =IF(B3="","",B3) | D3: Bondi Beach, Sydney | E3: Morning Patrol | F3: 0.25 | G3: 0.41666667 | H3: SLS-26001 | I3: =IF(H3="","",IFERROR(VLOOKUP(H3,'Members'!$A$3:$G$102,2,FALSE),"")) | J3: Patrol Captain | K3: =IF(H3="","",IFERROR(VLOOKUP(H3,'Members'!$A$3:$G$102,5,FALSE),"")) | L3: Present | M3: =IF(OR(F3="",G3=""),"",IFERROR((G3-F3)*24,0)) | N3: =IF(A3="","",IF(L3="Present","Completed",IF(L3="Unconfirmed","Action Required","Review"))) | O3: Pre-season beach safety briefing completed
A4: RST-26002 | B4: 46095 | C4: =IF(B4="","",B4) | D4: Newcastle Beach, Newcastle | E4: Morning Patrol | F4: 0.29166667 | G4: 0.47916667 | H4: SLS-26002 | I4: =IF(H4="","",IFERROR(VLOOKUP(H4,'Members'!$A$3:$G$102,2,FALSE),"")) | J4: First Aid Officer | K4: =IF(H4="","",IFERROR(VLOOKUP(H4,'Members'!$A$3:$G$102,5,FALSE),"")) | L4: Late | M4: =IF(OR(F4="",G4=""),"",IFERROR((G4-F4)*24,0)) | N4: =IF(A4="","",IF(L4="Present","Completed",IF(L4="Unconfirmed","Action Required","Review"))) | O4: Arrived 15 minutes after sign-on
A5: RST-26003 | B5: 46102 | C5: =IF(B5="","",B5) | D5: Surfers Paradise, Gold Coast | E5: Dawn Patrol | F5: 0.27083333 | G5: 0.45833333 | H5: SLS-26003 | I5: =IF(H5="","",IFERROR(VLOOKUP(H5,'Members'!$A$3:$G$102,2,FALSE),"")) | J5: IRB Crew | K5: =IF(H5="","",IFERROR(VLOOKUP(H5,'Members'!$A$3:$G$102,5,FALSE),"")) | L5: Present | M5: =IF(OR(F5="",G5=""),"",IFERROR((G5-F5)*24,0)) | N5: =IF(A5="","",IF(L5="Present","Completed",IF(L5="Unconfirmed","Action Required","Review"))) | O5: IRB check completed before patrol
A6: RST-26004 | B6: 46116 | C6: =IF(B6="","",B6) | D6: Cottesloe Beach, Perth | E6: Morning Patrol | F6: 0.29166667 | G6: 0.5 | H6: SLS-26004 | I6: =IF(H6="","",IFERROR(VLOOKUP(H6,'Members'!$A$3:$G$102,2,FALSE),"")) | J6: Bronze Medallion Lifesaver | K6: =IF(H6="","",IFERROR(VLOOKUP(H6,'Members'!$A$3:$G$102,5,FALSE),"")) | L6: Unconfirmed | M6: =IF(OR(F6="",G6=""),"",IFERROR((G6-F6)*24,0)) | N6: =IF(A6="","",IF(L6="Present","Completed",IF(L6="Unconfirmed","Action Required","Review"))) | O6: Awaiting member response
A7: RST-26005 | B7: 46123 | C7: =IF(B7="","",B7) | D7: Glenelg Beach, Adelaide | E7: Morning Patrol | F7: 0.25 | G7: 0.41666667 | H7: SLS-26005 | I7: =IF(H7="","",IFERROR(VLOOKUP(H7,'Members'!$A$3:$G$102,2,FALSE),"")) | J7: Surf Rescue Technician | K7: =IF(H7="","",IFERROR(VLOOKUP(H7,'Members'!$A$3:$G$102,5,FALSE),"")) | L7: Excused | M7: =IF(OR(F7="",G7=""),"",IFERROR((G7-F7)*24,0)) | N7: =IF(A7="","",IF(L7="Present","Completed",IF(L7="Unconfirmed","Action Required","Review"))) | O7: Approved family commitment
A8: RST-26006 | B8: 46130 | C8: =IF(B8="","",B8) | D8: North Wollongong Beach, Wollongong | E8: Morning Patrol | F8: 0.27083333 | G8: 0.45833333 | H8: SLS-26006 | I8: =IF(H8="","",IFERROR(VLOOKUP(H8,'Members'!$A$3:$G$102,2,FALSE),"")) | J8: Surf Rescue Technician | K8: =IF(H8="","",IFERROR(VLOOKUP(H8,'Members'!$A$3:$G$102,5,FALSE),"")) | L8: Present | M8: =IF(OR(F8="",G8=""),"",IFERROR((G8-F8)*24,0)) | N8: =IF(A8="","",IF(L8="Present","Completed",IF(L8="Unconfirmed","Action Required","Review"))) | O8: Rescue board inspection logged
A9: RST-26007 | B9: 46137 | C9: =IF(B9="","",B9) | D9: St Kilda Beach, Melbourne | E9: Morning Patrol | F9: 0.29166667 | G9: 0.47916667 | H9: SLS-26007 | I9: =IF(H9="","",IFERROR(VLOOKUP(H9,'Members'!$A$3:$G$102,2,FALSE),"")) | J9: IRB Crew | K9: =IF(H9="","",IFERROR(VLOOKUP(H9,'Members'!$A$3:$G$102,5,FALSE),"")) | L9: Absent | M9: =IF(OR(F9="",G9=""),"",IFERROR((G9-F9)*24,0)) | N9: =IF(A9="","",IF(L9="Present","Completed",IF(L9="Unconfirmed","Action Required","Review"))) | O9: Replacement required for next patrol
A10: RST-26008 | B10: 46144 | C10: =IF(B10="","",B10) | D10: Manly Beach, Sydney | E10: Morning Patrol | F10: 0.25 | G10: 0.41666667 | H10: SLS-26008 | I10: =IF(H10="","",IFERROR(VLOOKUP(H10,'Members'!$A$3:$G$102,2,FALSE),"")) | J10: Radio Operator | K10: =IF(H10="","",IFERROR(VLOOKUP(H10,'Members'!$A$3:$G$102,5,FALSE),"")) | L10: Present | M10: =IF(OR(F10="",G10=""),"",IFERROR((G10-F10)*24,0)) | N10: =IF(A10="","",IF(L10="Present","Completed",IF(L10="Unconfirmed","Action Required","Review"))) | O10: Radio communications log completed
A11: RST-26009 | B11: 46151 | C11: =IF(B11="","",B11) | D11: Nobby's Beach, Newcastle | E11: Morning Patrol | F11: 0.29166667 | G11: 0.45833333 | H11: SLS-26009 | I11: =IF(H11="","",IFERROR(VLOOKUP(H11,'Members'!$A$3:$G$102,2,FALSE),"")) | J11: Bronze Medallion Lifesaver | K11: =IF(H11="","",IFERROR(VLOOKUP(H11,'Members'!$A$3:$G$102,5,FALSE),"")) | L11: Unconfirmed | M11: =IF(OR(F11="",G11=""),"",IFERROR((G11-F11)*24,0)) | N11: =IF(A11="","",IF(L11="Present","Completed",IF(L11="Unconfirmed","Action Required","Review"))) | O11: Confirm availability with Patrol Captain
A12: RST-26010 | B12: 46158 | C12: =IF(B12="","",B12) | D12: Kirra Beach, Gold Coast | E12: Dawn Patrol | F12: 0.27083333 | G12: 0.45833333 | H12: SLS-26010 | I12: =IF(H12="","",IFERROR(VLOOKUP(H12,'Members'!$A$3:$G$102,2,FALSE),"")) | J12: First Aid Officer | K12: =IF(H12="","",IFERROR(VLOOKUP(H12,'Members'!$A$3:$G$102,5,FALSE),"")) | L12: Present | M12: =IF(OR(F12="",G12=""),"",IFERROR((G12-F12)*24,0)) | N12: =IF(A12="","",IF(L12="Present","Completed",IF(L12="Unconfirmed","Action Required","Review"))) | O12: First aid kit inventory confirmed
C13: =IF(B13="","",B13) | I13: =IF(H13="","",IFERROR(VLOOKUP(H13,'Members'!$A$3:$G$102,2,FALSE),"")) | K13: =IF(H13="","",IFERROR(VLOOKUP(H13,'Members'!$A$3:$G$102,5,FALSE),"")) | M13: =IF(OR(F13="",G13=""),"",IFERROR((G13-F13)*24,0)) | N13: =IF(A13="","",IF(L13="Present","Completed",IF(L13="Unconfirmed","Action Required","Review")))
C14: =IF(B14="","",B14) | I14: =IF(H14="","",IFERROR(VLOOKUP(H14,'Members'!$A$3:$G$102,2,FALSE),"")) | K14: =IF(H14="","",IFERROR(VLOOKUP(H14,'Members'!$A$3:$G$102,5,FALSE),"")) | M14: =IF(OR(F14="",G14=""),"",IFERROR((G14-F14)*24,0)) | N14: =IF(A14="","",IF(L14="Present","Completed",IF(L14="Unconfirmed","Action Required","Review")))
C15: =IF(B15="","",B15) | I15: =IF(H15="","",IFERROR(VLOOKUP(H15,'Members'!$A$3:$G$102,2,FALSE),"")) | K15: =IF(H15="","",IFERROR(VLOOKUP(H15,'Members'!$A$3:$G$102,5,FALSE),"")) | M15: =IF(OR(F15="",G15=""),"",IFERROR((G15-F15)*24,0)) | N15: =IF(A15="","",IF(L15="Present","Completed",IF(L15="Unconfirmed","Action Required","Review")))
C16: =IF(B16="","",B16) | I16: =IF(H16="","",IFERROR(VLOOKUP(H16,'Members'!$A$3:$G$102,2,FALSE),"")) | K16: =IF(H16="","",IFERROR(VLOOKUP(H16,'Members'!$A$3:$G$102,5,FALSE),"")) | M16: =IF(OR(F16="",G16=""),"",IFERROR((G16-F16)*24,0)) | N16: =IF(A16="","",IF(L16="Present","Completed",IF(L16="Unconfirmed","Action Required","Review")))
C17: =IF(B17="","",B17) | I17: =IF(H17="","",IFERROR(VLOOKUP(H17,'Members'!$A$3:$G$102,2,FALSE),"")) | K17: =IF(H17="","",IFERROR(VLOOKUP(H17,'Members'!$A$3:$G$102,5,FALSE),"")) | M17: =IF(OR(F17="",G17=""),"",IFERROR((G17-F17)*24,0)) | N17: =IF(A17="","",IF(L17="Present","Completed",IF(L17="Unconfirmed","Action Required","Review")))
C18: =IF(B18="","",B18) | I18: =IF(H18="","",IFERROR(VLOOKUP(H18,'Members'!$A$3:$G$102,2,FALSE),"")) | K18: =IF(H18="","",IFERROR(VLOOKUP(H18,'Members'!$A$3:$G$102,5,FALSE),"")) | M18: =IF(OR(F18="",G18=""),"",IFERROR((G18-F18)*24,0)) | N18: =IF(A18="","",IF(L18="Present","Completed",IF(L18="Unconfirmed","Action Required","Review")))
C19: =IF(B19="","",B19) | I19: =IF(H19="","",IFERROR(VLOOKUP(H19,'Members'!$A$3:$G$102,2,FALSE),"")) | K19: =IF(H19="","",IFERROR(VLOOKUP(H19,'Members'!$A$3:$G$102,5,FALSE),"")) | M19: =IF(OR(F19="",G19=""),"",IFERROR((G19-F19)*24,0)) | N19: =IF(A19="","",IF(L19="Present","Completed",IF(L19="Unconfirmed","Action Required","Review")))
C20: =IF(B20="","",B20) | I20: =IF(H20="","",IFERROR(VLOOKUP(H20,'Members'!$A$3:$G$102,2,FALSE),"")) | K20: =IF(H20="","",IFERROR(VLOOKUP(H20,'Members'!$A$3:$G$102,5,FALSE),"")) | M20: =IF(OR(F20="",G20=""),"",IFERROR((G20-F20)*24,0)) | N20: =IF(A20="","",IF(L20="Present","Completed",IF(L20="Unconfirmed","Action Required","Review")))
C21: =IF(B21="","",B21) | I21: =IF(H21="","",IFERROR(VLOOKUP(H21,'Members'!$A$3:$G$102,2,FALSE),"")) | K21: =IF(H21="","",IFERROR(VLOOKUP(H21,'Members'!$A$3:$G$102,5,FALSE),"")) | M21: =IF(OR(F21="",G21=""),"",IFERROR((G21-F21)*24,0)) | N21: =IF(A21="","",IF(L21="Present","Completed",IF(L21="Unconfirmed","Action Required","Review")))
C22: =IF(B22="","",B22) | I22: =IF(H22="","",IFERROR(VLOOKUP(H22,'Members'!$A$3:$G$102,2,FALSE),"")) | K22: =IF(H22="","",IFERROR(VLOOKUP(H22,'Members'!$A$3:$G$102,5,FALSE),"")) | M22: =IF(OR(F22="",G22=""),"",IFERROR((G22-F22)*24,0)) | N22: =IF(A22="","",IF(L22="Present","Completed",IF(L22="Unconfirmed","Action Required","Review")))
C23: =IF(B23="","",B23) | I23: =IF(H23="","",IFERROR(VLOOKUP(H23,'Members'!$A$3:$G$102,2,FALSE),"")) | K23: =IF(H23="","",IFERROR(VLOOKUP(H23,'Members'!$A$3:$G$102,5,FALSE),"")) | M23: =IF(OR(F23="",G23=""),"",IFERROR((G23-F23)*24,0)) | N23: =IF(A23="","",IF(L23="Present","Completed",IF(L23="Unconfirmed","Action Required","Review")))
C24: =IF(B24="","",B24) | I24: =IF(H24="","",IFERROR(VLOOKUP(H24,'Members'!$A$3:$G$102,2,FALSE),"")) | K24: =IF(H24="","",IFERROR(VLOOKUP(H24,'Members'!$A$3:$G$102,5,FALSE),"")) | M24: =IF(OR(F24="",G24=""),"",IFERROR((G24-F24)*24,0)) | N24: =IF(A24="","",IF(L24="Present","Completed",IF(L24="Unconfirmed","Action Required","Review")))
... C102: =IF(B102="","",B102) | I102: =IF(H102="","",IFERROR(VLOOKUP(H102,'Members'!$A$3:$G$102,2,FALSE),"")) | K102: =IF(H102="","",IFERROR(VLOOKUP(H102,'Members'!$A$3:$G$102,5,FALSE),"")) | M102: =IF(OR(F102="",G102=""),"",IFERROR((G102-F102)*24,0)) | N102: =IF(A102="","",IF(L102="Present","Completed",IF(L102="Unconfirmed","Action Required","Review")))

Sheet Members
A1: Surf Club Member Directory
A2: Member ID | B2: Member Name | C2: Mobile | D2: Email | E2: Primary Qualification | F2: Emergency Contact | G2: Emergency Contact Phone | H2: Active Member? | I2: Annual Patrol Target | J2: Completed Patrols | K2: Completion %
A3: SLS-26001 | B3: Jack Thompson | C3: 0412 345 678 | D3: jack.thompson@surflifesaving.com.au | E3: Silver Medallion | F3: Sarah Thompson | G3: 0418 221 490 | H3: Yes | I3: 12 | J3: =IF(A3="","",COUNTIF('Roster'!$H$3:$H$102,A3)) | K3: =IF(A3="","",IF(I3=0,0,J3/I3))
A4: SLS-26002 | B4: Olivia Martin | C4: 0423 456 789 | D4: olivia.martin@surflifesaving.com.au | E4: First Aid | F4: Mark Martin | G4: 0431 555 612 | H4: Yes | I4: 10 | J4: =IF(A4="","",COUNTIF('Roster'!$H$3:$H$102,A4)) | K4: =IF(A4="","",IF(I4=0,0,J4/I4))
A5: SLS-26003 | B5: Liam Wilson | C5: 0434 567 890 | D5: liam.wilson@surflifesaving.com.au | E5: IRB Crew | F5: Grace Wilson | G5: 0409 672 311 | H5: Yes | I5: 10 | J5: =IF(A5="","",COUNTIF('Roster'!$H$3:$H$102,A5)) | K5: =IF(A5="","",IF(I5=0,0,J5/I5))
A6: SLS-26004 | B6: Charlotte Brown | C6: 0445 678 901 | D6: charlotte.brown@surflifesaving.com.au | E6: Bronze Medallion | F6: James Brown | G6: 0422 189 764 | H6: Yes | I6: 12 | J6: =IF(A6="","",COUNTIF('Roster'!$H$3:$H$102,A6)) | K6: =IF(A6="","",IF(I6=0,0,J6/I6))
A7: SLS-26005 | B7: Noah Taylor | C7: 0456 789 012 | D7: noah.taylor@surflifesaving.com.au | E7: CPR | F7: Sophie Taylor | G7: 0417 394 227 | H7: Yes | I7: 8 | J7: =IF(A7="","",COUNTIF('Roster'!$H$3:$H$102,A7)) | K7: =IF(A7="","",IF(I7=0,0,J7/I7))
A8: SLS-26006 | B8: Mia Anderson | C8: 0467 890 123 | D8: mia.anderson@surflifesaving.com.au | E8: Surf Rescue Technician | F8: Luke Anderson | G8: 0438 521 846 | H8: Yes | I8: 10 | J8: =IF(A8="","",COUNTIF('Roster'!$H$3:$H$102,A8)) | K8: =IF(A8="","",IF(I8=0,0,J8/I8))
A9: SLS-26007 | B9: Ethan Harris | C9: 0478 901 234 | D9: ethan.harris@surflifesaving.com.au | E9: IRB Crew | F9: Emily Harris | G9: 0402 713 508 | H9: Yes | I9: 10 | J9: =IF(A9="","",COUNTIF('Roster'!$H$3:$H$102,A9)) | K9: =IF(A9="","",IF(I9=0,0,J9/I9))
A10: SLS-26008 | B10: Ruby Campbell | C10: 0489 012 345 | D10: ruby.campbell@surflifesaving.com.au | E10: Radio Operator | F10: Daniel Campbell | G10: 0411 856 943 | H10: Yes | I10: 8 | J10: =IF(A10="","",COUNTIF('Roster'!$H$3:$H$102,A10)) | K10: =IF(A10="","",IF(I10=0,0,J10/I10))
A11: SLS-26009 | B11: Cooper Mitchell | C11: 0401 123 456 | D11: cooper.mitchell@surflifesaving.com.au | E11: Bronze Medallion | F11: Ava Mitchell | G11: 0426 980 175 | H11: Yes | I11: 12 | J11: =IF(A11="","",COUNTIF('Roster'!$H$3:$H$102,A11)) | K11: =IF(A11="","",IF(I11=0,0,J11/I11))
A12: SLS-26010 | B12: Isla Walker | C12: 0408 234 567 | D12: isla.walker@surflifesaving.com.au | E12: First Aid | F12: Henry Walker | G12: 0435 418 620 | H12: Yes | I12: 10 | J12: =IF(A12="","",COUNTIF('Roster'!$H$3:$H$102,A12)) | K12: =IF(A12="","",IF(I12=0,0,J12/I12))
J13: =IF(A13="","",COUNTIF('Roster'!$H$3:$H$102,A13)) | K13: =IF(A13="","",IF(I13=0,0,J13/I13))
J14: =IF(A14="","",COUNTIF('Roster'!$H$3:$H$102,A14)) | K14: =IF(A14="","",IF(I14=0,0,J14/I14))
J15: =IF(A15="","",COUNTIF('Roster'!$H$3:$H$102,A15)) | K15: =IF(A15="","",IF(I15=0,0,J15/I15))
J16: =IF(A16="","",COUNTIF('Roster'!$H$3:$H$102,A16)) | K16: =IF(A16="","",IF(I16=0,0,J16/I16))
J17: =IF(A17="","",COUNTIF('Roster'!$H$3:$H$102,A17)) | K17: =IF(A17="","",IF(I17=0,0,J17/I17))
J18: =IF(A18="","",COUNTIF('Roster'!$H$3:$H$102,A18)) | K18: =IF(A18="","",IF(I18=0,0,J18/I18))
J19: =IF(A19="","",COUNTIF('Roster'!$H$3:$H$102,A19)) | K19: =IF(A19="","",IF(I19=0,0,J19/I19))
J20: =IF(A20="","",COUNTIF('Roster'!$H$3:$H$102,A20)) | K20: =IF(A20="","",IF(I20=0,0,J20/I20))
J21: =IF(A21="","",COUNTIF('Roster'!$H$3:$H$102,A21)) | K21: =IF(A21="","",IF(I21=0,0,J21/I21))
J22: =IF(A22="","",COUNTIF('Roster'!$H$3:$H$102,A22)) | K22: =IF(A22="","",IF(I22=0,0,J22/I22))
J23: =IF(A23="","",COUNTIF('Roster'!$H$3:$H$102,A23)) | K23: =IF(A23="","",IF(I23=0,0,J23/I23))
J24: =IF(A24="","",COUNTIF('Roster'!$H$3:$H$102,A24)) | K24: =IF(A24="","",IF(I24=0,0,J24/I24))
... J102: =IF(A102="","",COUNTIF('Roster'!$H$3:$H$102,A102)) | K102: =IF(A102="","",IF(I102=0,0,J102/I102))

Sheet Dashboard
A1: Surf Club Patrol Dashboard
A3: Key patrol indicators
A4: Total rostered shifts | B4: =COUNTA('Roster'!$A$3:$A$102)
A5: Total rostered hours | B5: =SUM('Roster'!$M$3:$M$102)
A6: Average shift length | B6: =IFERROR(AVERAGE('Roster'!$M$3:$M$102),0)
A7: Present attendance rate | B7: =IFERROR(COUNTIF('Roster'!$L$3:$L$102,"Present")/COUNTA('Roster'!$L$3:$L$102),0)
A8: Unconfirmed shifts | B8: =COUNTIF('Roster'!$L$3:$L$102,"Unconfirmed")
A9: Coverage status | B9: =IF(B8=0,"Coverage Complete","Follow Up Required")
A11: Attendance status | B11: Rostered shifts | D11: Location summary
A12: Present | B12: =COUNTIF('Roster'!$L$3:$L$102,A12) | D12: Location / Beach | E12: Rostered shifts
A13: Absent | B13: =COUNTIF('Roster'!$L$3:$L$102,A13) | D13: =IF('Roster'!$D$3="","",'Roster'!$D$3) | E13: =IF(D13="","",COUNTIF('Roster'!$D$3:$D$102,D13))
A14: Late | B14: =COUNTIF('Roster'!$L$3:$L$102,A14) | D14: =IF('Roster'!$D$4="","",IF(COUNTIF($D$13:D13,'Roster'!$D$4)=0,'Roster'!$D$4,"")) | E14: =IF(D14="","",COUNTIF('Roster'!$D$3:$D$102,D14))
A15: Excused | B15: =COUNTIF('Roster'!$L$3:$L$102,A15) | D15: =IF('Roster'!$D$5="","",IF(COUNTIF($D$13:D14,'Roster'!$D$5)=0,'Roster'!$D$5,"")) | E15: =IF(D15="","",COUNTIF('Roster'!$D$3:$D$102,D15))
A16: Unconfirmed | B16: =COUNTIF('Roster'!$L$3:$L$102,A16) | D16: =IF('Roster'!$D$6="","",IF(COUNTIF($D$13:D15,'Roster'!$D$6)=0,'Roster'!$D$6,"")) | E16: =IF(D16="","",COUNTIF('Roster'!$D$3:$D$102,D16))
D17: =IF('Roster'!$D$7="","",IF(COUNTIF($D$13:D16,'Roster'!$D$7)=0,'Roster'!$D$7,"")) | E17: =IF(D17="","",COUNTIF('Roster'!$D$3:$D$102,D17))
D18: =IF('Roster'!$D$8="","",IF(COUNTIF($D$13:D17,'Roster'!$D$8)=0,'Roster'!$D$8,"")) | E18: =IF(D18="","",COUNTIF('Roster'!$D$3:$D$102,D18))
D19: =IF('Roster'!$D$9="","",IF(COUNTIF($D$13:D18,'Roster'!$D$9)=0,'Roster'!$D$9,"")) | E19: =IF(D19="","",COUNTIF('Roster'!$D$3:$D$102,D19))
D20: =IF('Roster'!$D$10="","",IF(COUNTIF($D$13:D19,'Roster'!$D$10)=0,'Roster'!$D$10,"")) | E20: =IF(D20="","",COUNTIF('Roster'!$D$3:$D$102,D20))
D21: =IF('Roster'!$D$11="","",IF(COUNTIF($D$13:D20,'Roster'!$D$11)=0,'Roster'!$D$11,"")) | E21: =IF(D21="","",COUNTIF('Roster'!$D$3:$D$102,D21))
D22: =IF('Roster'!$D$12="","",IF(COUNTIF($D$13:D21,'Roster'!$D$12)=0,'Roster'!$D$12,"")) | E22: =IF(D22="","",COUNTIF('Roster'!$D$3:$D$102,D22))
D23: =IF('Roster'!$D$13="","",IF(COUNTIF($D$13:D22,'Roster'!$D$13)=0,'Roster'!$D$13,"")) | E23: =IF(D23="","",COUNTIF('Roster'!$D$3:$D$102,D23))
D24: =IF('Roster'!$D$14="","",IF(COUNTIF($D$13:D23,'Roster'!$D$14)=0,'Roster'!$D$14,"")) | E24: =IF(D24="","",COUNTIF('Roster'!$D$3:$D$102,D24))
D25: =IF('Roster'!$D$15="","",IF(COUNTIF($D$13:D24,'Roster'!$D$15)=0,'Roster'!$D$15,"")) | E25: =IF(D25="","",COUNTIF('Roster'!$D$3:$D$102,D25))
D26: =IF('Roster'!$D$16="","",IF(COUNTIF($D$13:D25,'Roster'!$D$16)=0,'Roster'!$D$16,"")) | E26: =IF(D26="","",COUNTIF('Roster'!$D$3:$D$102,D26))
D27: =IF('Roster'!$D$17="","",IF(COUNTIF($D$13:D26,'Roster'!$D$17)=0,'Roster'!$D$17,"")) | E27: =IF(D27="","",COUNTIF('Roster'!$D$3:$D$102,D27))
D28: =IF('Roster'!$D$18="","",IF(COUNTIF($D$13:D27,'Roster'!$D$18)=0,'Roster'!$D$18,"")) | E28: =IF(D28="","",COUNTIF('Roster'!$D$3:$D$102,D28))
D29: =IF('Roster'!$D$19="","",IF(COUNTIF($D$13:D28,'Roster'!$D$19)=0,'Roster'!$D$19,"")) | E29: =IF(D29="","",COUNTIF('Roster'!$D$3:$D$102,D29))
D30: =IF('Roster'!$D$20="","",IF(COUNTIF($D$13:D29,'Roster'!$D$20)=0,'Roster'!$D$20,"")) | E30: =IF(D30="","",COUNTIF('Roster'!$D$3:$D$102,D30))
D31: =IF('Roster'!$D$21="","",IF(COUNTIF($D$13:D30,'Roster'!$D$21)=0,'Roster'!$D$21,"")) | E31: =IF(D31="","",COUNTIF('Roster'!$D$3:$D$102,D31))
D32: =IF('Roster'!$D$22="","",IF(COUNTIF($D$13:D31,'Roster'!$D$22)=0,'Roster'!$D$22,"")) | E32: =IF(D32="","",COUNTIF('Roster'!$D$3:$D$102,D32))
D33: =IF('Roster'!$D$23="","",IF(COUNTIF($D$13:D32,'Roster'!$D$23)=0,'Roster'!$D$23,"")) | E33: =IF(D33="","",COUNTIF('Roster'!$D$3:$D$102,D33))
D34: =IF('Roster'!$D$24="","",IF(COUNTIF($D$13:D33,'Roster'!$D$24)=0,'Roster'!$D$24,"")) | E34: =IF(D34="","",COUNTIF('Roster'!$D$3:$D$102,D34))
D35: =IF('Roster'!$D$25="","",IF(COUNTIF($D$13:D34,'Roster'!$D$25)=0,'Roster'!$D$25,"")) | E35: =IF(D35="","",COUNTIF('Roster'!$D$3:$D$102,D35))
D36: =IF('Roster'!$D$26="","",IF(COUNTIF($D$13:D35,'Roster'!$D$26)=0,'Roster'!$D$26,"")) | E36: =IF(D36="","",COUNTIF('Roster'!$D$3:$D$102,D36))
D37: =IF('Roster'!$D$27="","",IF(COUNTIF($D$13:D36,'Roster'!$D$27)=0,'Roster'!$D$27,"")) | E37: =IF(D37="","",COUNTIF('Roster'!$D$3:$D$102,D37))
D38: =IF('Roster'!$D$28="","",IF(COUNTIF($D$13:D37,'Roster'!$D$28)=0,'Roster'!$D$28,"")) | E38: =IF(D38="","",COUNTIF('Roster'!$D$3:$D$102,D38))
D39: =IF('Roster'!$D$29="","",IF(COUNTIF($D$13:D38,'Roster'!$D$29)=0,'Roster'!$D$29,"")) | E39: =IF(D39="","",COUNTIF('Roster'!$D$3:$D$102,D39))
D40: =IF('Roster'!$D$30="","",IF(COUNTIF($D$13:D39,'Roster'!$D$30)=0,'Roster'!$D$30,"")) | E40: =IF(D40="","",COUNTIF('Roster'!$D$3:$D$102,D40))
D41: =IF('Roster'!$D$31="","",IF(COUNTIF($D$13:D40,'Roster'!$D$31)=0,'Roster'!$D$31,"")) | E41: =IF(D41="","",COUNTIF('Roster'!$D$3:$D$102,D41))
D42: =IF('Roster'!$D$32="","",IF(COUNTIF($D$13:D41,'Roster'!$D$32)=0,'Roster'!$D$32,"")) | E42: =IF(D42="","",COUNTIF('Roster'!$D$3:$D$102,D42))
D43: =IF('Roster'!$D$33="","",IF(COUNTIF($D$13:D42,'Roster'!$D$33)=0,'Roster'!$D$33,"")) | E43: =IF(D43="","",COUNTIF('Roster'!$D$3:$D$102,D43))
D44: =IF('Roster'!$D$34="","",IF(COUNTIF($D$13:D43,'Roster'!$D$34)=0,'Roster'!$D$34,"")) | E44: =IF(D44="","",COUNTIF('Roster'!$D$3:$D$102,D44))
D45: =IF('Roster'!$D$35="","",IF(COUNTIF($D$13:D44,'Roster'!$D$35)=0,'Roster'!$D$35,"")) | E45: =IF(D45="","",COUNTIF('Roster'!$D$3:$D$102,D45))
D46: =IF('Roster'!$D$36="","",IF(COUNTIF($D$13:D45,'Roster'!$D$36)=0,'Roster'!$D$36,"")) | E46: =IF(D46="","",COUNTIF('Roster'!$D$3:$D$102,D46))
D47: =IF('Roster'!$D$37="","",IF(COUNTIF($D$13:D46,'Roster'!$D$37)=0,'Roster'!$D$37,"")) | E47: =IF(D47="","",COUNTIF('Roster'!$D$3:$D$102,D47))
D48: =IF('Roster'!$D$38="","",IF(COUNTIF($D$13:D47,'Roster'!$D$38)=0,'Roster'!$D$38,"")) | E48: =IF(D48="","",COUNTIF('Roster'!$D$3:$D$102,D48))
D49: =IF('Roster'!$D$39="","",IF(COUNTIF($D$13:D48,'Roster'!$D$39)=0,'Roster'!$D$39,"")) | E49: =IF(D49="","",COUNTIF('Roster'!$D$3:$D$102,D49))
D50: =IF('Roster'!$D$40="","",IF(COUNTIF($D$13:D49,'Roster'!$D$40)=0,'Roster'!$D$40,"")) | E50: =IF(D50="","",COUNTIF('Roster'!$D$3:$D$102,D50))
D51: =IF('Roster'!$D$41="","",IF(COUNTIF($D$13:D50,'Roster'!$D$41)=0,'Roster'!$D$41,"")) | E51: =IF(D51="","",COUNTIF('Roster'!$D$3:$D$102,D51))
D52: =IF('Roster'!$D$42="","",IF(COUNTIF($D$13:D51,'Roster'!$D$42)=0,'Roster'!$D$42,"")) | E52: =IF(D52="","",COUNTIF('Roster'!$D$3:$D$102,D52))
D53: =IF('Roster'!$D$43="","",IF(COUNTIF($D$13:D52,'Roster'!$D$43)=0,'Roster'!$D$43,"")) | E53: =IF(D53="","",COUNTIF('Roster'!$D$3:$D$102,D53))
D54: =IF('Roster'!$D$44="","",IF(COUNTIF($D$13:D53,'Roster'!$D$44)=0,'Roster'!$D$44,"")) | E54: =IF(D54="","",COUNTIF('Roster'!$D$3:$D$102,D54))
D55: =IF('Roster'!$D$45="","",IF(COUNTIF($D$13:D54,'Roster'!$D$45)=0,'Roster'!$D$45,"")) | E55: =IF(D55="","",COUNTIF('Roster'!$D$3:$D$102,D55))
D56: =IF('Roster'!$D$46="","",IF(COUNTIF($D$13:D55,'Roster'!$D$46)=0,'Roster'!$D$46,"")) | E56: =IF(D56="","",COUNTIF('Roster'!$D$3:$D$102,D56))
D57: =IF('Roster'!$D$47="","",IF(COUNTIF($D$13:D56,'Roster'!$D$47)=0,'Roster'!$D$47,"")) | E57: =IF(D57="","",COUNTIF('Roster'!$D$3:$D$102,D57))
D58: =IF('Roster'!$D$48="","",IF(COUNTIF($D$13:D57,'Roster'!$D$48)=0,'Roster'!$D$48,"")) | E58: =IF(D58="","",COUNTIF('Roster'!$D$3:$D$102,D58))
D59: =IF('Roster'!$D$49="","",IF(COUNTIF($D$13:D58,'Roster'!$D$49)=0,'Roster'!$D$49,"")) | E59: =IF(D59="","",COUNTIF('Roster'!$D$3:$D$102,D59))
D60: =IF('Roster'!$D$50="","",IF(COUNTIF($D$13:D59,'Roster'!$D$50)=0,'Roster'!$D$50,"")) | E60: =IF(D60="","",COUNTIF('Roster'!$D$3:$D$102,D60))
D61: =IF('Roster'!$D$51="","",IF(COUNTIF($D$13:D60,'Roster'!$D$51)=0,'Roster'!$D$51,"")) | E61: =IF(D61="","",COUNTIF('Roster'!$D$3:$D$102,D61))
D62: =IF('Roster'!$D$52="","",IF(COUNTIF($D$13:D61,'Roster'!$D$52)=0,'Roster'!$D$52,"")) | E62: =IF(D62="","",COUNTIF('Roster'!$D$3:$D$102,D62))
D63: =IF('Roster'!$D$53="","",IF(COUNTIF($D$13:D62,'Roster'!$D$53)=0,'Roster'!$D$53,"")) | E63: =IF(D63="","",COUNTIF('Roster'!$D$3:$D$102,D63))
D64: =IF('Roster'!$D$54="","",IF(COUNTIF($D$13:D63,'Roster'!$D$54)=0,'Roster'!$D$54,"")) | E64: =IF(D64="","",COUNTIF('Roster'!$D$3:$D$102,D64))
D65: =IF('Roster'!$D$55="","",IF(COUNTIF($D$13:D64,'Roster'!$D$55)=0,'Roster'!$D$55,"")) | E65: =IF(D65="","",COUNTIF('Roster'!$D$3:$D$102,D65))
D66: =IF('Roster'!$D$56="","",IF(COUNTIF($D$13:D65,'Roster'!$D$56)=0,'Roster'!$D$56,"")) | E66: =IF(D66="","",COUNTIF('Roster'!$D$3:$D$102,D66))
D67: =IF('Roster'!$D$57="","",IF(COUNTIF($D$13:D66,'Roster'!$D$57)=0,'Roster'!$D$57,"")) | E67: =IF(D67="","",COUNTIF('Roster'!$D$3:$D$102,D67))
D68: =IF('Roster'!$D$58="","",IF(COUNTIF($D$13:D67,'Roster'!$D$58)=0,'Roster'!$D$58,"")) | E68: =IF(D68="","",COUNTIF('Roster'!$D$3:$D$102,D68))
D69: =IF('Roster'!$D$59="","",IF(COUNTIF($D$13:D68,'Roster'!$D$59)=0,'Roster'!$D$59,"")) | E69: =IF(D69="","",COUNTIF('Roster'!$D$3:$D$102,D69))
D70: =IF('Roster'!$D$60="","",IF(COUNTIF($D$13:D69,'Roster'!$D$60)=0,'Roster'!$D$60,"")) | E70: =IF(D70="","",COUNTIF('Roster'!$D$3:$D$102,D70))
D71: =IF('Roster'!$D$61="","",IF(COUNTIF($D$13:D70,'Roster'!$D$61)=0,'Roster'!$D$61,"")) | E71: =IF(D71="","",COUNTIF('Roster'!$D$3:$D$102,D71))
D72: =IF('Roster'!$D$62="","",IF(COUNTIF($D$13:D71,'Roster'!$D$62)=0,'Roster'!$D$62,"")) | E72: =IF(D72="","",COUNTIF('Roster'!$D$3:$D$102,D72))
D73: =IF('Roster'!$D$63="","",IF(COUNTIF($D$13:D72,'Roster'!$D$63)=0,'Roster'!$D$63,"")) | E73: =IF(D73="","",COUNTIF('Roster'!$D$3:$D$102,D73))
D74: =IF('Roster'!$D$64="","",IF(COUNTIF($D$13:D73,'Roster'!$D$64)=0,'Roster'!$D$64,"")) | E74: =IF(D74="","",COUNTIF('Roster'!$D$3:$D$102,D74))
D75: =IF('Roster'!$D$65="","",IF(COUNTIF($D$13:D74,'Roster'!$D$65)=0,'Roster'!$D$65,"")) | E75: =IF(D75="","",COUNTIF('Roster'!$D$3:$D$102,D75))
D76: =IF('Roster'!$D$66="","",IF(COUNTIF($D$13:D75,'Roster'!$D$66)=0,'Roster'!$D$66,"")) | E76: =IF(D76="","",COUNTIF('Roster'!$D$3:$D$102,D76))
D77: =IF('Roster'!$D$67="","",IF(COUNTIF($D$13:D76,'Roster'!$D$67)=0,'Roster'!$D$67,"")) | E77: =IF(D77="","",COUNTIF('Roster'!$D$3:$D$102,D77))
D78: =IF('Roster'!$D$68="","",IF(COUNTIF($D$13:D77,'Roster'!$D$68)=0,'Roster'!$D$68,"")) | E78: =IF(D78="","",COUNTIF('Roster'!$D$3:$D$102,D78))
D79: =IF('Roster'!$D$69="","",IF(COUNTIF($D$13:D78,'Roster'!$D$69)=0,'Roster'!$D$69,"")) | E79: =IF(D79="","",COUNTIF('Roster'!$D$3:$D$102,D79))
D80: =IF('Roster'!$D$70="","",IF(COUNTIF($D$13:D79,'Roster'!$D$70)=0,'Roster'!$D$70,"")) | E80: =IF(D80="","",COUNTIF('Roster'!$D$3:$D$102,D80))
D81: =IF('Roster'!$D$71="","",IF(COUNTIF($D$13:D80,'Roster'!$D$71)=0,'Roster'!$D$71,"")) | E81: =IF(D81="","",COUNTIF('Roster'!$D$3:$D$102,D81))
D82: =IF('Roster'!$D$72="","",IF(COUNTIF($D$13:D81,'Roster'!$D$72)=0,'Roster'!$D$72,"")) | E82: =IF(D82="","",COUNTIF('Roster'!$D$3:$D$102,D82))
D83: =IF('Roster'!$D$73="","",IF(COUNTIF($D$13:D82,'Roster'!$D$73)=0,'Roster'!$D$73,"")) | E83: =IF(D83="","",COUNTIF('Roster'!$D$3:$D$102,D83))
D84: =IF('Roster'!$D$74="","",IF(COUNTIF($D$13:D83,'Roster'!$D$74)=0,'Roster'!$D$74,"")) | E84: =IF(D84="","",COUNTIF('Roster'!$D$3:$D$102,D84))
D85: =IF('Roster'!$D$75="","",IF(COUNTIF($D$13:D84,'Roster'!$D$75)=0,'Roster'!$D$75,"")) | E85: =IF(D85="","",COUNTIF('Roster'!$D$3:$D$102,D85))
D86: =IF('Roster'!$D$76="","",IF(COUNTIF($D$13:D85,'Roster'!$D$76)=0,'Roster'!$D$76,"")) | E86: =IF(D86="","",COUNTIF('Roster'!$D$3:$D$102,D86))
D87: =IF('Roster'!$D$77="","",IF(COUNTIF($D$13:D86,'Roster'!$D$77)=0,'Roster'!$D$77,"")) | E87: =IF(D87="","",COUNTIF('Roster'!$D$3:$D$102,D87))
D88: =IF('Roster'!$D$78="","",IF(COUNTIF($D$13:D87,'Roster'!$D$78)=0,'Roster'!$D$78,"")) | E88: =IF(D88="","",COUNTIF('Roster'!$D$3:$D$102,D88))
D89: =IF('Roster'!$D$79="","",IF(COUNTIF($D$13:D88,'Roster'!$D$79)=0,'Roster'!$D$79,"")) | E89: =IF(D89="","",COUNTIF('Roster'!$D$3:$D$102,D89))
D90: =IF('Roster'!$D$80="","",IF(COUNTIF($D$13:D89,'Roster'!$D$80)=0,'Roster'!$D$80,"")) | E90: =IF(D90="","",COUNTIF('Roster'!$D$3:$D$102,D90))
D91: =IF('Roster'!$D$81="","",IF(COUNTIF($D$13:D90,'Roster'!$D$81)=0,'Roster'!$D$81,"")) | E91: =IF(D91="","",COUNTIF('Roster'!$D$3:$D$102,D91))
D92: =IF('Roster'!$D$82="","",IF(COUNTIF($D$13:D91,'Roster'!$D$82)=0,'Roster'!$D$82,"")) | E92: =IF(D92="","",COUNTIF('Roster'!$D$3:$D$102,D92))
D93: =IF('Roster'!$D$83="","",IF(COUNTIF($D$13:D92,'Roster'!$D$83)=0,'Roster'!$D$83,"")) | E93: =IF(D93="","",COUNTIF('Roster'!$D$3:$D$102,D93))
D94: =IF('Roster'!$D$84="","",IF(COUNTIF($D$13:D93,'Roster'!$D$84)=0,'Roster'!$D$84,"")) | E94: =IF(D94="","",COUNTIF('Roster'!$D$3:$D$102,D94))
D95: =IF('Roster'!$D$85="","",IF(COUNTIF($D$13:D94,'Roster'!$D$85)=0,'Roster'!$D$85,"")) | E95: =IF(D95="","",COUNTIF('Roster'!$D$3:$D$102,D95))
D96: =IF('Roster'!$D$86="","",IF(COUNTIF($D$13:D95,'Roster'!$D$86)=0,'Roster'!$D$86,"")) | E96: =IF(D96="","",COUNTIF('Roster'!$D$3:$D$102,D96))
D97: =IF('Roster'!$D$87="","",IF(COUNTIF($D$13:D96,'Roster'!$D$87)=0,'Roster'!$D$87,"")) | E97: =IF(D97="","",COUNTIF('Roster'!$D$3:$D$102,D97))
D98: =IF('Roster'!$D$88="","",IF(COUNTIF($D$13:D97,'Roster'!$D$88)=0,'Roster'!$D$88,"")) | E98: =IF(D98="","",COUNTIF('Roster'!$D$3:$D$102,D98))
D99: =IF('Roster'!$D$89="","",IF(COUNTIF($D$13:D98,'Roster'!$D$89)=0,'Roster'!$D$89,"")) | E99: =IF(D99="","",COUNTIF('Roster'!$D$3:$D$102,D99))
D100: =IF('Roster'!$D$90="","",IF(COUNTIF($D$13:D99,'Roster'!$D$90)=0,'Roster'!$D$90,"")) | E100: =IF(D100="","",COUNTIF('Roster'!$D$3:$D$102,D100))
D101: =IF('Roster'!$D$91="","",IF(COUNTIF($D$13:D100,'Roster'!$D$91)=0,'Roster'!$D$91,"")) | E101: =IF(D101="","",COUNTIF('Roster'!$D$3:$D$102,D101))
D102: =IF('Roster'!$D$92="","",IF(COUNTIF($D$13:D101,'Roster'!$D$92)=0,'Roster'!$D$92,"")) | E102: =IF(D102="","",COUNTIF('Roster'!$D$3:$D$102,D102))
...

Sheet Instructions
A1: Surf Club Roster Workbook Instructions
A3: Topic | B3: Guidance | C3: Operational notes
A4: Adding members | B4: Add each new lifesaver on the Members sheet using a unique Member ID. Enter current contact details, primary qualification, emergency contact details, active status and annual patrol target. | C4: Keep qualification and emergency contact records current. Deactivate former members rather than reusing an existing Member ID.
A5: Assigning patrols | B5: Enter the roster ID, patrol date, beach, shift times, Member ID, role, attendance and notes on the Roster sheet. Member Name and Qualification fill automatically from the Member ID. | C5: Use clear notes for replacements, equipment checks, special events and follow-up required by the Patrol Captain.
A6: Attendance | B6: Select Present, Absent, Late, Excused or Unconfirmed from the Attendance list. Patrol Status updates automatically for every prepared roster row. | C6: Unconfirmed attendance requires follow-up. Absent or late members should be reviewed with the Patrol Captain and roster coordinator.
A7: Role qualifications | B7: Common roles may require Bronze or Silver Medallion, First Aid, CPR, IRB Crew, Radio Operator or Surf Rescue Technician qualifications. | C7: Confirm that each person holds current awards and is suitable for the assigned patrol role before the shift begins.
A8: Dashboard updates | B8: The Dashboard uses formulas to calculate rostered shifts, patrol hours, attendance rates, unconfirmed shifts and location summaries from the full prepared roster range. | C8: Charts and totals update when roster entries, attendance or patrol hours are changed.
A9: Patrol coordination | B9: Confirm first aid coverage, radio procedures, patrol equipment checks and member attendance before opening the patrol. | C9: Escalate hazards, gaps in coverage, incidents and emergency matters to the Patrol Captain immediately.
A10: Australian operational reminder | B10: This workbook supports local roster administration only and does not replace club operational procedures. | C10: Clubs should verify current Surf Life Saving Australia, relevant state association, Fair Work and local beach safety requirements.
